Workbook

Sheet صورت وضعیت

Sheet سهام
A1: صندوق سرمایه گذاری آوای فردای زاگرس
A2: صورت وضعیت پرتفوی
A3: برای ماه منتهی به 1405/05/31
A4: -1 | B4: سرمایه گذاری ها | AE4: 212013384576848
A5: -1-1 | C5: سرمایه گذاری در سهام و حق تقدم سهام
F6: 1405/04/31 | L6: تغییرات طی دوره | T6: 1405/05/31
L7: خرید طی دوره | P7: فروش طی دوره
A8: نام شرکت | E8: تعداد | H8: بهای تمام شده | J8: خالص ارزش فروش | L8: تعداد | N8: بهای تمام شده | P8: تعداد | R8: مبلغ فروش | T8: تعداد | V8: قیمت بازار هر سهم | X8: بهای تمام شده | Z8: خالص ارزش فروش | AB8: درصد به کل دارایی ها
A9: بانک تجارت | F9: 107463221 | H9: 61363035002 | J9: 5.6301976e+10 | L9: 0 | N9: 0 | P9: 0 | R9: 0 | T9: 107463221 | V9: 850 | X9: 61363035002 | Z9: 9.0637651e+10 | AB9: =Z9/$AE$4 -> 0.0004275091
A10: بانک ملت | F10: 71097005 | H10: 79561386387 | J10: 7.8872021e+10 | L10: 0 | N10: 0 | P10: 0 | R10: 0 | T10: 71097005 | V10: 1369 | X10: 79561386387 | Z10: 9.6579425e+10 | AB10: =Z10/$AE$4 -> 0.00045553457
A11: بورس کالای ایران | F11: 21379311 | H11: 107084514465 | J11: 1.7480376e+11 | L11: 0 | N11: 0 | P11: 0 | R11: 0 | T11: 21379311 | V11: 9220 | X11: 107084514465 | Z11: 1.9559353e+11 | AB11: =Z11/$AE$4 -> 0.00092255275
A12: پالایش نفت اصفهان | F12: 10000000 | H12: 90776076715 | J12: 93471834000 | L12: 0 | N12: 0 | P12: 0 | R12: 0 | T12: 10000000 | V12: 11300 | X12: 90776076715 | Z12: 112126510000 | AB12: =Z12/$AE$4 -> 0.00052886524
A13: پالایش نفت بندرعباس | F13: 20200000 | H13: 157012355739 | J13: 222085902320 | L13: 0 | N13: 0 | P13: 0 | R13: 0 | T13: 20200000 | V13: 12050 | X13: 157012355739 | Z13: 241528440700 | AB13: =Z13/$AE$4 -> 0.0011392132
A14: پالایش نفت تهران | F14: 71000000 | H14: 268455387549 | J14: 335347569200 | L14: 5000000 | N14: 23763136668 | P14: 0 | R14: 0 | T14: 76000000 | V14: 5470 | X14: 292218524217 | Z14: 412506484400 | AB14: =Z14/$AE$4 -> 0.0019456625
A15: پاکدیس | F15: 213760 | H15: 1749613770 | J15: 2.2941562e+09 | L15: 0 | N15: 0 | P15: -213760 | R15: 2765883690 | T15: 0 | V15: 0 | X15: 0 | Z15: 0 | AB15: =Z15/$AE$4 -> 0
A16: تولیدی کوچین | F16: 3933785 | H16: 27071367745 | J16: 5.2344283e+10 | L16: 0 | N16: 0 | P16: -3933785 | R16: 57809011404 | T16: 0 | V16: 0 | X16: 0 | Z16: 0 | AB16: =Z16/$AE$4 -> 0
A17: سرمایه گذاری کشاورزی کوثر | F17: 1400000 | H17: 71491948360 | J17: 70334082140 | L17: 0 | N17: 0 | P17: -1400000 | R17: 105943082329 | T17: 0 | V17: 0 | X17: 0 | Z17: 0 | AB17: =Z17/$AE$4 -> 0
A18: سیمان‌ تهران‌ | F18: 15500000 | H18: 167973754896 | J18: 182716597800 | L18: 0 | N18: 0 | P18: 0 | R18: 0 | T18: 15500000 | V18: 11970 | X18: 167973754896 | Z18: 184100814450 | AB18: =Z18/$AE$4 -> 0.00086834525
A19: سیمان‌ صوفیان‌ | F19: 300000 | H19: 37535888558 | J19: 48938756400 | L19: 0 | N19: 0 | P19: 0 | R19: 0 | T19: 300000 | V19: 161100 | X19: 37535888558 | Z19: 47956409100 | AB19: =Z19/$AE$4 -> 0.0002261952
A20: صنایع پتروشیمی خلیج فارس | F20: 35000000 | H20: 449543836058 | J20: 361186280000 | L20: 8750000 | N20: 0 | P20: 0 | R20: 0 | T20: 43750000 | V20: 9590 | X20: 449543836058 | Z20: 416319281873 | AB20: =Z20/$AE$4 -> 0.0019636462
... A24: کشت‌ و صنعت‌ چین‌ چین | F24: 0 | H24: 0 | J24: 0 | L24: 14808332 | N24: 57906051773 | P24: 0 | R24: 0 | T24: 14808332 | V24: 4040 | X24: 57906051773 | Z24: 5.9363209e+10 | AB24: =Z24/$AE$4 -> 0.00027999746
A25: جمع | F25: =SUM(F9:F24) -> 480236085 | H25: =SUM(H9:H24) -> 1775883654372 | J25: =SUM(J9:J24) -> 1.9232852e+12 | L25: =SUM(L9:L24) -> 28558332 | N25: =SUM(N9:N24) -> 81669188441 | P25: =SUM(P9:P24) -> -7255505 | R25: =SUM(R9:R24) -> 186922857599 | T25: =SUM(T9:T24) -> 501538912 | X25: =SUM(X9:X24) -> 1738445499532 | Z25: =SUM(Z9:Z24) -> 2.1539068e+12 | AB25: =SUM(AB9:AB24) -> 0.010159296

Sheet اوراق مشتقه
A1: صندوق سرمایه گذاری آوای فردای زاگرس
A2: صورت وضعیت پرتفوی
A3: برای ماه منتهی به 1405/05/31
A5: اطلاعات آماری مرتبط با اوراق اختیار فروش تبعی خریداری شده توسط صندوق سرمایه گذاری:
I6: 1405/04/31 | AC6: 1405/05/31
A8: نام سهام | I8: تعداد اوراق تبعی | M8: قیمت اعمال | Q8: تاریخ اعمال | W8: نرخ سود موثر | AC8: تعداد اوراق تبعی | AI8: قیمت اعمال | AM8: تاریخ اعمال | AQ8: نرخ سود موثر
A9: اختیارف ت خگستر-4304-05/06/03 | I9: 154427180 | M9: 4304 | Q9: 1405/06/03 | W9: 0.25390962 | AC9: 130000000 | AI9: 4304 | AM9: 1405/06/03 | AQ9: 0.25390962
A10: اختیارف ت خزامیا-2136-05/06/07 | I10: 290776219 | M10: 2136 | Q10: 1405/06/07 | W10: 0.2509428 | AC10: 290776219 | AI10: 2136 | AM10: 1405/06/07 | AQ10: 0.2509428
A11: اطلاعات آماری مرتبط با موقعیت های اخذ شده در اوراق اختیار معامله توسط صندوق سرمایه گذاری:
C12: 1405/04/31 | Y12: 1405/05/31
A13: نام سهام | C13: نوع اختیار | E13: نوع موقعیت | G13: استراتژی ماخوذه | K13: تعداد اوراق | O13: قیمت اعمال | S13: تاریخ اعمال | Y13: نوع اختیار | AE13: نوع موقعیت | AK13: استراتژی ماخوذه | AO13: تعداد اوراق | AS13: قیمت اعمال | AV13: تاریخ اعمال
A14: اختیارخ ت خگستر-4315-05/06/08 | C14: اختیار خرید | E14: موقعیت فروش | G14: - | K14: 145932569 | O14: 4315 | S14: 1405/06/08 | Y14: اختیار خرید | AE14: موقعیت فروش | AK14: - | AO14: 145932569 | AS14: 4315 | AV14: 1405/06/08
A15: اختیارخ ت خزامیا-2141-05/06/11 | C15: اختیار خرید | E15: موقعیت فروش | G15: - | K15: 290776221 | O15: 2141 | S15: 1405/06/11 | Y15: اختیار خرید | AE15: موقعیت فروش | AK15: - | AO15: 290776221 | AS15: 2141 | AV15: 1405/06/11
A16: اطلاعات آماری مرتبط با قراردادهای آتی توسط صندوق سرمایه گذاری:
C17: 1405/04/31 | O17: 1405/05/31
A18: نام سهام | C18: نوع موقعیت | E18: تعداد اوراق | G18: قیمت اعمال | K18: تاریخ اعمال | O18: نوع موقعیت | U18: تعداد اوراق | AA18: قیمت اعمال | AG18: تاریخ اعمال

Sheet واحدهای صندوق
A1: صندوق سرمایه گذاری آوای فردای زاگرس
A2: صورت وضعیت پرتفوی
A3: برای ماه منتهی به 1405/05/31
A5: -2-1 | B5: سرمایه‌گذاری در واحدهای صندوق های سرمایه گذاری
E6: 1405/04/31 | K6: تغییرات طی دوره | S6: 1405/05/31
K7: خرید/صدور طی دوره | O7: فروش/ابطال طی دوره
A8: صندوق | D8: تعداد واحد | G8: بهای تمام شده | I8: خالص ارزش فروش | K8: تعداد | M8: بهای تمام شده | O8: تعداد | Q8: مبلغ فروش | S8: تعداد | U8: قیمت ابطال / بازار هر واحد | W8: بهای تمام شده | Y8: خالص ارزش فروش | AA8: درصد به کل دارایی ها
A9: صندوق س آرمان آتی- بخشی | D9: 6900000 | G9: 70106907597 | I9: 171848537190 | K9: 0 | M9: 0 | O9: 0 | Q9: 0 | S9: 6900000 | U9: 33174 | W9: 70106907597 | Y9: 228374128620 | AA9: =Y9/سهام!$AE$4 -> 0.0010771684
A10: صندوق س آوای تاراز زاگرس-سهام | D10: 19375024 | G10: 654242977501 | I10: 7.7996479e+11 | K10: 0 | M10: 0 | O10: 0 | Q10: 0 | S10: 19375024 | U10: 49360 | W10: 654242977501 | Y10: 9.5415158e+11 | AA10: =Y10/سهام!$AE$4 -> 0.0045004309
A11: صندوق س. ثروت آفرین پارسیان-س | D11: 400700 | G11: 121564190291 | I11: 166907477825 | K11: 0 | M11: 0 | O11: 0 | Q11: 0 | S11: 400700 | U11: 504590 | W11: 121564190291 | Y11: 2.0172418e+11 | AA11: =Y11/سهام!$AE$4 -> 0.00095146907
A12: صندوق س.امتیاز اول-س | D12: 5000000 | G12: 50112250000 | I12: 63852800000 | K12: 0 | M12: 0 | O12: 0 | Q12: 0 | S12: 5000000 | U12: 16000 | W12: 50112250000 | Y12: 79816000000 | AA12: =Y12/سهام!$AE$4 -> 0.0003764668
A13: صندوق س.بخشی زمرد نو ویرا1-ب | D13: 18000000 | G13: 200321470650 | I13: 207421830000 | K13: 0 | M13: 0 | O13: 0 | Q13: 0 | S13: 18000000 | U13: 13440 | W13: 200321470650 | Y13: 241363584000 | AA13: =Y13/سهام!$AE$4 -> 0.0011384356
A14: صندوق س.بخشی شایسته فردا-ب | D14: 1310000 | G14: 19921982723 | I14: 26354085868 | K14: 0 | M14: 0 | O14: 0 | Q14: 0 | S14: 1310000 | U14: 25953 | W14: 19921982723 | Y14: 33920233611 | AA14: =Y14/سهام!$AE$4 -> 0.000159991
A15: صندوق س.بخشی صنایع سورنا2-ب | D15: 6775714 | G15: 150002195045 | I15: 1.6723885e+11 | K15: 0 | M15: 0 | O15: 0 | Q15: 0 | S15: 6775714 | U15: 28950 | W15: 150002195045 | Y15: 1.9570576e+11 | AA15: =Y15/سهام!$AE$4 -> 0.0009230821
A16: صندوق س.پشتوانه سکه طلا کهربا | D16: 7882000 | G16: 1501744533110 | I16: 1.4131291e+12 | K16: 0 | M16: 0 | O16: 0 | Q16: 0 | S16: 7882000 | U16: 202402 | W16: 1501744533110 | Y16: 1.5934182e+12 | AA16: =Y16/سهام!$AE$4 -> 0.0075156489
A17: صندوق س.پشتوانه طلا دنای زاگرس | D17: 7758177 | G17: 466251675465 | I17: 5.3722121e+11 | K17: 109698778 | M17: 7741994871679 | O17: -75461033 | Q17: 5148658272966 | S17: 41995922 | U17: 78287 | W17: 3118582433239 | Y17: 3.2837895e+12 | AA17: =Y17/سهام!$AE$4 -> 0.015488595
A18: صندوق س.پشتوانه طلازروان ویستا | D18: 45219000 | G18: 1902176846467 | I18: 1694129292372 | K18: 0 | M18: 0 | O18: 0 | Q18: 0 | S18: 45219000 | U18: 42290 | W18: 1902176846467 | Y18: 1910016736188 | AA18: =Y18/سهام!$AE$4 -> 0.0090089441
A19: صندوق س.سرزمین بزرگ بازار-س | D19: 5000000 | G19: 50058000000 | I19: 60610275000 | K19: 0 | M19: 0 | O19: 0 | Q19: 0 | S19: 5000000 | U19: 15900 | W19: 50058000000 | Y19: 79317150000 | AA19: =Y19/سهام!$AE$4 -> 0.00037411388
A20: صندوق س.سهامی تیام-س | D20: 4784000 | G20: 68913256305 | I20: 1.0975029e+11 | K20: 0 | M20: 0 | O20: 0 | Q20: 0 | S20: 4784000 | U20: 28002 | W20: 68913256305 | Y20: 1.3365346e+11 | AA20: =Y20/سهام!$AE$4 -> 0.00063040103
... A39: صندوق س صنایع کارآمد1-بخشی | D39: 0 | G39: 0 | I39: 0 | K39: 2000000 | M39: 20044900000 | O39: 0 | Q39: 0 | S39: 2000000 | U39: 10000 | W39: 20044900000 | Y39: 19954000000 | AA39: =Y39/سهام!$AE$4 -> 9.4116699e-05
A40: جمع | D40: =SUM(D9:E39) -> 178151380 | G40: =SUM(G9:G39) -> 6481547410624 | I40: =SUM(I9:I39) -> 7.4445968e+12 | K40: =SUM(K9:K39) -> 172809498 | M40: =SUM(M9:M39) -> 9031523754901 | O40: =SUM(O9:P39) -> -76461033 | Q40: =SUM(Q9:R39) -> 5173372344946 | S40: =SUM(S9:T39) -> 274499845 | W40: =SUM(W9:X39) -> 10399163488516 | Y40: =SUM(Y9:Z39) -> 1.282117e+13 | AA40: =SUM(AA9:AB39) -> 0.060473398

Sheet اوراق
A1: صندوق سرمایه گذاری آوای فردای زاگرس
A2: صورت وضعیت پرتفوی
A3: برای ماه منتهی به 1405/05/31
A5: -3-1 | B5: سرمایه‌گذاری در اوراق بهادار با درآمد ثابت یا علی‌الحساب
A6: اطلاعات اوراق با درآمد ثابت | P6: 1405/04/31 | V6: تغییرات طی دوره | AD6: 1405/05/31
V7: خرید طی دوره | Z7: فروش طی دوره
A8: نام اوراق | D8: دارای مجوز از سازمان | F8: پذیرفته شده در بورس یا فرابورس | H8: تاریخ انتشار اوراق | J8: تاریخ سررسید | L8: نرخ سود اسمی | N8: نرخ سود موثر | P8: تعداد | R8: بهای تمام شده | T8: خالص ارزش فروش | V8: تعداد | X8: بهای تمام شده | Z8: تعداد | AB8: مبلغ فروش | AD8: تعداد | AF8: قیمت بازار هر سهم | AH8: بهای تمام شده | AJ8: خالص ارزش فروش | AL8: درصد به کل دارایی ها
A9: سلف موازی هیدروکربن آفتاب061 | D9: بله | F9: بله | H9: 1404/02/03 | J9: 1406/02/03 | L9: 24.16 | N9: 24.16 | P9: 766100 | R9: 3001257612300 | T9: 3862478355014 | V9: 0 | X9: 0 | Z9: 0 | AB9: 0 | AD9: 766100 | AF9: 5124559 | AH9: 3001257612300 | AJ9: 3923079028054 | AL9: =AJ9/سهام!$AE$4 -> 0.018503922
A10: اجاره تابان فردا زاگرس14070603 | D10: بله | F10: بله | H10: 1404/06/03 | J10: 1407/06/03 | L10: 23 | N10: 23 | P10: 1000000 | R10: 1000000000000 | T10: 999456250000 | V10: 0 | X10: 0 | Z10: 0 | AB10: 0 | AD10: 1000000 | AF10: 1000000 | AH10: 1000000000000 | AJ10: 999456250000 | AL10: =AJ10/سهام!$AE$4 -> 0.0047141186
A11: اجاره تابان فردادماوند14080220 | D11: بله | F11: بله | H11: 1404/02/20 | J11: 1408/02/20 | L11: 23 | N11: 23 | P11: 7100000 | R11: 6926607870750 | T11: 7096139375000 | V11: 0 | X11: 0 | Z11: 0 | AB11: 0 | AD11: 7100000 | AF11: 1000000 | AH11: 6926607870750 | AJ11: 7096139375000 | AL11: =AJ11/سهام!$AE$4 -> 0.033470242
A12: اجاره توان آفرین ساز 14070216 | D12: بله | F12: بله | H12: 1403/02/16 | J12: 1407/02/16 | L12: 2 | N12: 2 | P12: 1800000 | R12: 1755984000000 | T12: 1754909248950 | V12: 0 | X12: 0 | Z12: 0 | AB12: 0 | AD12: 1800000 | AF12: 975480 | AH12: 1755984000000 | AJ12: 1754909248950 | AL12: =AJ12/سهام!$AE$4 -> 0.0082773512
A13: اسنادخزانه-م10بودجه02-051112 | D13: بله | F13: بله | H13: 1402/12/21 | J13: 1405/11/12 | L13: 0 | N13: 0 | P13: 50614 | R13: 27267185070 | T13: 42820948301 | V13: 0 | X13: 0 | Z13: 0 | AB13: 0 | AD13: 50614 | AF13: 861920 | AH13: 27267185070 | AJ13: 43601497667 | AL13: =AJ13/سهام!$AE$4 -> 0.00020565446
A14: مرابحه عام دولت 165-ش.خ051212 | D14: بله | F14: بله | H14: 1403/04/12 | J14: 1405/12/12 | L14: 23 | N14: 23 | P14: 5000 | R14: 4500815625 | T14: 4658965309 | V14: 0 | X14: 0 | Z14: 0 | AB14: 0 | AD14: 5000 | AF14: 949750 | AH14: 4500815625 | AJ14: 4746167867 | AL14: =AJ14/سهام!$AE$4 -> 2.2386171e-05
A15: مرابحه عام دولت116-ش.خ060630 | D15: بله | F15: بله | H15: 1401/06/30 | J15: 1406/06/30 | L15: 18 | N15: 18 | P15: 225000 | R15: 169126661999 | T15: 184734745832 | V15: 0 | X15: 0 | Z15: 0 | AB15: 0 | AD15: 225000 | AF15: 821490 | AH15: 169126661999 | AJ15: 184734745832 | AL15: =AJ15/سهام!$AE$4 -> 0.0008713353
A16: مرابحه عام دولت137-ش.خ061229 | D16: بله | F16: بله | H16: 1402/06/29 | J16: 1406/06/29 | L16: 20.5 | N16: 20.5 | P16: 5000000 | R16: 4099050000000 | T16: 4096521304687 | V16: 0 | X16: 0 | Z16: 5000000 | AB16: 4153139323320 | AD16: 0 | AF16: 0 | AH16: 0 | AJ16: 0 | AL16: =AJ16/سهام!$AE$4 -> 0
A17: مرابحه عام دولت191-ش.خ060328 | D17: بله | F17: بله | H17: 1403/09/28 | J17: 1406/03/28 | L17: 23 | N17: 23 | P17: 1579612 | R17: 1499999555200 | T17: 1405563872443 | V17: 0 | X17: 0 | Z17: 0 | AB17: 0 | AD17: 1579612 | AF17: 890300 | AH17: 1499999555200 | AJ17: 1405563872443 | AL17: =AJ17/سهام!$AE$4 -> 0.0066295997
A18: مرابحه عام دولت206-ش.خ051114 | D18: بله | F18: بله | H18: 1403/12/14 | J18: 1405/11/14 | L18: 23 | N18: 23 | P18: 347720 | R18: 318223572190 | T18: 325619102286 | V18: 0 | X18: 0 | Z18: 0 | AB18: 0 | AD18: 347720 | AF18: 936950 | AH18: 318223572190 | AJ18: 325619102286 | AL18: =AJ18/سهام!$AE$4 -> 0.0015358422
A19: مرابحه عام دولت228-ش.خ070521 | D19: بله | F19: بله | H19: 1404/05/21 | J19: 1407/05/21 | L19: 23 | N19: 23 | P19: 5000 | R19: 4221597081 | T19: 4077781500 | V19: 0 | X19: 0 | Z19: 0 | AB19: 0 | AD19: 5000 | AF19: 841340 | AH19: 4221597081 | AJ19: 4204412606 | AL19: =AJ19/سهام!$AE$4 -> 1.9830883e-05
A20: مرابحه عام دولت250-ش.خ070205 | D20: بله | F20: بله | H20: 1404/09/05 | J20: 1407/02/05 | L20: 23 | N20: 23 | P20: 583960 | R20: 553010120000 | T20: 486932914181 | V20: 0 | X20: 0 | Z20: 0 | AB20: 0 | AD20: 583960 | AF20: 852370 | AH20: 553010120000 | AJ20: 497479333645 | AL20: =AJ20/سهام!$AE$4 -> 0.0023464525
... A39: شهرداری مشهد | D39: خیر | F39: خیر | H39: 1403/12/28 | J39: 1407/12/28 | L39: 23 | N39: 23 | P39: 7000000 | R39: 7000000000000 | T39: 7000000000000 | V39: 0 | X39: 0 | Z39: 0 | AB39: 0 | AD39: 7000000 | AF39: 1000000 | AH39: 7000000000000 | AJ39: 7000000000000 | AL39: =AJ39/سهام!$AE$4 -> 0.033016783
A40: زامیاد | D40: - | F40: - | H40: - | J40: - | L40: - | N40: - | P40: 290776219 | R40: 501711699488 | T40: 5.8657848e+11 | V40: 0 | X40: 0 | Z40: 0 | AB40: 0 | AD40: 290776219 | AF40: 2072 | AH40: 501711699488 | AJ40: 5.9783109e+11 | AL40: =AJ40/سهام!$AE$4 -> 0.00281978
A41: گسترش‌سرمایه‌گذاری‌ایران‌خودرو | D41: - | F41: - | H41: - | J41: - | L41: - | N41: - | P41: 130000000 | R41: 500823261616 | T41: 6.1811563e+11 | V41: -24427180 | X41: 38717080300 | Z41: 0 | AB41: 0 | AD41: 130000000 | AF41: 4296 | AH41: 442198029616 | AJ41: 554162949600 | AL41: =AJ41/سهام!$AE$4 -> 0.0026138112
A42: جمع | P42: =SUM(P9:P41) -> 507596038 | R42: =SUM(R9:R41) -> 81991715911996 | T42: =SUM(T9:T41) -> 7.9156464e+13 | V42: =SUM(V9:V41) -> -24427180 | X42: =SUM(X9:X41) -> 38717080300 | Z42: =SUM(Z9:Z41) -> 5000000 | AB42: =SUM(AB9:AB41) -> 4153139323320 | AD42: =SUM(AD9:AD41) -> 502596038 | AF42: =SUM(AF9:AF41) -> 30439564 | AH42: =SUM(AH9:AH41) -> 77834040679996 | AJ42: =SUM(AJ9:AJ41) -> 7.3726037e+13 | AL42: =SUM(AL9:AL41) -> 0.34774237

Sheet تعدیل قیمت
A1: صندوق سرمایه گذاری آوای فردای زاگرس
A2: صورت وضعیت پرتفوی
A3: برای ماه منتهی به 1405/05/31
A4: اوراق بهاداری که ارزش آنها در تاریخ گزارش تعدیل شده
A5: (بر اساس دستورالعمل نحوه تعیین قیمت خرید و فروش اوراق بهادار در صندوق های سرمایه گذاری)
C7: 1405/05/31
A8: نام اوراق بهادار | C8: تعداد | E8: قیمت پایانی | G8: قیمت تعدیل شده | I8: درصد تعدیل | K8: خالص ارزش فروش تعدیل شده | M8: دلیل تعدیل
A9: مرابحه عام دولت260-ش.خ071002 | C9: 18502081 | E9: 791600 | G9: 712440 | I9: -10.00% | K9: 13174455080357 | M9: سایر
A10: مرابحه عام دولت273-ش.خ071128 | C10: 4078762 | E10: 849750 | G10: 804667 | I10: -5.31% | K10: 3280260570186 | M10: سایر
A11: مرابحه عام دولت271-ش.خ070628 | C11: 4783460 | E11: 820000 | G11: 738000 | I11: -10.00% | K11: 3528273937295 | M11: سایر
A12: مرابحه عام دولت274-ش.خ071105 | C12: 9489800 | E12: 791000 | G12: 711900 | I12: -10.00% | K12: 6752115159937 | M12: سایر
A13: جمع | C13: =SUM(C9:C12) -> 36854103 | K13: =SUM(K9:K12) -> 26735104747775

Sheet سپرده
A1: صندوق سرمایه گذاری آوای فردای زاگرس
A2: صورت وضعیت پرتفوی
A3: برای ماه منتهی به 1405/05/31
A5: -4-1 | B5: سرمایه‌گذاری در سپرده‌ بانکی
D6: 1405/04/31 | F6: تغییرات طی دوره | J6: 1405/05/31
A8: سپرده های بانکی | D8: مبلغ | F8: افزایش | H8: کاهش | J8: مبلغ | L8: درصد به کل دارایی ها
A9: سپرده کوتاه مدت بانک پاسارگاد جهان کودک | D9: 4653837707410 | F9: 11293110851254 | H9: 11782134893000 | J9: 4164813665664 | L9: 0.0196
A10: حساب جاری بانک آینده بلوار دریا | D10: 35378 | F10: 0 | H10: 0 | J10: 35378 | L10: 0
A11: سپرده کوتاه مدت بانک دی فرشته | D11: 20118787329292 | F11: 7624816000000 | H11: 15248876308603 | J11: 12494727020689 | L11: 0.0589
A12: سپرده کوتاه مدت بانک گردشگری میدان سرو | D12: 25444619853416 | F12: 22255942244755 | H12: 11490462250000 | J12: 36210099848171 | L12: 0.1707
A13: سپرده کوتاه مدت موسسه اعتباری ملل جنت آباد | D13: 10479004055890 | F13: 10627823386259 | H13: 21106824122221 | J13: 3319928 | L13: 0
A14: سپرده کوتاه مدت بانک اقتصاد نوین غدیر | D14: 9512121 | F14: 91762737 | H14: 0 | J14: 101274858 | L14: 0
A15: سپرده کوتاه مدت بانک سامان جام جم | D15: 494604 | F15: 2090 | H15: 0 | J15: 496694 | L15: 0
A16: سپرده کوتاه مدت بانک خاورمیانه بخارست | D16: 181086361 | F16: 21095012043996 | H16: 21092516348471 | J16: 2676781886 | L16: 0
A17: قرض الحسنه بانک تجارت نفت شمالی | D17: 3023547883728 | F17: 15182222437012 | H17: 7478938617500 | J17: 10726831703240 | L17: 0.0506
A18: سپرده کوتاه مدت بانک صادرات مستقل فردوسی | D18: 2781957056291 | F18: 74456319894675 | H18: 40006643213028 | J18: 37231633737938 | L18: 0.1756
A19: سپرده کوتاه مدت بانک مسکن مستقل مرکزی | D19: 174028 | F19: 0 | H19: 0 | J19: 174028 | L19: 0
A20: سپرده کوتاه مدت بانک ملت ولیعصر بهشتی | D20: 3148429 | F20: 13313 | H20: 0 | J20: 3161742 | L20: 0
... A22: سپرده کوتاه مدت بانک رفاه مرکزی اصفهان | D22: 66066165 | F22: 280554 | H22: 0 | J22: 66346719 | L22: 0
A23: جمع | D23: =SUM(D9:D22) -> 85074430746148 | F23: =SUM(F9:F22) -> 162967151530373 | H23: =SUM(H9:H22) -> 128638194452823 | J23: =SUM(J9:J22) -> 119403387823698 | L23: =SUM(L9:L22) -> 0.563

Sheet درآمد
A1: صندوق سرمایه گذاری آوای فردای زاگرس
A2: صورت وضعیت درآمدها
A3: برای ماه منتهی به 1405/05/31
A5: -2 | B5: درآمد حاصل از سرمایه گذاری ها
A7: شرح | D7: یادداشت | F7: مبلغ | H7: درصد از کل درآمدها | J7: درصد از کل دارایی ها
A8: درآمد حاصل از سرمایه گذاری در سهام و حق تقدم سهام | D8: 1-2 | F8: ='درآمد سرمایه گذاری در سهام'!U27 -> 762285912854 | H8: =F8/$F$13 -> 0.032339251 | J8: =F8/سهام!$AE$4 -> 0.0035954613
A9: درآمد حاصل از سرمایه گذاری در واحدهای صندوق های سرمایه گذاری | D9: 2-2 | F9: ='درآمد سرمایه گذاری در صندوق'!U43 -> 2738971950446 | H9: =F9/$F$13 -> 0.11619827 | J9: =F9/سهام!$AE$4 -> 0.012918863
A10: درآمد حاصل از سرمایه گذاری در اوراق بهادار با درآمد ثابت | D10: 3-2 | F10: ='درآمد سرمایه گذاری در اوراق به'!T46 -> 7867738638940 | H10: =F10/$F$13 -> 0.33378129 | J10: =F10/سهام!$AE$4 -> 0.037109632
A11: درآمد حاصل از سرمایه گذاری در سپرده بانکی و گواهی سپرده | D11: 4-2 | F11: ='درآمد سپرده بانکی'!H20 -> 12185078117488 | H11: =F11/$F$13 -> 0.51694029 | J11: =F11/سهام!$AE$4 -> 0.057473155
A12: سایر درآمدها | D12: 5-2 | F12: ='سایر درآمدها'!F11 -> 17464038770 | H12: =F12/$F$13 -> 0.00074089515 | J12: =F12/سهام!$AE$4 -> 8.2372341e-05
A13: جمع | F13: =SUM(F8:F12) -> 23571538658498 | H13: =SUM(H8:H12) -> 1 | J13: =SUM(J8:J12) -> 0.11117948

Sheet درآمد سرمایه گذاری در سهام
A1: صندوق سرمایه گذاری آوای فردای زاگرس
A2: صورت وضعیت درآمدها
A3: برای ماه منتهی به 1405/05/31
A5: -1-2 | B5: درآمد حاصل از سرمایه­گذاری در سهام و حق تقدم سهام
D6: طی ماه | N6: از ابتدای سال مالی
J7: جمع | U7: جمع
A8: سهام | D8: درآمد سود سهام | F8: درآمد تغییر ارزش | H8: درآمد فروش | J8: مبلغ | L8: درصد از کل درآمدها | N8: درآمد سود سهام | P8: درآمد تغییر ارزش | S8: درآمد فروش | U8: مبلغ | W8: درصد از کل درآمدها
A9: تولیدی کوچین | D9: 0 | F9: 24958191527 | H9: 30873263927 | J9: =D9+F9+H9 -> 55831455454 | L9: =J9/درآمد!$F$13 -> 0.0023685961 | N9: 1066055735 | P9: 0 | S9: 30873263927 | U9: =N9+P9+S9 -> 31939319662 | W9: =U9/درآمد!$F$13 -> 0.0013549951
A10: کشت و صنعت شیفته آرای شرق | D10: 0 | F10: 2660322300 | H10: 1769424994 | J10: =D10+F10+H10 -> 4429747294 | L10: =J10/درآمد!$F$13 -> 0.0001879278 | N10: 853980000 | P10: 0 | S10: 1769424994 | U10: =N10+P10+S10 -> 2623404994 | W10: =U10/درآمد!$F$13 -> 0.00011129545
A11: سرمایه گذاری کشاورزی کوثر | D11: 0 | F11: 1157866220 | H11: 35276453410 | J11: =D11+F11+H11 -> 36434319630 | L11: =J11/درآمد!$F$13 -> 0.0015456912 | N11: 0 | P11: 0 | S11: 35276453410 | U11: =N11+P11+S11 -> 35276453410 | W11: =U11/درآمد!$F$13 -> 0.0014965698
A12: پاکدیس | D12: 0 | F12: 544542412 | H12: 1037816630 | J12: =D12+F12+H12 -> 1582359042 | L12: =J12/درآمد!$F$13 -> 6.713007e-05 | N12: 290000000 | P12: 0 | S12: 1037816630 | U12: =N12+P12+S12 -> 1327816630 | W12: =U12/درآمد!$F$13 -> 5.6331352e-05
A13: پالایش نفت تهران | D13: 36480000000 | F13: 53395778532 | H13: 0 | J13: =D13+F13+H13 -> 89875778532 | L13: =J13/درآمد!$F$13 -> 0.003812894 | N13: 36480000000 | P13: 138147278693 | S13: -3067 | U13: =N13+P13+S13 -> 174627275626 | W13: =U13/درآمد!$F$13 -> 0.0074083953
A14: گروه مالی نماد غدیر(سهامی عام) | D14: 0 | F14: 0 | H14: 0 | J14: =D14+F14+H14 -> 0 | L14: =J14/درآمد!$F$13 -> 0 | N14: 0 | P14: 0 | S14: 13498796491 | U14: =N14+P14+S14 -> 13498796491 | W14: =U14/درآمد!$F$13 -> 0.00057267354
A15: بانک ملت | D15: 3270462230 | F15: 17707403713 | H15: 0 | J15: =D15+F15+H15 -> 20977865943 | L15: =J15/درآمد!$F$13 -> 0.00088996591 | N15: 3270462230 | P15: 34991522876 | S15: -866 | U15: =N15+P15+S15 -> 38261984240 | W15: =U15/درآمد!$F$13 -> 0.0016232281
A16: نیان باتری خاوران | D16: 0 | F16: 0 | H16: 0 | J16: =D16+F16+H16 -> 0 | L16: =J16/درآمد!$F$13 -> 0 | N16: 0 | P16: 0 | S16: 6261935250 | U16: =N16+P16+S16 -> 6261935250 | W16: =U16/درآمد!$F$13 -> 0.00026565662
A17: سیمان‌ تهران‌ | D17: 23715000000 | F17: 1384216650 | H17: 0 | J17: =D17+F17+H17 -> 25099216650 | L17: =J17/درآمد!$F$13 -> 0.0010648103 | N17: 23715000000 | P17: 61674541850 | S17: 0 | U17: =N17+P17+S17 -> 85389541850 | W17: =U17/درآمد!$F$13 -> 0.0036225697
A18: پالایش نفت اصفهان | D18: 0 | F18: 18654676000 | H18: 0 | J18: =D18+F18+H18 -> 18654676000 | L18: =J18/درآمد!$F$13 -> 0.0007914068 | N18: 7400000000 | P18: 21350433285 | S18: 0 | U18: =N18+P18+S18 -> 28750433285 | W18: =U18/درآمد!$F$13 -> 0.0012197097
A19: سیمان‌ صوفیان‌ | D19: 0 | F19: -982347300 | H19: 0 | J19: =D19+F19+H19 -> -982347300 | L19: =J19/درآمد!$F$13 -> -4.1675145e-05 | N19: 8220000000 | P19: 10156875720 | S19: 0 | U19: =N19+P19+S19 -> 18376875720 | W19: =U19/درآمد!$F$13 -> 0.00077962139
A20: بانک تجارت | D20: 967168989 | F20: 34335674757 | H20: 0 | J20: =D20+F20+H20 -> 35302843746 | L20: =J20/درآمد!$F$13 -> 0.0014976894 | N20: 967168989 | P20: 50549942756 | S20: 0 | U20: =N20+P20+S20 -> 51517111745 | W20: =U20/درآمد!$F$13 -> 0.0021855642
... A26: کشت و صنعت شهداب ناب خراسان | D26: 0 | F26: 45545193000 | H26: 0 | J26: =D26+F26+H26 -> 45545193000 | L26: =J26/درآمد!$F$13 -> 0.0019322113 | N26: 0 | P26: 51433503508 | S26: 0 | U26: =N26+P26+S26 -> 51433503508 | W26: =U26/درآمد!$F$13 -> 0.0021820172
A27: جمع | D27: =SUM(D9:D26) -> 88450431219 | F27: =SUM(F9:F26) -> 319379880823 | H27: =SUM(H9:H26) -> 68956958961 | J27: =SUM(J9:J26) -> 476787271003 | L27: =SUM(L9:L26) -> 0.020227244 | N27: =SUM(N9:N26) -> 120522910229 | P27: =SUM(P9:Q26) -> 553045315856 | S27: =SUM(S9:S26) -> 88717686769 | U27: =SUM(U9:U26) -> 762285912854 | W27: =SUM(W9:W26) -> 0.032339251
F40: =F33+F34-F36 -> 0

Sheet درآمد سرمایه گذاری در صندوق
A1: صندوق سرمایه گذاری آوای فردای زاگرس
A2: صورت وضعیت درآمدها
A3: برای ماه منتهی به 1405/05/31
A5: -2-2 | B5: درآمد حاصل از سرمایه­گذاری در واحدهای صندوق
D6: طی ماه | N6: از ابتدای سال مالی
J7: جمع | U7: جمع
A8: صندوق | D8: درآمد سود صندوق | F8: درآمد تغییر ارزش | H8: درآمد فروش | J8: مبلغ | L8: درصد از کل درآمدها | N8: درآمد سود صندوق | P8: درآمد تغییر ارزش | S8: درآمد فروش | U8: مبلغ | W8: درصد از کل درآمدها
A9: صندوق س.پشتوانه طلا دنای زاگرس | D9: 0 | F9: 137335558686 | H9: 22081904592 | J9: =D9+F9+H9 -> 159417463278 | L9: =J9/درآمد!$F$13 -> 0.0067631335 | N9: 0 | P9: 162590122301 | S9: 536381324425 | U9: =N9+P9+S9 -> 698971446726 | W9: =U9/درآمد!$F$13 -> 0.029653196
A10: صندوق س. سهام ثروت هامون-س | D10: 0 | F10: 20609411434 | H10: 527482269 | J10: =D10+F10+H10 -> 21136893703 | L10: =J10/درآمد!$F$13 -> 0.00089671251 | N10: 0 | P10: 20609411434 | S10: 527482269 | U10: =N10+P10+S10 -> 21136893703 | W10: =U10/درآمد!$F$13 -> 0.00089671251
A11: صندوق س.کالای کوروش | D11: 0 | F11: 0 | H11: 0 | J11: =D11+F11+H11 -> 0 | L11: =J11/درآمد!$F$13 -> 0 | N11: 0 | P11: 0 | S11: 4488504133 | U11: =N11+P11+S11 -> 4488504133 | W11: =U11/درآمد!$F$13 -> 0.0001904205
A12: صندوق س.کالای نوویرا1 | D12: 0 | F12: 0 | H12: 0 | J12: =D12+F12+H12 -> 0 | L12: =J12/درآمد!$F$13 -> 0 | N12: 0 | P12: 0 | S12: 4866800000 | U12: =N12+P12+S12 -> 4866800000 | W12: =U12/درآمد!$F$13 -> 0.00020646934
A13: صندوق س.اعتبارسهام-سهام | D13: 0 | F13: 0 | H13: 0 | J13: =D13+F13+H13 -> 0 | L13: =J13/درآمد!$F$13 -> 0 | N13: 0 | P13: 0 | S13: 26304424128 | U13: =N13+P13+S13 -> 26304424128 | W13: =U13/درآمد!$F$13 -> 0.0011159401
A14: صندوق س آوای تاراز زاگرس-سهام | D14: 0 | F14: 174186788079 | H14: 0 | J14: =D14+F14+H14 -> 174186788079 | L14: =J14/درآمد!$F$13 -> 0.007389708 | N14: 0 | P14: 324213465166 | S14: 46926550471 | U14: =N14+P14+S14 -> 371140015637 | W14: =U14/درآمد!$F$13 -> 0.01574526
A15: صندوق شاخص30 شرکت فیروزه- سهام | D15: 0 | F15: 107020126268 | H15: 0 | J15: =D15+F15+H15 -> 107020126268 | L15: =J15/درآمد!$F$13 -> 0.0045402266 | N15: 0 | P15: 158984881803 | S15: 0 | U15: =N15+P15+S15 -> 158984881803 | W15: =U15/درآمد!$F$13 -> 0.0067447817
A16: صندوق س.امین تدبیرگران فردا-س | D16: 0 | F16: 6600819437 | H16: 0 | J16: =D16+F16+H16 -> 6600819437 | L16: =J16/درآمد!$F$13 -> 0.00028003346 | N16: 0 | P16: 6600819437 | S16: 0 | U16: =N16+P16+S16 -> 6600819437 | W16: =U16/درآمد!$F$13 -> 0.00028003346
A17: صندوق س. ثروت آفرین پارسیان-س | D17: 0 | F17: 34816699985 | H17: 0 | J17: =D17+F17+H17 -> 34816699985 | L17: =J17/درآمد!$F$13 -> 0.0014770652 | N17: 0 | P17: 79652246202 | S17: 0 | U17: =N17+P17+S17 -> 79652246202 | W17: =U17/درآمد!$F$13 -> 0.0033791704
A18: صندوق صبا | D18: 0 | F18: 50315795992 | H18: 0 | J18: =D18+F18+H18 -> 50315795992 | L18: =J18/درآمد!$F$13 -> 0.0021345996 | N18: 0 | P18: 115452445052 | S18: 0 | U18: =N18+P18+S18 -> 115452445052 | W18: =U18/درآمد!$F$13 -> 0.0048979596
A19: صندوق سرمایه‌گذاری فیروزه موفقیت | D19: 0 | F19: 143907400000 | H19: 0 | J19: =D19+F19+H19 -> 143907400000 | L19: =J19/درآمد!$F$13 -> 0.0061051339 | N19: 0 | P19: 310774100000 | S19: 0 | U19: =N19+P19+S19 -> 310774100000 | W19: =U19/درآمد!$F$13 -> 0.013184294
A20: صندوق س.پشتوانه سکه طلا کهربا | D20: 0 | F20: 180289075182 | H20: 0 | J20: =D20+F20+H20 -> 180289075182 | L20: =J20/درآمد!$F$13 -> 0.0076485917 | N20: 0 | P20: 91673631813 | S20: 0 | U20: =N20+P20+S20 -> 91673631813 | W20: =U20/درآمد!$F$13 -> 0.0038891662
... A42: صندوق س صنایع پاسارگاد1-بخشی | D42: 0 | F42: -227250000 | H42: 0 | J42: =D42+F42+H42 -> -227250000 | L42: =J42/درآمد!$F$13 -> -9.6408641e-06 | N42: 0 | P42: -227250000 | S42: 0 | U42: =N42+P42+S42 -> -227250000 | W42: =U42/درآمد!$F$13 -> -9.6408641e-06
A43: جمع | D43: 0 | F43: =SUM(F9:F42) -> 1502054989563 | H43: =SUM(H9:H42) -> 22609386861 | J43: =SUM(J9:J42) -> 1524664376424 | L43: =SUM(L9:L42) -> 0.064682429 | N43: =SUM(N9:N42) -> 20737178512 | Q43: =SUM(P9:Q42) -> 2098739686508 | S43: =SUM(S9:S42) -> 619495085426 | U43: =SUM(U9:U42) -> 2738971950446 | W43: =SUM(W9:W42) -> 0.11619827

Sheet درآمد سرمایه گذاری در اوراق به
A1: صندوق سرمایه گذاری آوای فردای زاگرس
A2: صورت وضعیت درآمدها
A3: برای ماه منتهی به 1405/05/31
A5: -3-2 | B5: درآمد حاصل از سرمایه­گذاری در اوراق بهادار با درآمد ثابت:
D6: طی ماه | L6: از ابتدای سال مالی
A8: عنوان | D8: درآمد سود اوراق | F8: درآمد تغییر ارزش | H8: درآمد فروش | J8: جمع | L8: درآمد سود اوراق | N8: درآمد تغییر ارزش | P8: درآمد تعهد پذیره نویسی | R8: درآمد فروش | T8: جمع
A9: مرابحه عام دولت137-ش.خ061229 | D9: 79683564251 | F9: 2528695313 | H9: 54391550000 | J9: =D9+F9+H9 -> 136603809564 | L9: 148590817751 | N9: 0 | P9: 0 | R9: 54391550000 | T9: =L9+N9+R9+P9 -> 202982367751
A10: مرابحه عام دولت274-ش.خ071105 | D10: 213655874789 | F10: -740411377850 | H10: 0 | J10: =D10+F10+H10 -> -526755503061 | L10: 941126951078 | N10: -743302015493 | P10: 0 | R10: 900883278309 | T10: =L10+N10+R10+P10 -> 1098708213894
A11: مرابحه عام دولت260-ش.خ071002 | D11: 339957202992 | F11: -376350491490 | H11: 0 | J11: =D11+F11+H11 -> -36393288498 | L11: 1653623886803 | N11: -1129084117022 | P11: 0 | R11: 45067380966 | T11: =L11+N11+R11+P11 -> 569607150747
A12: گواهی اعتبارمولد ملی14050331 | D12: 0 | F12: 0 | H12: 0 | J12: =D12+F12+H12 -> 0 | L12: 0 | N12: 0 | P12: 0 | R12: 7550856113 | T12: =L12+N12+R12+P12 -> 7550856113
A13: گواهی اعتبارمولد ملی14050231 | D13: 0 | F13: 0 | H13: 0 | J13: =D13+F13+H13 -> 0 | L13: 0 | N13: 0 | P13: 0 | R13: 5104187213 | T13: =L13+N13+R13+P13 -> 5104187213
A14: گواهی اعتبارمولد ملی14050431 | D14: 0 | F14: 0 | H14: 0 | J14: =D14+F14+H14 -> 0 | L14: 0 | N14: 0 | P14: 0 | R14: 9916569057 | T14: =L14+N14+R14+P14 -> 9916569057
A15: شهرداری مشهد | D15: 161538056767 | F15: 0 | H15: 0 | J15: =D15+F15+H15 -> 161538056767 | L15: 381482454516 | N15: 0 | P15: 25000000000 | R15: 0 | T15: =L15+N15+R15+P15 -> 406482454516
A16: مرابحه عام دولت277-ش.خ071118 | D16: 7837293676 | F16: 1655157849 | H16: 0 | J16: =D16+F16+H16 -> 9492451525 | L16: 35935965194 | N16: -56762070042 | P16: 0 | R16: 0 | T16: =L16+N16+R16+P16 -> -20826104848
A17: مرابحه عام دولت273-ش.خ071128 | D17: 86039818281 | F17: 88825220682 | H17: 0 | J17: =D17+F17+H17 -> 174865038963 | L17: 378981397602 | N17: 193060764507 | P17: 0 | R17: 0 | T17: =L17+N17+R17+P17 -> 572042162109
A18: مرابحه عام دولت271-ش.خ070628 | D18: 120827506043 | F18: -321745281741 | H18: 0 | J18: =D18+F18+H18 -> -200917775698 | L18: 485609109457 | N18: -185682034782 | P18: 0 | R18: 0 | T18: =L18+N18+R18+P18 -> 299927074675
A19: مرابحه عام دولت272-ش.خ071028 | D19: 61413100706 | F19: 74444974613 | H19: 0 | J19: =D19+F19+H19 -> 135858075319 | L19: 281865510663 | N19: 141623474431 | P19: 0 | R19: 0 | T19: =L19+N19+R19+P19 -> 423488985094
A20: مرابحه عام دولت270-ش.خ071121 | D20: 49248120432 | F20: 15815218707 | H20: 0 | J20: =D20+F20+H20 -> 65063339139 | L20: 219241927016 | N20: -40442671460 | P20: 0 | R20: 0 | T20: =L20+N20+R20+P20 -> 178799255556
... A45: زامیاد | D45: 0 | F45: 11252612234 | H45: 0 | J45: =D45+F45+H45 -> 11252612234 | L45: 15992692045 | N45: -19908467799 | P45: 0 | R45: -4247 | T45: =L45+N45+R45+P45 -> -3915780001
A46: جمع | D46: =SUM(D9:D45) -> 1948967071539 | F46: =SUM(F9:F45) -> -1222683625609 | H46: =SUM(H9:H45) -> 54391550000 | J46: =SUM(J9:J45) -> 780674995930 | L46: =SUM(L9:L45) -> 8059608138041 | N46: =SUM(N9:N45) -> -1249220459273 | P46: =SUM(P9:P45) -> 25000000000 | R46: =SUM(R9:R45) -> 1032350960172 | T46: =SUM(T9:T45) -> 7867738638940

Sheet مبالغ تخصیصی اوراق
A1: صندوق سرمایه گذاری آوای فردای زاگرس
A2: صورت وضعیت درآمدها
A3: برای ماه منتهی به 1405/05/31
A5: -1-3-2 | B5: مبالغ تخصیص یافته بابت خرید و نگهداری اوراق بهادار با درآمد ثابت (نرخ سود ترجیحی)
M6: مبلغ شناسایی شده بابت قرارداد خرید و نگهداری اوراق بهادار | Q6: میانگین نرخ بازده تا سررسید قراردادهای منعقده
A7: طرف معامله | D7: نوع وابستگی | F7: نام ورقه بهادار | H7: تعداد اوراق | J7: بهای تمام شده اوراق | O7: نرخ اسمی
A8: شرکت... | D8: مدیر صندوق | F8: ورقه الف
F9: ورقه ب
A10: شرکت... | D10: شرکت مادر | F10: ورقه الف
F11: ورقه د
A12: صندوق سرمایه­گذاری اختصاصی بازارگردانی … | D12: صندوق­ سرمایه­گذاری اختصاصی بازارگردانی تحت مدیریت مدیر صندوق یا اشخاص تحت کنترل یا وابسته * | F12: ورقه ج
A13: سایر | D13: سایر | F13: ورقه ح
F14: ورقه ط
F15: ورقه ی
F16: ورقه س
A18: *به تفکیک هر یک از صندوق­های سرمایه­گذاری اختصاصی بازارگردانی طرف قرارداد افشا گردد.

Sheet درآمد سپرده بانکی
A1: صندوق سرمایه گذاری آوای فردای زاگرس
A2: صورت وضعیت درآمدها
A3: برای ماه منتهی به 1405/05/31
A5: -4-2 | B5: درآمد حاصل از سرمایه­گذاری در سپرده بانکی و گواهی سپرده
D6: طی ماه | H6: از ابتدای سال مالی
A7: نام سپرده بانکی | D7: سود سپرده بانکی و گواهی سپرده | F7: درصد سود به میانگین سپرده | H7: سود سپرده بانکی و گواهی سپرده | J7: درصد سود به میانگین سپرده
A8: سپرده کوتاه مدت بانک پاسارگاد جهان کودک | D8: 115570865929 | H8: 1015741118230
A9: سپرده کوتاه مدت بانک دی فرشته | D9: 477520295094 | H9: 3038926886829
A10: سپرده کوتاه مدت موسسه اعتباری ملل جنت آباد | D10: 64309493475 | H10: 835052767407
A11: سپرده کوتاه مدت بانک اقتصاد نوین غدیر | D11: 91762737 | H11: 91957548
A12: سپرده کوتاه مدت بانک گردشگری قیطریه | D12: 779791537529 | H12: 3905633628542
A13: سپرده کوتاه مدت بانک سامان جام جم | D13: 2090 | H13: 10234
A14: سپرده کوتاه مدت بانک خاورمیانه بخارست | D14: 1200880 | H14: 5052525
A15: سپرده کوتاه مدت بانک صادرات مستقل فردوسی | D15: 673697397257 | H15: 981560499401
A16: سپرده کوتاه مدت بانک ملت ولیعصر بهشتی | D16: 13313 | H16: 78012
A17: سپرده کوتاه مدت بانک شهر میدان شهدای مشهد | D17: 486147285019 | H17: 2112022142641
A18: سپرده کوتاه مدت بانک رفاه مرکزی اصفهان | D18: 280554 | H18: 46685787523
A19: سپرده بلند مدت بانک تجارت اله وردی | D19: 247338131173 | H19: 249358188596
A20: جمع | D20: =SUM(D8:D19) -> 2844468265050 | H20: =SUM(H8:H19) -> 12185078117488

Sheet سایر درآمدها
A1: صندوق سرمایه گذاری آوای فردای زاگرس
A2: صورت وضعیت درآمدها
A3: برای ماه منتهی به 1405/05/31
A5: -5-2 | B5: سایر درآمدها
D6: طی ماه | F6: 1405/05/31
A7: سایر درآمدها | D7: مبلغ | F7: مبلغ
A8: سایر درآمدها | D8: 9758003 | F8: 241858334
A9: معین برای سایر درآمدهای تنزیل سود بانک | D9: 0 | F9: 6510090137
A10: تعدیل کارمزد کارگزار | D10: 4859888406 | F10: 10712090299
A11: جمع | D11: 4869646409 | F11: 17464038770

Sheet درآمد سود سهام
A1: صندوق سرمایه گذاری آوای فردای زاگرس
A2: صورت وضعیت درآمدها
A3: برای ماه منتهی به 1405/05/31
A5: درآمد سود سهام
A6: نام سهام | C6: اطلاعات مجمع | I6: طی ماه | O6: از ابتدای سال مالی
C7: تاریخ تشکیل مجمع | E7: تعداد سهام متعلقه در زمان مجمع | G7: سود متعلق به هر سهم | I7: جمع درآمد سود سهام | K7: هزینه تنزیل | M7: خالص درآمد سود سهام | O7: جمع درآمد سود سهام | Q7: هزینه تنزیل | S7: خالص درآمد سود سهام
A8: زامیاد | C8: 1405/04/27 | E8: 290776219 | G8: 55 | I8: 0 | K8: 0 | M8: =I8-K8 -> 0 | O8: 15992692045 | Q8: 590759073 | S8: =O8-Q8 -> 15401932972
A9: سیمان‌ تهران‌ | C9: 1405/05/11 | E9: 15500000 | G9: 1530 | I9: ='درآمد سرمایه گذاری در سهام'!D17 -> 23715000000 | K9: 1246537962 | M9: =I9-K9 -> 22468462038 | O9: ='درآمد سرمایه گذاری در سهام'!N17 -> 23715000000 | Q9: 1246537962 | S9: =O9-Q9 -> 22468462038
A10: پالایش نفت اصفهان | C10: 1405/04/30 | E10: 10000000 | G10: 740 | I10: 0 | K10: 0 | M10: =I10-K10 -> 0 | O10: ='درآمد سرمایه گذاری در سهام'!N18 -> 7400000000 | Q10: 80216802 | S10: =O10-Q10 -> 7319783198
A11: سیمان‌ صوفیان‌ | C11: 1405/03/19 | E11: 300000 | G11: 27400 | I11: 0 | K11: 0 | M11: =I11-K11 -> 0 | O11: ='درآمد سرمایه گذاری در سهام'!N19 -> 8220000000 | Q11: 0 | S11: =O11-Q11 -> 8220000000
A12: بانک ملت | C12: 1405/04/31 | E12: 71097005 | G12: 46 | I12: ='درآمد سرمایه گذاری در سهام'!D15 -> 3270462230 | K12: 0 | M12: =I12-K12 -> 3270462230 | O12: ='درآمد سرمایه گذاری در سهام'!N15 -> 3270462230 | Q12: 0 | S12: =O12-Q12 -> 3270462230
A13: بانک تجارت | C13: 1405/04/31 | E13: 107463221 | G13: 9 | I13: ='درآمد سرمایه گذاری در سهام'!D20 -> 967168989 | K13: 0 | M13: =I13-K13 -> 967168989 | O13: ='درآمد سرمایه گذاری در سهام'!N20 -> 967168989 | Q13: 0 | S13: =O13-Q13 -> 967168989
A14: پالایش نفت بندرعباس | C14: 1405/05/18 | E14: 20200000 | G14: 1189 | I14: ='درآمد سرمایه گذاری در سهام'!D21 -> 24017800000 | K14: 3268694675 | M14: =I14-K14 -> 20749105325 | O14: ='درآمد سرمایه گذاری در سهام'!N21 -> 24017800000 | Q14: 3268694675 | S14: =O14-Q14 -> 20749105325
A15: پاکدیس | C15: 1405/04/10 | E15: 50000 | G15: 5800 | I15: 0 | K15: 0 | M15: =I15-K15 -> 0 | O15: ='درآمد سرمایه گذاری در سهام'!N12 -> 290000000 | Q15: 12542595 | S15: =O15-Q15 -> 277457405
A16: پالایش نفت تهران | C16: 1405/05/06 | E16: 76000000 | G16: 480 | I16: ='درآمد سرمایه گذاری در سهام'!D13 -> 36480000000 | K16: 0 | M16: =I16-K16 -> 36480000000 | O16: ='درآمد سرمایه گذاری در سهام'!N13 -> 36480000000 | Q16: 0 | S16: =O16-Q16 -> 36480000000
A17: بورس کالای ایران | C17: 1405/03/12 | E17: 10000000 | G17: 530 | I17: 0 | K17: 0 | M17: =I17-K17 -> 0 | O17: ='درآمد سرمایه گذاری در سهام'!N22 -> 5300000000 | Q17: 0 | S17: =O17-Q17 -> 5300000000
A18: نیان الکترونیک | C18: 1405/04/30 | E18: 21041043 | G18: 425 | I18: 0 | K18: 0 | M18: =I18-K18 -> 0 | O18: ='درآمد سرمایه گذاری در سهام'!N23 -> 8942443275 | Q18: 519238642 | S18: =O18-Q18 -> 8423204633
A19: تولیدی کوچین | C19: 1405/02/10 | E19: 3933785 | G19: 271 | I19: 0 | K19: 0 | M19: =I19-K19 -> 0 | O19: ='درآمد سرمایه گذاری در سهام'!N9 -> 1066055735 | Q19: 0 | S19: =O19-Q19 -> 1066055735
A20: کشت و صنعت شیفته آرای شرق | C20: 1405/04/30 | E20: 1707960 | G20: 500 | I20: 0 | K20: 0 | M20: =I20-K20 -> 0 | O20: ='درآمد سرمایه گذاری در سهام'!N10 -> 853980000 | Q20: 50104565 | S20: =O20-Q20 -> 803875435
A21: جمع | I21: =SUM(I8:I20) -> 88450431219 | K21: =SUM(K8:K20) -> 4515232637 | M21: =SUM(M8:M20) -> 83935198582 | O21: =SUM(O8:O20) -> 136515602274 | Q21: =SUM(Q8:Q20) -> 5768094314 | S21: =SUM(S8:S20) -> 130747507960

Sheet سود اوراق بهادار
A1: صندوق سرمایه گذاری آوای فردای زاگرس
A2: صورت وضعیت درآمدها
A3: برای ماه منتهی به 1405/05/31
A5: سود اوراق بهادار با درآمد ثابت
A6: شرح | J6: طی ماه | P6: از ابتدای سال مالی
C7: تاریخ دریافت سود | E7: تاریخ سررسید | H7: نرخ سود علی الحساب | J7: درآمد سود | L7: هزینه تنزیل | N7: خالص درآمد | P7: درآمد سود | R7: هزینه تنزیل | T7: خالص درآمد
A8: شهرداری مشهد | E8: 1409/02/29 | H8: 23 | J8: 161538056767 | L8: 0 | N8: 161538056767 | P8: 381482454516 | R8: 0 | T8: 381482454516
A9: مرابحه عام دولت277-ش.خ071118 | E9: 1407/11/18 | H9: 23 | J9: 7837293676 | L9: 0 | N9: 7837293676 | P9: 35935965194 | R9: 0 | T9: 35935965194
A10: مرابحه عام دولت274-ش.خ071105 | E10: 1407/11/05 | H10: 23 | J10: 213655874789 | L10: 0 | N10: 213655874789 | P10: 941126951078 | R10: 0 | T10: 941126951078
A11: مرابحه عام دولت273-ش.خ071128 | E11: 1407/11/28 | H11: 23 | J11: 86039818281 | L11: 0 | N11: 86039818281 | P11: 378981397602 | R11: 0 | T11: 378981397602
A12: مرابحه عام دولت271-ش.خ070628 | E12: 1407/06/28 | H12: 23 | J12: 120827506043 | L12: 0 | N12: 120827506043 | P12: 485609109457 | R12: 0 | T12: 485609109457
A13: مرابحه عام دولت272-ش.خ071028 | E13: 1407/10/28 | H13: 23 | J13: 61413100706 | L13: 0 | N13: 61413100706 | P13: 281865510663 | R13: 0 | T13: 281865510663
A14: مرابحه عام دولت270-ش.خ071121 | E14: 1407/11/21 | H14: 23 | J14: 49248120432 | L14: 0 | N14: 49248120432 | P14: 219241927016 | R14: 0 | T14: 219241927016
A15: مرابحه غدیرایرانیان14081120 | E15: 1408/11/20 | H15: 23 | J15: 21729931190 | L15: 0 | N15: 21729931190 | P15: 37274701750 | R15: 0 | T15: 37274701750
A16: مرابحه عام دولت265-ش.خ070430 | E16: 1407/04/30 | H16: 23 | J16: 4745573940 | L16: 0 | N16: 4745573940 | P16: 25532645693 | R16: 0 | T16: 25532645693
A17: مرابحه عام دولت262-ش.خ070716 | E17: 1407/07/16 | H17: 23 | J17: 19760043652 | L17: 0 | N17: 19760043652 | P17: 107562959298 | R17: 0 | T17: 107562959298
A18: مرابحه عام دولت258-ش.خ070302 | E18: 1407/03/02 | H18: 23 | J18: 28947591076 | L18: 0 | N18: 28947591076 | P18: 154299932987 | R18: 0 | T18: 154299932987
A19: مرابحه عام دولت260-ش.خ071002 | E19: 1407/10/02 | H19: 23 | J19: 339957202992 | L19: 0 | N19: 339957202992 | P19: 1653623886803 | R19: 0 | T19: 1653623886803
... A36: مرابحه عام دولت116-ش.خ060630 | E36: 1406/06/30 | H36: 18 | J36: 3597878319 | L36: 0 | N36: 3597878319 | P36: 16420336721 | R36: 0 | T36: 16420336721
A37: جمع | J37: =SUM(J8:J36) -> 1942853422504 | L37: 0 | N37: =SUM(N8:N36) -> 1942853422504 | P37: =SUM(P8:P36) -> 7929062818826 | R37: 0 | T37: =SUM(T8:T36) -> 7929062818826

Sheet سود سپرده بانکی
A1: صندوق سرمایه گذاری آوای فردای زاگرس
A2: صورت وضعیت درآمدها
A3: برای ماه منتهی به 1405/05/31
A5: سود سپرده بانکی
A6: شرح | C6: طی ماه | I6: از ابتدای سال مالی
C7: درآمد سود | E7: هزینه تنزیل | G7: خالص درآمد | I7: درآمد سود | K7: هزینه تنزیل | M7: خالص درآمد
A8: سپرده کوتاه مدت بانک پاسارگاد جهان کودک | C8: 115570865929 | E8: -30652597 | G8: 115601518526 | I8: 1015741118230 | K8: 627373882 | M8: 1015113744348
A9: سپرده کوتاه مدت بانک دی فرشته | C9: 477520295094 | E9: 0 | G9: 477520295094 | I9: 3038926883665 | K9: 0 | M9: 3038926883665
A10: سپرده کوتاه مدت موسسه اعتباری ملل جنت آباد | C10: 64309493475 | E10: 0 | G10: 64309493475 | I10: 835052767407 | K10: 0 | M10: 835052767407
A11: سپرده کوتاه مدت بانک اقتصاد نوین غدیر | C11: 91762737 | E11: 0 | G11: 91762737 | I11: 91957548 | K11: 0 | M11: 91957548
A12: سپرده کوتاه مدت بانک گردشگری قیطریه | C12: 779791537529 | E12: 635434194 | G12: 779156103335 | I12: 3905633628542 | K12: 3273045139 | M12: 3902360583403
A13: سپرده کوتاه مدت بانک سامان جام جم | C13: 2090 | E13: 0 | G13: 2090 | I13: 10234 | K13: 0 | M13: 10234
A14: سپرده کوتاه مدت بانک خاورمیانه بخارست | C14: 1200880 | E14: 0 | G14: 1200880 | I14: 5052525 | K14: 0 | M14: 5052525
A15: سپرده کوتاه مدت بانک صادرات مستقل فردوسی | C15: 673697397257 | E15: -879723254 | G15: 674577120511 | I15: 981560499401 | K15: 18337024 | M15: 981542162377
A16: سپرده کوتاه مدت بانک ملت ولیعصر بهشتی | C16: 13313 | E16: 0 | G16: 13313 | I16: 78012 | K16: 0 | M16: 78012
A17: سپرده کوتاه مدت بانک شهر میدان شهدای مشهد | C17: 486147285019 | E17: 0 | G17: 486147285019 | I17: 2112022142641 | K17: 0 | M17: 2112022142641
A18: سپرده کوتاه مدت بانک رفاه مرکزی اصفهان | C18: 280554 | E18: 0 | G18: 280554 | I18: 46685787523 | K18: 0 | M18: 46685787523
A19: سپرده بلند مدت بانک تجارت اله وردی | C19: 247338131173 | E19: 1643030510 | G19: 245695100663 | I19: 249358188596 | K19: 1644733442 | M19: 247713455154
A20: جمع | C20: =SUM(C8:C19) -> 2844468265050 | E20: =SUM(E8:E19) -> 1368088853 | G20: =SUM(G8:G19) -> 2843100176197 | I20: =SUM(I8:I19) -> 12185078114324 | K20: =SUM(K8:K19) -> 5563489487 | M20: =SUM(M8:M19) -> 12179514624837

Sheet درآمد ناشی از فروش
A1: صندوق سرمایه گذاری آوای فردای زاگرس
A2: صورت وضعیت درآمدها
A3: برای ماه منتهی به 1405/05/31
A5: سود(زیان) حاصل از فروش اوراق بهادار
A6: شرح | C6: طی ماه | K6: از ابتدای سال مالی
C7: تعداد | E7: خالص بهای فروش | G7: ارزش دفتری | I7: سود و زیان ناشی از فروش | K7: تعداد | M7: خالص بهای فروش | O7: ارزش دفتری | Q7: سود و زیان ناشی از فروش
A8: ح . سرمایه‌گذاری‌ایران‌خودرو | C8: 24427180 | E8: 38717080300 | G8: =E8-I8 -> 29279936341 | I8: 9437143959 | K8: 24427181 | M8: 38717080301 | O8: =M8-Q8 -> 29279937540 | Q8: 9437142761
A9: تولیدی کوچین | C9: 3933785 | E9: 57809011404 | G9: =E9-I9 -> 27386091923 | I9: 30422919481 | K9: 3933785 | M9: 57809011404 | O9: =M9-Q9 -> 27386091923 | Q9: 30422919481
A10: کشت و صنعت شیفته آرای شرق | C10: 1707960 | E10: 20404880176 | G10: =E10-I10 -> 18794413406 | I10: 1610466770 | K10: 1707960 | M10: 20404880176 | O10: =M10-Q10 -> 18794413406 | Q10: 1610466770
A11: صندوق س.پشتوانه طلا دنای زاگرس | C11: 75461033 | E11: 5148658272966 | G11: =E11-I11 -> 5132762179695 | I11: 15896093271 | K11: 161775346 | M11: 11371672360293 | O11: =M11-Q11 -> 10848953432862 | Q11: 522718927431
A12: سرمایه گذاری کشاورزی کوثر | C12: 1400000 | E12: 105943082329 | G12: =E12-I12 -> 71491948360 | I12: 34451133969 | K12: 1400000 | M12: 105943082329 | O12: =M12-Q12 -> 71491948360 | Q12: 34451133969
A13: پاکدیس | C13: 213760 | E13: 2765883690 | G13: =E13-I13 -> 1749613770 | I13: 1016269920 | K13: 213760 | M13: 2765883690 | O13: =M13-Q13 -> 1749613770 | Q13: 1016269920
A14: صندوق س. سهام ثروت هامون-س | C14: 1000000 | E14: 24714071980 | G14: =E14-I14 -> 24243563104 | I14: 470508876 | K14: 1000000 | M14: 24714071980 | O14: =M14-Q14 -> 24243563104 | Q14: 470508876
A15: صندوق س.کالای کوروش | C15: 0 | E15: 0 | G15: =E15-I15 -> 0 | I15: 0 | K15: 2000000 | M15: 24145803289 | O15: =M15-Q15 -> 19845400000 | Q15: 4300403289
A16: صندوق س.کالای نوویرا1 | C16: 0 | E16: 0 | G16: =E16-I16 -> 0 | I16: 0 | K16: 5000000 | M16: 54934000271 | O16: =M16-Q16 -> 50133200000 | Q16: 4800800271
A17: پالایش نفت تهران | C17: 0 | E17: 0 | G17: =E17-I17 -> 0 | I17: 0 | K17: 1 | M17: 1 | O17: =M17-Q17 -> 3068 | Q17: -3067
A18: صندوق س.اعتبارسهام-سهام | C18: 0 | E18: 0 | G18: =E18-I18 -> 0 | I18: 0 | K18: 3240389 | M18: 203891581406 | O18: =M18-Q18 -> 178057188935 | Q18: 25834392471
A19: زامیاد | C19: 0 | E19: 0 | G19: =E19-I19 -> 0 | I19: 0 | K19: 2 | M19: 2 | O19: =M19-Q19 -> 4249 | Q19: -4247
... A29: گواهی اعتبارمولد ملی14050431 | C29: 0 | E29: 0 | G29: =E29-I29 -> 0 | I29: 0 | K29: 90000 | M29: 90000000000 | O29: =M29-Q29 -> 80083430943 | Q29: 9916569057
A30: جمع | C30: =SUM(C8:C29) -> 113143718 | E30: =SUM(E8:E29) -> 9552151606165 | G30: =SUM(G8:G29) -> 9404757746599 | I30: =SUM(I8:I29) -> 147393859566 | K30: =SUM(K8:K29) -> 281941753 | M30: =SUM(M8:M29) -> 28876792024328 | O30: =SUM(O8:O29) -> 27168985531273 | Q30: =SUM(Q8:R29) -> 1707806493055

Sheet درآمد ناشی از تغییر قیمت اوراق
A1: صندوق سرمایه گذاری آوای فردای زاگرس
A2: صورت وضعیت درآمدها
A3: برای ماه منتهی به 1405/05/31
A5: درآمد ناشی از تغییر قیمت اوراق بهادار
A6: شرح | C6: طی ماه | K6: از ابتدای سال مالی
C7: تعداد | E7: خالص ارزش فروش | G7: ارزش دفتری | I7: سود و زیان ناشی از تغییر قیمت | K7: تعداد | M7: خالص ارزش فروش | O7: ارزش دفتری | Q7: سود و زیان ناشی از تغییر قیمت
A8: زامیاد | C8: 290776219 | E8: 597831091009 | G8: =E8-I8 -> 586578478775 | I8: 11252612234 | K8: 290776219 | M8: 597831091009 | O8: =M8-Q8 -> 617739558807 | Q8: -19908467798
A9: پالایش نفت اصفهان | C9: 10000000 | E9: 112126510000 | G9: =E9-I9 -> 93471834000 | I9: 18654676000 | K9: 10000000 | M9: 112126510000 | O9: =M9-Q9 -> 90776076715 | Q9: 21350433285
A10: سیمان‌ تهران‌ | C10: 15500000 | E10: 184100814450 | G10: =E10-I10 -> 182716597801 | I10: 1384216649 | K10: 15500000 | M10: 184100814450 | O10: =M10-Q10 -> 122426272600 | Q10: 61674541850
A11: گسترش‌سرمایه‌گذاری‌ایران‌خودرو | C11: 130000000 | E11: 554162949600 | G11: =E11-I11 -> 596215352200 | I11: -42052402600 | K11: 130000000 | M11: 554162949600 | O11: =M11-Q11 -> 564353562500 | Q11: -10190612900
A12: سیمان‌ صوفیان‌ | C12: 300000 | E12: 47956409100 | G12: =E12-I12 -> 48938756400 | I12: -982347300 | K12: 300000 | M12: 47956409100 | O12: =M12-Q12 -> 37799533380 | Q12: 10156875720
A13: بانک ملت | C13: 71097005 | E13: 96579425032 | G13: =E13-I13 -> 78872021319 | I13: 17707403713 | K13: 71097005 | M13: 96579425032 | O13: =M13-Q13 -> 61587902156 | Q13: 34991522876
A14: پالایش نفت بندرعباس | C14: 20200000 | E14: 241528440700 | G14: =E14-I14 -> 222085902321 | I14: 19442538379 | K14: 20200000 | M14: 241528440700 | O14: =M14-Q14 -> 139104346760 | Q14: 102424093940
A15: بانک تجارت | C15: 107463221 | E15: 90637650756 | G15: =E15-I15 -> 56301975999 | I15: 34335674757 | K15: 107463221 | M15: 90637650756 | O15: =M15-Q15 -> 40087708000 | Q15: 50549942756
A16: صنایع پتروشیمی خلیج فارس | C16: 43750000 | E16: 416319281875 | G16: =E16-I16 -> 361186280001 | I16: 55133001874 | K16: 43750000 | M16: 416319281875 | O16: =M16-Q16 -> 449543836058 | Q16: -33224554183
A17: صندوق شاخص30 شرکت فیروزه- سهام | C17: 15185000 | E17: 459850211298 | G17: =E17-I17 -> 352830085030 | I17: 107020126268 | K17: 15185000 | M17: 459850211298 | O17: =M17-Q17 -> 300865329495 | Q17: 158984881803
A18: کشت‌ و صنعت‌ چین‌ چین | C18: 14808332 | E18: 59363208918 | G18: =E18-I18 -> 57906051773 | I18: 1457157145 | K18: 14808332 | M18: 59363208918 | O18: =M18-Q18 -> 57906051773 | Q18: 1457157145
A19: صندوق س.امین تدبیرگران فردا-س | C19: 4123020 | E19: 178856591107 | G19: =E19-I19 -> 172255771670 | I19: 6600819437 | K19: 4123020 | M19: 178856591107 | O19: =M19-Q19 -> 172255771670 | Q19: 6600819437
... A81: ظزامیا561 | C81: 290776221 | E81: 290555958 | G81: =E81-I81 -> 290555958 | I81: 0 | K81: 290776221 | M81: 290555958 | O81: =M81-Q81 -> 290555958 | Q81: 0
A82: جمع | C82: =SUM(C8:C81) -> 1695343585 | E82: =SUM(E8:E81) -> 68701549651543 | G82: =SUM(G8:G81) -> 68221441401557 | I82: =SUM(I8:I81) -> 480108249986 | K82: =SUM(K8:K81) -> 1695343585 | M82: =SUM(M8:M81) -> 68701549651543 | O82: =SUM(O8:O81) -> 67375743805292 | Q82: =SUM(Q8:R81) -> 1325805846251
