Workbook

Sheet صورت وضعیت
A1: صندوق سرمایه گذاری آوای فردای زاگرس
A2: صورت وضعیت پرتفوی
A3: برای ماه منتهی به 1405/06/31

Sheet سهام
A1: صندوق سرمایه گذاری آوای فردای زاگرس
A2: صورت وضعیت پرتفوی
A3: برای ماه منتهی به 1405/06/31
A4: -1 | B4: سرمایه گذاری ها
A5: -1-1 | C5: سرمایه گذاری در سهام و حق تقدم سهام
F6: 1405/05/31 | L6: تغییرات طی دوره | T6: 1405/06/31
L7: خرید طی دوره | P7: فروش طی دوره
A8: نام شرکت | E8: تعداد | H8: بهای تمام شده | J8: خالص ارزش فروش | L8: تعداد | N8: بهای تمام شده | P8: تعداد | R8: مبلغ فروش | T8: تعداد | V8: قیمت بازار هر سهم | X8: بهای تمام شده | Z8: خالص ارزش فروش | AB8: درصد به کل دارایی ها
A9: بانک تجارت | E9: 107463221 | H9: 61363035002 | J9: 9.0637651e+10 | L9: 0 | N9: 0 | P9: 0 | R9: 0 | T9: 107463221 | V9: 866 | X9: 61363035002 | Z9: 9.2343771e+10 | AB9: =Z9/$AF$9 -> 0.00043461661 | AF9: 212471794135568
A10: بانک ملت | E10: 71097005 | H10: 79561386387 | J10: 9.6579425e+10 | L10: 0 | N10: 0 | P10: 0 | R10: 0 | T10: 71097005 | V10: 1439 | X10: 79561386387 | Z10: 1.0151774e+11 | AB10: =Z10/$AF$9 -> 0.00047779398
A11: بورس کالای ایران | E11: 21379311 | H11: 107084514465 | J11: 1.9559353e+11 | L11: 0 | N11: 0 | P11: 0 | R11: 0 | T11: 21379311 | V11: 10850 | X11: 107084514465 | Z11: 230172430844 | AB11: =Z11/$AF$9 -> 0.0010833082
A12: پالایش نفت اصفهان | E12: 10000000 | H12: 90776076715 | J12: 112126510000 | L12: 0 | N12: 0 | P12: -10000000 | R12: 136437125679 | T12: 0 | V12: 0 | X12: 0 | Z12: 0 | AB12: =Z12/$AF$9 -> 0
A13: پالایش نفت بندرعباس | E13: 20200000 | H13: 157012355739 | J13: 241528440700 | L13: 0 | N13: 0 | P13: 0 | R13: 0 | T13: 20200000 | V13: 14690 | X13: 157012355739 | Z13: 294444215260 | AB13: =Z13/$AF$9 -> 0.0013858038
A14: پالایش نفت تهران | E14: 76000000 | H14: 292218524217 | J14: 412506484400 | L14: 0 | N14: 0 | P14: 0 | R14: 0 | T14: 76000000 | V14: 6370 | X14: 292218524217 | Z14: 480377752400 | AB14: =Z14/$AF$9 -> 0.0022609013
A15: سیمان‌ تهران‌ | E15: 15500000 | H15: 167973754896 | J15: 184100814450 | L15: 0 | N15: 0 | P15: 0 | R15: 0 | T15: 15500000 | V15: 13140 | X15: 167973754896 | Z15: 202095630900 | AB15: =Z15/$AF$9 -> 0.00095116451
A16: سیمان‌ صوفیان‌ | E16: 300000 | H16: 37535888558 | J16: 47956409100 | L16: 0 | N16: 0 | P16: 0 | R16: 0 | T16: 300000 | V16: 160900 | X16: 37535888558 | Z16: 47896872900 | AB16: =Z16/$AF$9 -> 0.00022542697
A17: صنایع پتروشیمی خلیج فارس | E17: 43750000 | H17: 449543836058 | J17: 416319281875 | L17: 0 | N17: 0 | P17: 0 | R17: 0 | T17: 43750000 | V17: 12440 | X17: 449543836058 | Z17: 540042947500 | AB17: =Z17/$AF$9 -> 0.0025417159
A18: نیان الکترونیک | E18: 21041043 | H18: 68123504230 | J18: 7.6414928e+10 | L18: 0 | N18: 0 | P18: -21041043 | R18: 78061911811 | T18: 0 | V18: 0 | X18: 0 | Z18: 0 | AB18: =Z18/$AF$9 -> 0
A19: کشت و صنعت شهداب ناب خراسان | E19: 100000000 | H19: 169346571492 | J19: 220780075000 | L19: 0 | N19: 0 | P19: 0 | R19: 0 | T19: 100000000 | V19: 2376 | X19: 169346571492 | Z19: 235763352000 | AB19: =Z19/$AF$9 -> 0.0011096219
A20: کشت‌ و صنعت‌ چین‌ چین | E20: 14808332 | H20: 57906051773 | J20: 5.9363209e+10 | L20: 2926406 | N20: 12176937991 | P20: 0 | R20: 0 | T20: 17734738 | V20: 4540 | X20: 70082989764 | Z20: 7.9893324e+10 | AB20: =Z20/$AF$9 -> 0.00037601849
A21: جمع | E21: =SUM(E9:F20) -> 501538912 | G21: =SUM(G9:G20) -> 0 | H21: =SUM(H9:H20) -> 1738445499532 | J21: =SUM(J9:J20) -> 2.1539068e+12 | L21: =SUM(L9:L20) -> 2926406 | N21: =SUM(N9:N20) -> 12176937991 | P21: =SUM(P9:P20) -> -31041043 | R21: =SUM(R9:R20) -> 214499037490 | T21: =SUM(T9:T20) -> 473424275 | X21: =SUM(X9:X20) -> 1591722856578 | Z21: =SUM(Z9:Z20) -> 2.304548e+12 | AB21: =SUM(AB9:AB20) -> 0.010846372

Sheet اوراق مشتقه
A1: صندوق سرمایه گذاری آوای فردای زاگرس
A2: صورت وضعیت پرتفوی
A3: برای ماه منتهی به 1405/06/31
A5: اطلاعات آماری مرتبط با اوراق اختیار فروش تبعی خریداری شده توسط صندوق سرمایه گذاری:
I6: 1405/05/31 | AC6: 1405/06/31
A8: نام سهام | I8: تعداد اوراق تبعی | M8: قیمت اعمال | Q8: تاریخ اعمال | W8: نرخ سود موثر | AC8: تعداد اوراق تبعی | AI8: قیمت اعمال | AM8: تاریخ اعمال | AQ8: نرخ سود موثر
A9: اختیارف ت خگستر-4304-05/06/03 | I9: 130000000 | M9: 4304 | Q9: 1405/06/03 | W9: 0.25390962 | AC9: 0 | AI9: 0 | AQ9: 0
A10: اختیارف ت خزامیا-2136-05/06/07 | I10: 290776219 | M10: 2136 | Q10: 1405/06/07 | W10: 0.2509428 | AC10: 0 | AI10: 0 | AQ10: 0
A11: اطلاعات آماری مرتبط با موقعیت های اخذ شده در اوراق اختیار معامله توسط صندوق سرمایه گذاری:
C12: 1405/05/31 | Y12: 1405/06/31
A13: نام سهام | C13: نوع اختیار | E13: نوع موقعیت | G13: استراتژی ماخوذه | K13: تعداد اوراق | O13: قیمت اعمال | S13: تاریخ اعمال | Y13: نوع اختیار | AE13: نوع موقعیت | AK13: استراتژی ماخوذه | AO13: تعداد اوراق | AS13: قیمت اعمال | AV13: تاریخ اعمال
A14: اختیارخ ت خگستر-4315-05/06/08 | C14: اختیار خرید | E14: موقعیت فروش | G14: - | K14: 145932569 | O14: 4315 | S14: 1405/06/08 | Y14: اختیار خرید | AE14: - | AK14: - | AO14: 0 | AS14: 0 | AV14: -
A15: اختیارخ ت خزامیا-2141-05/06/11 | C15: اختیار خرید | E15: موقعیت فروش | G15: - | K15: 290776221 | O15: 2086 | S15: 1405/06/11 | Y15: اختیار خرید | AE15: - | AK15: - | AO15: 0 | AS15: 0 | AV15: -
A16: اطلاعات آماری مرتبط با قراردادهای آتی توسط صندوق سرمایه گذاری:
C17: 1405/05/31 | O17: 1405/06/31
A18: نام سهام | C18: نوع موقعیت | E18: تعداد اوراق | G18: قیمت اعمال | K18: تاریخ اعمال | O18: نوع موقعیت | U18: تعداد اوراق | AA18: قیمت اعمال | AG18: تاریخ اعمال

Sheet واحدهای صندوق
A1: صندوق سرمایه گذاری آوای فردای زاگرس
A2: صورت وضعیت پرتفوی
A3: برای ماه منتهی به 1405/06/31
A5: -2-1 | B5: سرمایه‌گذاری در واحدهای صندوق های سرمایه گذاری
E6: 1405/05/31 | K6: تغییرات طی دوره | S6: 1405/06/31
K7: خرید/صدور طی دوره | O7: فروش/ابطال طی دوره
A8: صندوق | D8: تعداد واحد | G8: بهای تمام شده | I8: خالص ارزش فروش | K8: تعداد | M8: بهای تمام شده | O8: تعداد | Q8: مبلغ فروش | S8: تعداد | U8: قیمت ابطال / بازار هر واحد | W8: بهای تمام شده | Y8: خالص ارزش فروش | AA8: درصد به کل دارایی ها
A9: صندوق س آرمان آتی- بخشی | D9: 6900000 | G9: 70106907597 | I9: 228374128620 | K9: 0 | M9: 0 | O9: 0 | Q9: 0 | S9: 6900000 | U9: 31986 | W9: 70106907597 | Y9: 220195782180 | AA9: =Y9/سهام!$AF$9 -> 0.001036353
A10: صندوق س آوای تاراز زاگرس-سهام | D10: 19375024 | G10: 654242977501 | I10: 9.5415158e+11 | K10: 0 | M10: 0 | O10: 0 | Q10: 0 | S10: 19375024 | U10: 54570 | W10: 654242977501 | Y10: 1.0548633e+12 | AA10: =Y10/سهام!$AF$9 -> 0.0049647215
A11: صندوق س صنایع پاسارگاد1-بخشی | D11: 5000000 | G11: 50112250000 | I11: 49885000000 | K11: 0 | M11: 0 | O11: 0 | Q11: 0 | S11: 5000000 | U11: 10160 | W11: 50112250000 | Y11: 50683160000 | AA11: =Y11/سهام!$AF$9 -> 0.00023854065
A12: صندوق س صنایع پیشرفت صبا1-بخشی | D12: 5000000 | G12: 50112250000 | I12: 49885000000 | K12: 0 | M12: 0 | O12: 0 | Q12: 0 | S12: 5000000 | U12: 9620 | W12: 50112250000 | Y12: 47989370000 | AA12: =Y12/سهام!$AF$9 -> 0.00022586231
A13: صندوق س صنایع کارآمد1-بخشی | D13: 2000000 | G13: 20044900000 | I13: 19954000000 | K13: 0 | M13: 0 | O13: -2000000 | Q13: 20682235245 | S13: 0 | U13: 0 | W13: 0 | Y13: 0 | AA13: =Y13/سهام!$AF$9 -> 0
A14: صندوق س. ثروت آفرین پارسیان-س | D14: 400700 | G14: 121564190291 | I14: 2.0172418e+11 | K14: 0 | M14: 0 | O14: 0 | Q14: 0 | S14: 400700 | U14: 585000 | W14: 121564190291 | Y14: 233870358150 | AA14: =Y14/سهام!$AF$9 -> 0.0011007125
A15: صندوق س. جام سبز سهند-س | D15: 1000000 | G15: 12475945760 | I15: 15025362000 | K15: 0 | M15: 0 | O15: -1000000 | Q15: 15026290320 | S15: 0 | U15: 0 | W15: 0 | Y15: 0 | AA15: =Y15/سهام!$AF$9 -> 0
A16: صندوق س. سهام ثروت هامون-س | D16: 22037700 | G16: 541004869032 | I16: 5.6161428e+11 | K16: 13950000 | M16: 401187084959 | O16: 0 | Q16: 0 | S16: 35987700 | U16: 29100 | W16: 942191953991 | Y16: 1044833413239 | AA16: =Y16/سهام!$AF$9 -> 0.0049175158
A17: صندوق س. سهامی اکسیژن-س | D17: 1500000 | G17: 51941347125 | I17: 51556147500 | K17: 0 | M17: 0 | O17: 0 | Q17: 0 | S17: 1500000 | U17: 39600 | W17: 51941347125 | Y17: 59263380000 | AA17: =Y17/سهام!$AF$9 -> 0.00027892352
A18: صندوق س.امتیاز اول-س | D18: 5000000 | G18: 50112250000 | I18: 79816000000 | K18: 0 | M18: 0 | O18: 0 | Q18: 0 | S18: 5000000 | U18: 19770 | W18: 50112250000 | Y18: 98622645000 | AA18: =Y18/سهام!$AF$9 -> 0.00046416818
A19: صندوق س.امین تدبیرگران فردا-س | D19: 4123020 | G19: 172255771670 | I19: 1.7885659e+11 | K19: 0 | M19: 0 | O19: 0 | Q19: 0 | S19: 4123020 | U19: 48291 | W19: 172255771670 | Y19: 1.9864682e+11 | AA19: =Y19/سهام!$AF$9 -> 0.00093493265
A20: صندوق س.بخشی زمرد نو ویرا1-ب | D20: 18000000 | G20: 200321470650 | I20: 241363584000 | K20: 0 | M20: 0 | O20: 0 | Q20: 0 | S20: 18000000 | U20: 16199 | W20: 200321470650 | Y20: 290911361400 | AA20: =Y20/سهام!$AF$9 -> 0.0013691764
... A43: صندوق س راه نو ره سود-سهام | D43: 0 | G43: 0 | I43: 0 | K43: 10000000 | M43: 100224500000 | O43: 0 | Q43: 0 | S43: 10000000 | U43: 10000 | W43: 100224500000 | Y43: 99770000000 | AA43: =Y43/سهام!$AF$9 -> 0.00046956821
A44: جمع | D44: =SUM(D9:E43) -> 274499845 | G44: =SUM(G9:G43) -> 10399163488516 | I44: =SUM(I9:I43) -> 1.282117e+13 | K44: =SUM(K9:K43) -> 91946155 | M44: =SUM(M9:M43) -> 4394707203584 | O44: =SUM(O9:O43) -> -29224410 | Q44: =SUM(Q9:Q43) -> 1945444600811 | S44: =SUM(S9:S43) -> 337221590 | W44: =SUM(W9:W43) -> 13046474514622 | Y44: =SUM(Y9:Y43) -> 1.6981826e+13 | AA44: =SUM(AA9:AA43) -> 0.079925084

Sheet اوراق
A1: صندوق سرمایه گذاری آوای فردای زاگرس
A2: صورت وضعیت پرتفوی
A3: برای ماه منتهی به 1405/06/31
A5: -3-1 | B5: سرمایه‌گذاری در اوراق بهادار با درآمد ثابت یا علی‌الحساب
A6: اطلاعات اوراق با درآمد ثابت | P6: 1405/05/31 | V6: تغییرات طی دوره | AD6: 1405/06/31
V7: خرید طی دوره | Z7: فروش طی دوره
A8: نام اوراق | D8: دارای مجوز از سازمان | F8: پذیرفته شده در بورس یا فرابورس | H8: تاریخ انتشار اوراق | J8: تاریخ سررسید | L8: نرخ سود اسمی | N8: نرخ سود موثر | P8: تعداد | R8: بهای تمام شده | T8: خالص ارزش فروش | V8: تعداد | X8: بهای تمام شده | Z8: تعداد | AB8: مبلغ فروش | AD8: تعداد | AF8: قیمت بازار هر سهم | AH8: بهای تمام شده | AJ8: خالص ارزش فروش | AL8: درصد به کل دارایی ها
A9: سلف موازی هیدروکربن آفتاب061 | D9: بله | F9: بله | H9: 1404/02/03 | J9: 1406/02/03 | L9: 24.16 | N9: 24.16 | P9: 766100 | R9: 3001257612300 | T9: 3923079028054 | V9: 0 | X9: 0 | Z9: 0 | AB9: 0 | AD9: 766100 | AF9: 5203720 | AH9: 3001257612300 | AJ9: 3983679628828 | AL9: =AJ9/سهام!$AF$9 -> 0.018749216
A10: اجاره تابان فردا زاگرس14070603 | D10: بله | F10: بله | H10: 1404/06/03 | J10: 1407/06/03 | L10: 23 | N10: 23 | P10: 1000000 | R10: 1000000000000 | T10: 999456250000 | V10: 0 | X10: 0 | Z10: 0 | AB10: 0 | AD10: 1000000 | AF10: 900000 | AH10: 1000000000000 | AJ10: 899510625000 | AL10: =AJ10/سهام!$AF$9 -> 0.0042335531
A11: اجاره تابان فردادماوند14080220 | D11: بله | F11: بله | H11: 1404/02/20 | J11: 1408/02/20 | L11: 23 | N11: 23 | P11: 7100000 | R11: 6926607870750 | T11: 7096139375000 | V11: 0 | X11: 0 | Z11: 0 | AB11: 0 | AD11: 7100000 | AF11: 900000 | AH11: 6926607870750 | AJ11: 6386525437500 | AL11: =AJ11/سهام!$AF$9 -> 0.030058227
A12: اجاره توان آفرین ساز 14070216 | D12: بله | F12: بله | H12: 1403/02/16 | J12: 1407/02/16 | L12: 2 | N12: 2 | P12: 1800000 | R12: 1755984000000 | T12: 1754909248950 | V12: 0 | X12: 0 | Z12: 0 | AB12: 0 | AD12: 1800000 | AF12: 1000000 | AH12: 1755984000000 | AJ12: 1799021250000 | AL12: =AJ12/سهام!$AF$9 -> 0.0084671062
A13: اسنادخزانه-م10بودجه02-051112 | D13: بله | F13: بله | H13: 1402/12/21 | J13: 1405/11/12 | L13: 0 | N13: 0 | P13: 50614 | R13: 27267185070 | T13: 43601497667 | V13: 0 | X13: 0 | Z13: 0 | AB13: 0 | AD13: 50614 | AF13: 794934 | AH13: 27267185070 | AJ13: 40212911809 | AL13: =AJ13/سهام!$AF$9 -> 0.00018926235
A14: مرابحه عام دولت 165-ش.خ051212 | D14: بله | F14: بله | H14: 1403/04/12 | J14: 1405/12/12 | L14: 23 | N14: 23 | P14: 5000 | R14: 4500815625 | T14: 4746167867 | V14: 0 | X14: 0 | Z14: 0 | AB14: 0 | AD14: 5000 | AF14: 854775 | AH14: 4500815625 | AJ14: 4271551080 | AL14: =AJ14/سهام!$AF$9 -> 2.0104085e-05
A15: مرابحه عام دولت116-ش.خ060630 | D15: بله | F15: بله | H15: 1401/06/30 | J15: 1406/06/30 | L15: 18 | N15: 18 | P15: 225000 | R15: 169126661999 | T15: 184734745832 | V15: 0 | X15: 0 | Z15: 0 | AB15: 0 | AD15: 225000 | AF15: 761517 | AH15: 169126661999 | AJ15: 171248158154 | AL15: =AJ15/سهام!$AF$9 -> 0.00080598067
A16: مرابحه عام دولت191-ش.خ060328 | D16: بله | F16: بله | H16: 1403/09/28 | J16: 1406/03/28 | L16: 23 | N16: 23 | P16: 1579612 | R16: 1499999555200 | T16: 1405563872443 | V16: 0 | X16: 0 | Z16: 0 | AB16: 0 | AD16: 1579612 | AF16: 825084 | AH16: 1499999555200 | AJ16: 1302603911188 | AL16: =AJ16/سهام!$AF$9 -> 0.0061307145
A17: مرابحه عام دولت206-ش.خ051114 | D17: بله | F17: بله | H17: 1403/12/14 | J17: 1405/11/14 | L17: 23 | N17: 23 | P17: 347720 | R17: 318223572190 | T17: 325619102286 | V17: 0 | X17: 0 | Z17: 0 | AB17: 0 | AD17: 347720 | AF17: 864585 | AH17: 318223572190 | AJ17: 300470026736 | AL17: =AJ17/سهام!$AF$9 -> 0.0014141643
A18: مرابحه عام دولت228-ش.خ070521 | D18: بله | F18: بله | H18: 1404/05/21 | J18: 1407/05/21 | L18: 23 | N18: 23 | P18: 5000 | R18: 4221597081 | T18: 4204412606 | V18: 0 | X18: 0 | Z18: 0 | AB18: 0 | AD18: 5000 | AF18: 734463 | AH18: 4221597081 | AJ18: 3670318178 | AL18: =AJ18/سهام!$AF$9 -> 1.7274378e-05
A19: مرابحه عام دولت250-ش.خ070205 | D19: بله | F19: بله | H19: 1404/09/05 | J19: 1407/02/05 | L19: 23 | N19: 23 | P19: 583960 | R19: 553010120000 | T19: 497479333645 | V19: 0 | X19: 0 | Z19: 0 | AB19: 0 | AD19: 583960 | AF19: 754740 | AH19: 553010120000 | AJ19: 440498319128 | AL19: =AJ19/سهام!$AF$9 -> 0.0020732085
A20: مرابحه عام دولت253-ش.خ070311 | D20: بله | F20: بله | H20: 1404/09/11 | J20: 1407/03/11 | L20: 23 | N20: 23 | P20: 123150 | R20: 117004815000 | T20: 113013613915 | V20: 0 | X20: 0 | Z20: 0 | AB20: 0 | AD20: 123150 | AF20: 801585 | AH20: 117004815000 | AJ20: 98661516363 | AL20: =AJ20/سهام!$AF$9 -> 0.00046435112
... A41: شهرداری مشهد | D41: خیر | F41: خیر | H41: 1403/12/28 | J41: 1407/12/28 | L41: 23 | N41: 23 | P41: 7000000 | R41: 7000000000000 | T41: 7000000000000 | V41: 0 | X41: 0 | Z41: 7000000 | AB41: 7000000000000 | AD41: 0 | AF41: 1000000 | AH41: 0 | AJ41: 0 | AL41: =AJ41/سهام!$AF$9 -> 0
A42: زامیاد | D42: - | F42: - | H42: - | J42: - | L42: - | N42: - | P42: 290776219 | R42: 501711699488 | T42: 5.9783109e+11 | V42: 0 | X42: 0 | Z42: 0 | AB42: 0 | AD42: 0 | AF42: 0 | AH42: 0 | AJ42: 0 | AL42: =AJ42/سهام!$AF$9 -> 0
A43: گسترش‌سرمایه‌گذاری‌ایران‌خودرو | F43: - | H43: - | J43: - | L43: - | N43: - | P43: 130000000 | R43: 442198029616 | T43: 554162949600 | V43: 0 | X43: 0 | Z43: 0 | AB43: 0 | AD43: 0 | AF43: 0 | AH43: 0 | AJ43: 0 | AL43: =AJ43/سهام!$AF$9 -> 0
A44: جمع | P44: =SUM(P9:P43) -> 502596038 | R44: =SUM(R9:R43) -> 77834040679996 | T44: =SUM(T9:T43) -> 7.3726037e+13 | V44: =SUM(V9:V43) -> 17000000 | X44: =SUM(X9:X43) -> 24718594172400 | Z44: =SUM(Z9:Z43) -> 27800000 | AB44: =SUM(AB9:AB43) -> 25309980000000 | AD44: =SUM(AD9:AD43) -> 71019819 | AH44: =SUM(AH9:AH43) -> 75695406364005 | AJ44: =SUM(AJ9:AJ43) -> 70939603537512 | AL44: =SUM(AL9:AL43) -> 0.33387775

Sheet تعدیل قیمت
A1: صندوق سرمایه گذاری آوای فردای زاگرس
A2: صورت وضعیت پرتفوی
A3: برای ماه منتهی به 1405/06/31
A4: اوراق بهاداری که ارزش آنها در تاریخ گزارش تعدیل شده
A5: (بر اساس دستورالعمل نحوه تعیین قیمت خرید و فروش اوراق بهادار در صندوق های سرمایه گذاری)
C7: 1405/06/31
A8: نام اوراق بهادار | C8: تعداد | E8: قیمت پایانی | G8: قیمت تعدیل شده | I8: درصد تعدیل | K8: خالص ارزش فروش تعدیل شده | M8: دلیل تعدیل
A9: مرابحه عام دولت116-ش.خ060630 | C9: 225000 | E9: 846130 | G9: 761517 | I9: -10.00% | K9: 171248158154 | M9: سایر
A10: اسنادخزانه-م10بودجه02-051112 | C10: 50614 | E10: 883260 | G10: 794934 | I10: -10.00% | K10: 40212911809 | M10: سایر
A11: مرابحه عام دولت 165-ش.خ051212 | C11: 5000 | E11: 949750 | G11: 854775 | I11: -10.00% | K11: 4271551080 | M11: سایر
A12: مرابحه عام دولت191-ش.خ060328 | C12: 1579612 | E12: 916760 | G12: 825084 | I12: -10.00% | K12: 1302603911188 | M12: سایر
A13: مرابحه عام دولت206-ش.خ051114 | C13: 347720 | E13: 960650 | G13: 864585 | I13: -10.00% | K13: 300470026736 | M13: سایر
A14: سلف موازی هیدروکربن آفتاب061 | C14: 766100 | E14: 5203720.1 | G14: 5203720 | I14: 0.00% | K14: 3983679628828 | M14: سایر
A15: اجاره تابان فردادماوند14080220 | C15: 7100000 | E15: 1000000 | G15: 900000 | I15: -10.00% | K15: 6386525437500 | M15: سایر
A16: مرابحه عام دولت228-ش.خ070521 | C16: 5000 | E16: 816070 | G16: 734463 | I16: -10.00% | K16: 3670318178 | M16: سایر
A17: اجاره تابان فردا زاگرس14070603 | C17: 1000000 | E17: 1000000 | G17: 900000 | I17: -10.00% | K17: 899510625000 | M17: سایر
A18: مرابحه عام دولت250-ش.خ070205 | C18: 583960 | E18: 838600 | G18: 754740 | I18: -10.00% | K18: 440498319128 | M18: سایر
A19: مرابحه عام دولت254-ش.خ070911 | C19: 108332 | E19: 781900 | G19: 703710 | I19: -10.00% | K19: 76192859313 | M19: سایر
A20: مرابحه عام دولت253-ش.خ070311 | C20: 123150 | E20: 890650 | G20: 801585 | I20: -10.00% | K20: 98661516363 | M20: سایر
... A33: سلف موازی متانول سبلان061 | C33: 2000000 | E33: 5026775.3 | G33: 4853429 | I33: -3.45% | K33: 9699820527950 | M33: سایر
A34: جمع | C34: =SUM(C9:C33) -> 47524819 | K34: =SUM(K9:K33) -> 47453604767962

Sheet سپرده
A1: صندوق سرمایه گذاری آوای فردای زاگرس
A2: صورت وضعیت پرتفوی
A3: برای ماه منتهی به 1405/06/31
A5: -4-1 | B5: سرمایه‌گذاری در سپرده‌ بانکی
D6: 1405/05/31 | F6: تغییرات طی دوره | J6: 1405/06/31
A8: سپرده های بانکی | D8: مبلغ | F8: افزایش | H8: کاهش | J8: مبلغ | L8: درصد به کل دارایی ها
A9: سپرده کوتاه مدت بانک پاسارگاد جهان کودک | D9: 4164813665664 | F9: 54463951064439 | H9: 33514288732281 | J9: 25114475997822 | L9: =J9/[1]سهام!$AF$6 -> 0.11820146
A10: حساب جاری بانک آینده بلوار دریا | D10: 35378 | F10: 0 | H10: 0 | J10: 35378 | L10: =J10/[1]سهام!$AF$6 -> 1.6650681e-10
A11: سپرده کوتاه مدت بانک دی فرشته | D11: 35487934421222 | F11: 17431657929871 | H11: 36076152346312 | J11: 16843440004781 | L11: =J11/[1]سهام!$AF$6 -> 0.079273769
A12: سپرده کوتاه مدت بانک گردشگری میدان سرو | D12: 36210099848171 | F12: 23161188783563 | H12: 24372276342808 | J12: 34999012288926 | L12: =J12/[1]سهام!$AF$6 -> 0.1647231
A13: سپرده کوتاه مدت موسسه اعتباری ملل جنت آباد | D13: 3319928 | F13: 14098 | H13: 0 | J13: 3334026 | L13: =J13/[1]سهام!$AF$6 -> 1.5691617e-08
A14: سپرده کوتاه مدت بانک اقتصاد نوین غدیر | D14: 101274858 | F14: 9142 | H14: 7400533 | J14: 93883467 | L14: =J14/[1]سهام!$AF$6 -> 4.418632e-07
A15: سپرده کوتاه مدت بانک سامان جام جم | D15: 496694 | F15: 0 | H15: 0 | J15: 496694 | L15: =J15/[1]سهام!$AF$6 -> 2.3376938e-09
A16: سپرده کوتاه مدت بانک خاورمیانه بخارست | D16: 2676781886 | F16: 33278670095771 | H16: 33280872685481 | J16: 474192176 | L16: =J16/[1]سهام!$AF$6 -> 2.2317888e-06
A17: قرض الحسنه بانک تجارت نفت شمالی | D17: 10726831703240 | F17: 21976733767450 | H17: 22961571455000 | J17: 9741994015690 | L17: =J17/[1]سهام!$AF$6 -> 0.045850764
A18: سپرده کوتاه مدت بانک صادرات مستقل فردوسی | D18: 37231633737938 | F18: 18243422136419 | H18: 28404899242520 | J18: 27070156631837 | L18: =J18/[1]سهام!$AF$6 -> 0.12740588
A19: سپرده کوتاه مدت بانک مسکن مستقل مرکزی | D19: 174028 | F19: 0 | H19: 174028 | J19: 0 | L19: =J19/[1]سهام!$AF$6 -> 0
A20: سپرده کوتاه مدت بانک ملت ولیعصر بهشتی | D20: 3161742 | F20: 0 | H20: 3161742 | J20: 0 | L20: =J20/[1]سهام!$AF$6 -> 0
... A22: سپرده کوتاه مدت بانک رفاه مرکزی اصفهان | D22: 66346719 | F22: 280554 | H22: 0 | J22: 66627273 | L22: =J22/[1]سهام!$AF$6 -> 3.1358173e-07
A23: جمع | D23: =SUM(D9:D22) -> 142396595224231 | F23: =SUM(F9:F22) -> 168555624092342 | H23: =SUM(H9:H22) -> 178610072170705 | J23: =SUM(J9:J22) -> 132342147145868 | L23: =SUM(L9:L22) -> 0.62286925

Sheet درآمد
A1: صندوق سرمایه گذاری آوای فردای زاگرس
A2: صورت وضعیت درآمدها
A3: برای ماه منتهی به 1405/06/31
A5: -2 | B5: درآمد حاصل از سرمایه گذاری ها
A7: شرح | D7: یادداشت | F7: مبلغ | H7: درصد از کل درآمدها | J7: درصد از کل دارایی ها
A8: درآمد حاصل از سرمایه گذاری در سهام و حق تقدم سهام | D8: 1-2 | F8: ='درآمد سرمایه گذاری در سهام'!U27 -> 1146170287432 | H8: =F8/$F$13 -> 0.038013718 | J8: =F8/سهام!$AF$9 -> 0.0053944586
A9: درآمد حاصل از سرمایه گذاری در واحدهای صندوق های سرمایه گذاری | D9: 2-2 | F9: ='درآمد سرمایه گذاری در صندوق'!U47 -> 4452798659978 | H9: =F9/$F$13 -> 0.14768087 | J9: =F9/سهام!$AF$9 -> 0.020957128
A10: درآمد حاصل از سرمایه گذاری در اوراق بهادار با درآمد ثابت | D10: 3-2 | F10: ='درآمد سرمایه گذاری در اوراق به'!V48 -> 8584178811716 | H10: =F10/$F$13 -> 0.28470163 | J10: =F10/سهام!$AF$9 -> 0.040401498
A11: درآمد حاصل از سرمایه گذاری در سپرده بانکی و گواهی سپرده | D11: 4-2 | F11: ='درآمد سپرده بانکی'!F20 -> 15945743735677 | H11: =F11/$F$13 -> 0.52885422 | J11: =F11/سهام!$AF$9 -> 0.075048756
A12: سایر درآمدها | D12: 5-2 | F12: ='سایر درآمدها'!F11 -> 22600154024 | H12: =F12/$F$13 -> 0.00074955343 | J12: =F12/سهام!$AF$9 -> 0.00010636778
A13: جمع | F13: =SUM(F8:F12) -> 30151491648827 | H13: =SUM(H8:H12) -> 1 | J13: =SUM(J8:J12) -> 0.14190821

Sheet درآمد سرمایه گذاری در سهام
A1: صندوق سرمایه گذاری آوای فردای زاگرس
A2: صورت وضعیت درآمدها
A3: برای ماه منتهی به 1405/06/31
A5: -1-2 | B5: درآمد حاصل از سرمایه­گذاری در سهام و حق تقدم سهام
D6: طی ماه | N6: از ابتدای سال مالی
J7: جمع | U7: جمع
A8: سهام | D8: درآمد سود سهام | F8: درآمد تغییر ارزش | H8: درآمد فروش | J8: مبلغ | L8: درصد از کل درآمدها | N8: درآمد سود سهام | P8: درآمد تغییر ارزش | S8: درآمد فروش | U8: مبلغ | W8: درصد از کل درآمدها
A9: نیان الکترونیک | D9: 0 | F9: -8291424169 | H9: 10546526150 | J9: =D9+F9+H9 -> 2255101981 | L9: 0.15 | N9: 8942443275 | P9: 0 | S9: 10546526150 | U9: =N9+P9+S9 -> 19488969425 | W9: =U9/درآمد!$F$13 -> 0.00064636833
A10: پالایش نفت اصفهان | D10: 0 | F10: -21350433285 | H10: 46723923285 | J10: =D10+F10+H10 -> 25373490000 | L10: 0.69 | N10: 7400000000 | P10: 0 | S10: 46723923285 | U10: =N10+P10+S10 -> 54123923285 | W10: =U10/درآمد!$F$13 -> 0.0017950662
A11: نیان باتری خاوران | D11: 0 | F11: 0 | H11: 0 | J11: =D11+F11+H11 -> 0 | L11: 0 | N11: 0 | P11: 0 | S11: 6261935250 | U11: =N11+P11+S11 -> 6261935250 | W11: =U11/درآمد!$F$13 -> 0.00020768244
A12: کشت و صنعت شیفته آرای شرق | D12: 0 | F12: 0 | H12: 0 | J12: =D12+F12+H12 -> 0 | L12: 0 | N12: 853980000 | P12: 0 | S12: 1769424994 | U12: =N12+P12+S12 -> 2623404994 | W12: =U12/درآمد!$F$13 -> 8.700747e-05
A13: پاکدیس | D13: 0 | F13: 0 | H13: 0 | J13: =D13+F13+H13 -> 0 | L13: 0 | N13: 290000000 | P13: 0 | S13: 1037816630 | U13: =N13+P13+S13 -> 1327816630 | W13: =U13/درآمد!$F$13 -> 4.4038174e-05
A14: تولیدی کوچین | D14: 0 | F14: 0 | H14: 0 | J14: =D14+F14+H14 -> 0 | L14: 0 | N14: 1066055735 | P14: 0 | S14: 30873263927 | U14: =N14+P14+S14 -> 31939319662 | W14: =U14/درآمد!$F$13 -> 0.0010592948
A15: پالایش نفت تهران | D15: 0 | F15: 67871268000 | H15: 0 | J15: =D15+F15+H15 -> 67871268000 | L15: 1.03 | N15: 36480000000 | P15: 206018546693 | S15: -3067 | U15: =N15+P15+S15 -> 242498543626 | W15: =U15/درآمد!$F$13 -> 0.0080426715
A16: سرمایه گذاری کشاورزی کوثر | D16: 0 | F16: 0 | H16: 0 | J16: =D16+F16+H16 -> 0 | L16: 0 | N16: 0 | P16: 0 | S16: 35276453410 | U16: =N16+P16+S16 -> 35276453410 | W16: =U16/درآمد!$F$13 -> 0.0011699737
A17: بانک ملت | D17: 0 | F17: 4938319760 | H17: 0 | J17: =D17+F17+H17 -> 4938319760 | L17: 0.08 | N17: 3270462230 | P17: 39929842636 | S17: -866 | U17: =N17+P17+S17 -> 43200304000 | W17: =U17/درآمد!$F$13 -> 0.001432775
A18: گروه مالی نماد غدیر(سهامی عام) | D18: 0 | F18: 0 | H18: 0 | J18: =D18+F18+H18 -> 0 | L18: 0 | N18: 0 | P18: 0 | S18: 13498796491 | U18: =N18+P18+S18 -> 13498796491 | W18: =U18/درآمد!$F$13 -> 0.00044769913
A19: سیمان‌ تهران‌ | D19: 0 | F19: 17994816450 | H19: 0 | J19: =D19+F19+H19 -> 17994816450 | L19: 0.27 | N19: 23715000000 | P19: 79669358300 | S19: 0 | U19: =N19+P19+S19 -> 103384358300 | W19: =U19/درآمد!$F$13 -> 0.0034288306
A20: سیمان‌ صوفیان‌ | D20: 0 | F20: -59536200 | H20: 0 | J20: =D20+F20+H20 -> -59536200 | L20: 0 | N20: 8220000000 | P20: 10097339520 | S20: 0 | U20: =N20+P20+S20 -> 18317339520 | W20: =U20/درآمد!$F$13 -> 0.00060751023
... A26: کشت‌ و صنعت‌ چین‌ چین | D26: 0 | F26: 8353177168 | H26: 0 | J26: =D26+F26+H26 -> 8353177168 | L26: 0.13 | N26: 0 | P26: 9810334313 | S26: 0 | U26: =N26+P26+S26 -> 9810334313 | W26: =U26/درآمد!$F$13 -> 0.00032536813
A27: جمع | D27: =SUM(D9:D26) -> 29250000000 | F27: =SUM(F9:F26) -> 297363925143 | H27: =SUM(H9:H26) -> 57270449435 | J27: =SUM(J9:J26) -> 383884374578 | L27: =SUM(L9:L26) -> 6.26 | N27: =SUM(N9:N26) -> 149772910229 | Q27: =SUM(P9:Q26) -> 850409240999 | S27: =SUM(S9:S26) -> 145988136204 | U27: =SUM(U9:U26) -> 1146170287432 | W27: =SUM(W9:W26) -> 0.038013718

Sheet درآمد سرمایه گذاری در صندوق
A1: صندوق سرمایه گذاری آوای فردای زاگرس
A2: صورت وضعیت درآمدها
A3: برای ماه منتهی به 1405/06/31
A5: -2-2 | B5: درآمد حاصل از سرمایه­گذاری در واحدهای صندوق
D6: طی ماه | N6: از ابتدای سال مالی
J7: جمع | U7: جمع
A8: صندوق | D8: درآمد سود صندوق | F8: درآمد تغییر ارزش | H8: درآمد فروش | J8: مبلغ | L8: درصد از کل درآمدها | N8: درآمد سود صندوق | P8: درآمد تغییر ارزش | S8: درآمد فروش | U8: مبلغ | W8: درصد از کل درآمدها
A9: صندوق س.موج گستر ثروت-س | D9: 0 | F9: -18325778463 | H9: 23018085093 | J9: 4574647625 | L9: 0.07 | N9: 0 | P9: 827068437 | S9: 23018085093 | U9: =N9+P9+S9 -> 23845153530 | W9: =U9/درآمد!$F$13 -> 0.0007908449
A10: صندوق س.پشتوانه طلا دنای زاگرس | D10: 0 | F10: 323603724517 | H10: 167535451178 | J10: 488939461967 | L10: 7.43 | N10: 0 | P10: 486193846818 | S10: 703916775603 | U10: =N10+P10+S10 -> 1190110622421 | W10: =U10/درآمد!$F$13 -> 0.039471036
A11: صندوق س. جام سبز سهند-س | D11: 0 | F11: -2549416240 | H11: 2584984646 | J11: 2550344560 | L11: 0.04 | N11: 0 | P11: 0 | S11: 2584984646 | U11: =N11+P11+S11 -> 2584984646 | W11: =U11/درآمد!$F$13 -> 8.5733226e-05
A12: صندوق س.کالای سینا | D12: 0 | F12: -6096617600 | H12: 7810872345 | J12: 7777470919 | L12: 0.12 | N12: 0 | P12: 0 | S12: 7810872345 | U12: =N12+P12+S12 -> 7810872345 | W12: =U12/درآمد!$F$13 -> 0.00025905426
A13: صندوق س صنایع کارآمد1-بخشی | D13: 0 | F13: 90900000 | H13: 685013985 | J13: 637335245 | L13: 0.01 | N13: 0 | P13: 0 | S13: 685013985 | U13: =N13+P13+S13 -> 685013985 | W13: =U13/درآمد!$F$13 -> 2.2719074e-05
A14: صندوق س.اعتبارسهام-سهام | D14: 0 | F14: 0 | H14: 0 | J14: 0 | L14: 0 | N14: 0 | P14: 0 | S14: 26304424128 | U14: =N14+P14+S14 -> 26304424128 | W14: =U14/درآمد!$F$13 -> 0.00087240872
A15: صندوق س.کالای نوویرا1 | D15: 0 | F15: 0 | H15: 0 | J15: 0 | L15: 0 | N15: 0 | P15: 0 | S15: 4866800000 | U15: =N15+P15+S15 -> 4866800000 | W15: =U15/درآمد!$F$13 -> 0.00016141158
A16: صندوق س. سهام ثروت هامون-س | D16: 0 | F16: 82032047814 | H16: 0 | J16: 82032047814 | L16: 1.25 | N16: 0 | P16: 102641459248 | S16: 527482269 | U16: =N16+P16+S16 -> 103168941517 | W16: =U16/درآمد!$F$13 -> 0.0034216862
A17: صندوق س.کالای کوروش | D17: 0 | F17: 0 | H17: 0 | J17: 0 | L17: 0 | N17: 0 | P17: 0 | S17: 4488504133 | U17: =N17+P17+S17 -> 4488504133 | W17: =U17/درآمد!$F$13 -> 0.00014886508
A18: صندوق س آوای تاراز زاگرس-سهام | D18: 0 | F18: 100711704127 | H18: 0 | J18: 100711704127 | L18: 1.53 | N18: 0 | P18: 424925169293 | S18: 46926550471 | U18: =N18+P18+S18 -> 471851719764 | W18: =U18/درآمد!$F$13 -> 0.015649366
A19: صندوق س.امین تدبیرگران فردا-س | D19: 0 | F19: 19790226767 | H19: 0 | J19: 19790226767 | L19: 0.3 | N19: 0 | P19: 26391046204 | S19: 0 | U19: =N19+P19+S19 -> 26391046204 | W19: =U19/درآمد!$F$13 -> 0.00087528161
A20: صندوق شاخص30 شرکت فیروزه- سهام | D20: 0 | F20: 107171627013 | H20: 0 | J20: 107171627013 | L20: 1.63 | N20: 0 | P20: 266156508816 | S20: 0 | U20: =N20+P20+S20 -> 266156508816 | W20: =U20/درآمد!$F$13 -> 0.0088273082
... A46: صندوق س.بخشی داریوش5-ب | D46: 0 | F46: -227250000 | H46: 0 | J46: -227249999 | L46: 0 | N46: 0 | P46: -227250000 | S46: 0 | U46: =N46+P46+S46 -> -227250000 | W46: =U46/درآمد!$F$13 -> -7.5369405e-06
A47: جمع | D47: 0 | F47: =SUM(F9:F46) -> 1512192302285 | H47: =SUM(H9:H46) -> 201634407247 | J47: =SUM(J9:J46) -> 1719948790393 | L47: =SUM(L9:L46) -> 26.16 | N47: =SUM(N9:N46) -> 20737178512 | Q47: =SUM(P9:Q46) -> 3610931988793 | S47: =SUM(S9:S46) -> 821129492673 | U47: =SUM(U9:U46) -> 4452798659978 | W47: =SUM(W9:W46) -> 0.14768087

Sheet درآمد سرمایه گذاری در اوراق به
A1: صندوق سرمایه گذاری آوای فردای زاگرس
A2: صورت وضعیت درآمدها
A3: برای ماه منتهی به 1405/06/31
A5: -3-2 | B5: درآمد حاصل از سرمایه­گذاری در اوراق بهادار با درآمد ثابت:
D6: طی ماه | N6: از ابتدای سال مالی
A8: عنوان | D8: درآمد سود اوراق | F8: درآمد تغییر ارزش | H8: درآمد تعهد پذیره نویسی | J8: درآمد فروش | L8: جمع | N8: درآمد سود اوراق | P8: درآمد تغییر ارزش | R8: درآمد تعهد پذیره نویسی | T8: درآمد فروش | V8: جمع
A9: مرابحه عام دولت260-ش.خ071002 | D9: 361451227916 | F9: 545965400641 | H9: 0 | J9: 309780991737 | L9: 1242655620294 | N9: 2015075114719 | P9: -583118716381 | R9: 0 | T9: 354848372703 | V9: =N9+P9+T9+R9 -> 1786804771041
A10: مرابحه عام دولت273-ش.خ071128 | D10: 79842155511 | F10: -204468862443 | H10: 0 | J10: 149807167454 | L10: 48440460523 | N10: 458823553113 | P10: -11408097936 | R10: 0 | T10: 149807167454 | V10: =N10+P10+T10+R10 -> 597222622631
A11: گواهی اعتبارمولد ملی14050331 | D11: 0 | F11: 0 | H11: 0 | J11: 0 | L11: 0 | N11: 0 | P11: 0 | R11: 0 | T11: 7550856113 | V11: =N11+P11+T11+R11 -> 7550856113
A12: گواهی اعتبارمولد ملی14050231 | D12: 0 | F12: 0 | H12: 0 | J12: 0 | L12: 0 | N12: 0 | P12: 0 | R12: 0 | T12: 5104187213 | V12: =N12+P12+T12+R12 -> 5104187213
A13: گواهی اعتبارمولد ملی14050431 | D13: 0 | F13: 0 | H13: 0 | J13: 0 | L13: 0 | N13: 0 | P13: 0 | R13: 0 | T13: 9916569057 | V13: =N13+P13+T13+R13 -> 9916569057
A14: مرابحه عام دولت137-ش.خ061229 | D14: 0 | F14: 0 | H14: 0 | J14: 0 | L14: 0 | N14: 148590817751 | P14: 0 | R14: 0 | T14: 54391550000 | V14: =N14+P14+T14+R14 -> 202982367751
A15: مرابحه عام دولت274-ش.خ071105 | D15: 199774689764 | F15: -119845463007 | H15: 0 | J15: 0 | L15: 80268226758 | N15: 1140901640842 | P15: -863147478500 | R15: 0 | T15: 900883278309 | V15: =N15+P15+T15+R15 -> 1178637440651
A16: شهرداری مشهد | D16: 168061162257 | F16: 0 | H16: 25000000000 | J16: 0 | L16: 168061162257 | N16: 549543616773 | P16: 0 | R16: 25000000000 | T16: 0 | V16: =N16+P16+T16+R16 -> 574543616773
A17: مرابحه عام دولت277-ش.خ071118 | D17: 8397328019 | F17: -29176975094 | H17: 0 | J17: 0 | L17: -19894647074 | N17: 44333293213 | P17: -85939045136 | R17: 0 | T17: 0 | V17: =N17+P17+T17+R17 -> -41605751923
A18: مرابحه عام دولت271-ش.خ070628 | D18: 100507617872 | F18: 6140370619 | H18: 0 | J18: 0 | L18: 109242247253 | N18: 586116727329 | P18: -191822405401 | R18: 0 | T18: 0 | V18: =N18+P18+T18+R18 -> 394294321928
A19: مرابحه عام دولت272-ش.خ071028 | D19: 60885554943 | F19: -295238310681 | H19: 0 | J19: 0 | L19: -225602755737 | N19: 342751065606 | P19: -153614836250 | R19: 0 | T19: 0 | V19: =N19+P19+T19+R19 -> 189136229356
A20: مرابحه عام دولت270-ش.خ071121 | D20: 53963384464 | F20: -253762044729 | H20: 0 | J20: 0 | L20: -189541817546 | N20: 273205311480 | P20: -294204716189 | R20: 0 | T20: 0 | V20: =N20+P20+T20+R20 -> -20999404709
... A47: ح . سرمایه‌گذاری‌ایران‌خودرو | D47: 0 | F47: 10190612900 | H47: 0 | J47: 4833562500 | L47: 0 | N47: 0 | P47: 0 | R47: 0 | T47: 4603580261 | V47: =N47+P47+T47+R47 -> 4603580261
A48: جمع | D48: =SUM(D9:D47) -> 1819590856976 | F48: =SUM(F9:F47) -> -1532990292584 | H48: =SUM(H9:H47) -> 25000000000 | J48: =SUM(J9:J47) -> 477055968760 | L48: =SUM(L9:L47) -> 783854462241 | N48: =SUM(N9:N47) -> 9879198995017 | P48: =SUM(P9:P47) -> -2794491493095 | R48: =SUM(R9:R47) -> 25000000000 | T48: =SUM(T9:T47) -> 1474471309794 | V48: =SUM(V9:V47) -> 8584178811716

Sheet مبالغ تخصیصی اوراق
A1: صندوق سرمایه گذاری آوای فردای زاگرس
A2: صورت وضعیت درآمدها
A3: برای ماه منتهی به 1405/06/31
A4: -1-3-2
A5: مبالغ تخصیص یافته بابت خرید و نگهداری اوراق بهادار با درآمد ثابت (نرخ سود ترجیحی)
A7: نام ورقه بهادار | B7: نماد | C7: تعداد اوراق | D7: بهای تمام شده ریال | E7: سود ترجیحی | F7: سود اوراق تبعی | G7: درآمد تعهد پذیره نویسی | H7: جمع درآمد شناسایی شده | I7: نرخ اسمی | J7: میانگین بازدهی تا سررسید
D8: ریال | E8: ریال | F8: ریال | G8: ریال | H8: ریال | I8: درصد | J8: درصد
A9: اوراق اجاره شرکت گروه پتروشیمی تابان فردا زاکرس | B9: تابان25 | C9: 1000000 | D9: 1000000000000 | E9: 18340947105 | F9: 0 | G9: 0 | H9: 18340947105 | I9: 0.23 | J9: 35.4
A10: اوراق مرابحه شرکت کلور ایرانیان شرق | B10: کلور083 | C10: 595000 | D10: 595000000000 | E10: 12058043456 | F10: 0 | G10: 0 | H10: 12058043456 | I10: 0.23 | J10: 39
A11: اوراق مشارکت شهرداری مشهد (تامین مالی قطار شهری فاز7 خط2) - تعهد پذیره نویسی مبلغ 70 میلیارد ریال می باشد که در تاریخ 1404/11/01 شناسایی و دریافت خواهد شد | B11: - | C11: 7000000 | D11: 7000000000000 | E11: 0 | F11: 0 | G11: 0 | H11: 0 | I11: 0.23 | J11: -
A12: اوراق مشارکت شهرداری مشهد (تامین مالی قطار شهری فاز7 خط2) | B12: - | C12: 7000000 | D12: 7000000000000 | E12: 178652212011 | F12: 0 | G12: 0 | H12: 178652212011 | I12: 0.23 | J12: 37.6
A13: اوراق مشارکت شهرداری مشهد (تامین مالی قطار شهری فاز3 خط3)- تعهد پذیره نویسی مبلغ 80 میلیارد ریال می باشد که در تاریخ 1404/11/01 شناسایی و دریافت خواهد شد | B13: - | C13: 8000000 | D13: 8000000000000 | E13: 0 | F13: 0 | G13: 0 | H13: 0 | I13: 0.23 | J13: -
A14: اوراق مشارکت شهرداری مشهد (تامین مالی قطار شهری فاز3 خط3) | B14: - | C14: 8000000 | D14: 8000000000000 | E14: 151425790877 | F14: 0 | G14: 0 | H14: 151425790877 | I14: 0.23 | J14: 37.58
A15: اوراق مشارکت شهرداری مشهد (تامین مالی قطار شهری فاز10 خط2)- تعهد پذیره نویسی مبلغ 25 میلیارد ریال | C15: 5000000 | D15: 5000000000000 | G15: 25000000000 | H15: 25000000000 | J15: -
A16: اوراق مشارکت شهرداری مشهد (تامین مالی قطار شهری فاز10 خط2) | C16: 5000000 | D16: 5000000000000 | E16: 0 | H16: 0 | J16: 4
A17: مرابحه عام دولت | B17: اراد206 | C17: 10979221 | D17: 13926400357030 | E17: 35567615643 | F17: 0 | G17: 0 | H17: 35567615643 | I17: 0.23 | J17: 38.5
A18: سلف موازی هیدروکربن آفتاب061 | B18: سهیدرو0611 | C18: 766100 | D18: 3001257612300 | E18: 55653388784 | F18: 0 | G18: 0 | H18: 55653388784 | I18: 0 | J18: 37
A19: مرابحه عام دولت | B19: اراد250 | C19: 583960 | D19: 553010120000 | E19: 665015472 | F19: 0 | G19: 0 | H19: 665015472 | I19: 0.23 | J19: 39
A20: مرابحه عام دولت | B20: اراد254 | C20: 108332 | D20: 100000185880 | E20: 152051466 | F20: 0 | G20: 0 | H20: 152051466 | I20: 0.23 | J20: 39
A21: مرابحه عام دولت | B21: اراد277 | C21: 302187 | D21: 270001062630 | E21: 4500849018 | F21: 0 | G21: 0 | H21: 4500849018 | I21: 0.23 | J21: 39
A22: مرابحه عام دولت | B22: اراد274 | C22: 4800 | D22: 3330817014 | E22: 35567615643 | F22: 0 | G22: 0 | H22: 35567615643 | I22: 0.23 | J22: 39
A23: مرابحه عام دولت | B23: اراد273 | C23: 4078762 | D23: 3400737665293 | E23: 1062326987 | F23: 0 | G23: 0 | H23: 1062326987 | I23: 0.23 | J23: 39
A24: مرابحه عام دولت | B24: اراد270 | C24: 2418000 | D24: 1968097561775 | E24: 953369550 | F24: 0 | G24: 0 | H24: 953369550 | I24: 0.23 | J24: 39
A25: مرابحه عام دولت | B25: اراد271 | C25: 4783460 | D25: 4372928360000 | E25: 2342341124 | F25: 0 | G25: 0 | H25: 2342341124 | I25: 0.23 | J25: 39
A26: مرابحه عام دولت | B26: اراد272 | C26: 2800627 | D26: 2446981861201 | E26: 7404606901 | F26: 0 | G26: 0 | H26: 7404606901 | I26: 0.23 | J26: 39
A27: مرابحه عام دولت | B27: اراد262 | C27: 1002556 | D27: 933951092920 | E27: 5056712343 | F27: 0 | G27: 0 | H27: 5056712343 | I27: 0.23 | J27: 39
A28: اجاره تابان فردادماوند14080220 | B28: تابان201 | C28: 7100000 | D28: 6925908000000 | F28: 0 | G28: 0 | H28: - | I28: 0.23 | J28: 38
A29: اجاره توان آفرین ساز 14070216 | B29: وامین071 | C29: 1800000 | D29: 1755864000000 | F29: 0 | G29: 0 | H29: - | I29: 0.23 | J29: 38
A30: مرابحه غدیرایرانیان14081120 | B30: غدیر081 | C30: 1100000 | D30: 1073028000000 | F30: 0 | G30: 0 | H30: - | I30: 0.23 | J30: 38
A31: سلف موازی متانول سبلان061 | B31: سمتا0611 | C31: 2000000 | D31: 9713380000000 | F31: 0 | G31: 0 | H31: - | I31: 0.23 | J31: 40.1

Sheet درآمد سپرده بانکی
A1: صندوق سرمایه گذاری آوای فردای زاگرس
A2: صورت وضعیت درآمدها
A3: برای ماه منتهی به 1405/06/31
A5: -4-2 | B5: درآمد حاصل از سرمایه­گذاری در سپرده بانکی و گواهی سپرده
D6: طی ماه | F6: از ابتدای سال مالی
A7: نام سپرده بانکی | D7: سود سپرده بانکی و گواهی سپرده | F7: سود سپرده بانکی و گواهی سپرده
A8: سپرده کوتاه مدت بانک پاسارگاد جهان کودک | D8: 485632506720 | F8: 1501373624950
A9: سپرده کوتاه مدت بانک دی فرشته | D9: 303172394728 | F9: 3342099278393
A10: سپرده کوتاه مدت موسسه اعتباری ملل جنت آباد | D10: 0 | F10: 835052712174
A11: سپرده کوتاه مدت بانک اقتصاد نوین غدیر | D11: 9142 | F11: 91966690
A12: سپرده کوتاه مدت بانک گردشگری قیطریه | D12: 1180329372985 | F12: 5085963001527
A13: سپرده کوتاه مدت بانک سامان جام جم | D13: 0 | F13: 10234
A14: سپرده کوتاه مدت بانک خاورمیانه بخارست | D14: 39493 | F14: 5092018
A15: سپرده کوتاه مدت بانک صادرات مستقل فردوسی | D15: 998686456281 | F15: 1980246955682
A16: سپرده کوتاه مدت بانک ملت ولیعصر بهشتی | D16: 0 | F16: 78012
A17: سپرده کوتاه مدت بانک شهر میدان شهدای مشهد | D17: 486147285065 | F17: 2598169427706
A18: سپرده کوتاه مدت بانک رفاه مرکزی اصفهان | D18: 280554 | F18: 46686068077
A19: سپرده بلند مدت بانک تجارت اله وردی | D19: 306697259123 | F19: 556055520214
A20: جمع | D20: =SUM(D8:D19) -> 3760665604091 | F20: =SUM(F8:F19) -> 15945743735677

Sheet سایر درآمدها
A1: صندوق سرمایه گذاری آوای فردای زاگرس
A2: صورت وضعیت درآمدها
A3: برای ماه منتهی به 1405/06/31
A5: -5-2 | B5: سایر درآمدها
D6: طی ماه | F6: 1405/06/31
A7: سایر درآمدها | D7: مبلغ | F7: مبلغ
A8: سایر درآمدها | D8: 749315241 | F8: 991173575
A9: معین برای سایر درآمدهای تنزیل سود بانک | D9: 0 | F9: 6510090137
A10: تعدیل کارمزد کارگزار | D10: 4386800013 | F10: 15098890312
A11: جمع | D11: =SUM(D8:D10) -> 5136115254 | F11: =SUM(F8:F10) -> 22600154024

Sheet درآمد سود سهام
A1: صندوق سرمایه گذاری آوای فردای زاگرس
A2: صورت وضعیت درآمدها
A3: برای ماه منتهی به 1405/06/31
A5: درآمد سود سهام
A6: نام سهام | C6: اطلاعات مجمع | I6: طی ماه | O6: از ابتدای سال مالی
C7: تاریخ تشکیل مجمع | E7: تعداد سهام متعلقه در زمان مجمع | G7: سود متعلق به هر سهم | I7: جمع درآمد سود سهام | K7: هزینه تنزیل | M7: خالص درآمد سود سهام | O7: جمع درآمد سود سهام | Q7: هزینه تنزیل | S7: خالص درآمد سود سهام
A8: زامیاد | C8: 1405/04/27 | E8: 290776219 | G8: 55 | I8: 0 | K8: 0 | M8: 0 | O8: 15992692045 | Q8: 54582567 | S8: 15938109478
A9: سیمان‌ تهران‌ | C9: 1405/05/11 | E9: 15500000 | G9: 1530 | I9: 0 | K9: 0 | M9: 0 | O9: 23715000000 | Q9: 785264901 | S9: 22929735099
A10: پالایش نفت اصفهان | C10: 1405/04/30 | E10: 10000000 | G10: 740 | I10: 0 | K10: 0 | M10: 0 | O10: 7400000000 | Q10: 0 | S10: 7400000000
A11: سیمان‌ صوفیان‌ | C11: 1405/03/19 | E11: 300000 | G11: 27400 | I11: 0 | K11: 0 | M11: 0 | O11: 8220000000 | Q11: 0 | S11: 8220000000
A12: بانک ملت | C12: 1405/04/31 | E12: 71097005 | G12: 46 | I12: 0 | K12: 0 | M12: 0 | O12: 3270462230 | Q12: 0 | S12: 3270462230
A13: بانک تجارت | C13: 1405/04/31 | E13: 107463221 | G13: 9 | I13: 0 | K13: 0 | M13: 0 | O13: 967168989 | Q13: 0 | S13: 967168989
A14: پالایش نفت بندرعباس | C14: 1405/05/18 | E14: 20200000 | G14: 1189 | I14: 0 | K14: 0 | M14: 0 | O14: 24017800000 | Q14: 917676153 | S14: 23100123847
A15: صنایع پتروشیمی خلیج فارس | C15: 1405/06/25 | E15: 43750000 | G15: 600 | I15: 26250000000 | K15: 266949153 | M15: 25983050847 | O15: 26250000000 | Q15: 266949153 | S15: 25983050847
A16: پاکدیس | C16: 1405/04/10 | E16: 50000 | G16: 5800 | I16: 0 | K16: 0 | M16: 0 | O16: 290000000 | Q16: 5838926 | S16: 284161074
A17: پالایش نفت تهران | C17: 1405/05/06 | E17: 76000000 | G17: 480 | I17: 0 | K17: 0 | M17: 0 | O17: 36480000000 | Q17: 830200803 | S17: 35649799197
A18: کشت و صنعت شهداب ناب خراسان | C18: 1405/06/05 | E18: 100000000 | G18: 30 | I18: 3000000000 | K18: 118421053 | M18: 2881578947 | O18: 3000000000 | Q18: 118421053 | S18: 2881578947
A19: بورس کالای ایران | C19: 1405/03/12 | E19: 10000000 | G19: 530 | I19: 0 | K19: 0 | M19: 0 | O19: 5300000000 | Q19: 0 | S19: 5300000000
... A22: کشت و صنعت شیفته آرای شرق | C22: 1405/04/30 | E22: 1707960 | G22: 500 | I22: 0 | K22: 0 | M22: 0 | O22: 853980000 | Q22: 33709737 | S22: 820270263
A23: جمع | I23: 29250000000 | K23: 385370206 | M23: 28864629794 | O23: 165765602274 | Q23: 3359979799 | S23: 162405622475

Sheet سود اوراق بهادار
A1: صندوق سرمایه گذاری آوای فردای زاگرس
A2: صورت وضعیت درآمدها
A3: برای ماه منتهی به 1405/06/31
A5: سود اوراق بهادار با درآمد ثابت
A6: شرح | J6: طی ماه | P6: از ابتدای سال مالی
C7: تاریخ دریافت سود | E7: تاریخ سررسید | H7: نرخ سود علی الحساب | J7: درآمد سود | L7: هزینه تنزیل | N7: خالص درآمد | P7: درآمد سود | R7: هزینه تنزیل | T7: خالص درآمد
A8: شهرداری مشهد | E8: 1409/02/29 | H8: 23 | J8: ='درآمد سرمایه گذاری در اوراق به'!D16 -> 168061162257 | L8: 0 | N8: =J8-L8 -> 168061162257 | P8: ='درآمد سرمایه گذاری در اوراق به'!N16 -> 549543616773 | R8: 0 | T8: =P8-R8 -> 549543616773
A9: مرابحه عام دولت277-ش.خ071118 | E9: 1407/11/18 | H9: 23 | J9: ='درآمد سرمایه گذاری در اوراق به'!D17 -> 8397328019 | L9: 0 | N9: =J9-L9 -> 8397328019 | P9: ='درآمد سرمایه گذاری در اوراق به'!N17 -> 44333293213 | R9: 0 | T9: =P9-R9 -> 44333293213
A10: مرابحه عام دولت274-ش.خ071105 | E10: 1407/11/05 | H10: 23 | J10: ='درآمد سرمایه گذاری در اوراق به'!D15 -> 199774689764 | L10: 0 | N10: =J10-L10 -> 199774689764 | P10: ='درآمد سرمایه گذاری در اوراق به'!N15 -> 1140901640842 | R10: 0 | T10: =P10-R10 -> 1140901640842
A11: مرابحه عام دولت273-ش.خ071128 | E11: 1407/11/28 | H11: 23 | J11: ='درآمد سرمایه گذاری در اوراق به'!D10 -> 79842155511 | L11: 0 | N11: =J11-L11 -> 79842155511 | P11: ='درآمد سرمایه گذاری در اوراق به'!N10 -> 458823553113 | R11: 0 | T11: =P11-R11 -> 458823553113
A12: مرابحه عام دولت271-ش.خ070628 | E12: 1407/06/28 | H12: 23 | J12: ='درآمد سرمایه گذاری در اوراق به'!D18 -> 100507617872 | L12: 0 | N12: =J12-L12 -> 100507617872 | P12: ='درآمد سرمایه گذاری در اوراق به'!N18 -> 586116727329 | R12: 0 | T12: =P12-R12 -> 586116727329
A13: مرابحه عام دولت272-ش.خ071028 | E13: 1407/10/28 | H13: 23 | J13: ='درآمد سرمایه گذاری در اوراق به'!D19 -> 60885554943 | L13: 0 | N13: =J13-L13 -> 60885554943 | P13: ='درآمد سرمایه گذاری در اوراق به'!N19 -> 342751065606 | R13: 0 | T13: =P13-R13 -> 342751065606
A14: مرابحه عام دولت270-ش.خ071121 | E14: 1407/11/21 | H14: 23 | J14: ='درآمد سرمایه گذاری در اوراق به'!D20 -> 53963384464 | L14: 0 | N14: =J14-L14 -> 53963384464 | P14: ='درآمد سرمایه گذاری در اوراق به'!N20 -> 273205311480 | R14: 0 | T14: =P14-R14 -> 273205311480
A15: مرابحه غدیرایرانیان14081120 | E15: 1408/11/20 | H15: 23 | J15: ='درآمد سرمایه گذاری در اوراق به'!D21 -> 20958153618 | L15: 0 | N15: =J15-L15 -> 20958153618 | P15: ='درآمد سرمایه گذاری در اوراق به'!N21 -> 58232855368 | R15: 0 | T15: =P15-R15 -> 58232855368
A16: مرابحه عام دولت265-ش.خ070430 | E16: 1407/04/30 | H16: 23 | J16: ='درآمد سرمایه گذاری در اوراق به'!D22 -> 5753934622 | L16: 0 | N16: =J16-L16 -> 5753934622 | P16: ='درآمد سرمایه گذاری در اوراق به'!N22 -> 31286580315 | R16: 0 | T16: =P16-R16 -> 31286580315
A17: مرابحه عام دولت262-ش.خ070716 | E17: 1407/07/16 | H17: 23 | J17: ='درآمد سرمایه گذاری در اوراق به'!D23 -> 20527269882 | L17: 0 | N17: =J17-L17 -> 20527269882 | P17: ='درآمد سرمایه گذاری در اوراق به'!N23 -> 128090229180 | R17: 0 | T17: =P17-R17 -> 128090229180
A18: مرابحه عام دولت258-ش.خ070302 | E18: 1407/03/02 | H18: 23 | J18: ='درآمد سرمایه گذاری در اوراق به'!D24 -> 31260247491 | L18: 0 | N18: =J18-L18 -> 31260247491 | P18: ='درآمد سرمایه گذاری در اوراق به'!N24 -> 185560180478 | R18: 0 | T18: =P18-R18 -> 185560180478
A19: مرابحه عام دولت260-ش.خ071002 | E19: 1407/10/02 | H19: 23 | J19: ='درآمد سرمایه گذاری در اوراق به'!D9 -> 361451227916 | L19: 0 | N19: =J19-L19 -> 361451227916 | P19: ='درآمد سرمایه گذاری در اوراق به'!N9 -> 2015075114719 | R19: 0 | T19: =P19-R19 -> 2015075114719
A20: مرابحه عام دولت256-ش.خ070318 | E20: 1407/03/18 | H20: 23 | J20: ='درآمد سرمایه گذاری در اوراق به'!D25 -> 19975688277 | L20: 0 | N20: =J20-L20 -> 19975688277 | P20: ='درآمد سرمایه گذاری در اوراق به'!N25 -> 137722124780 | R20: 0 | T20: =P20-R20 -> 137722124780
A21: مرابحه عام دولت254-ش.خ070911 | E21: 1407/09/11 | H21: 23 | J21: ='درآمد سرمایه گذاری در اوراق به'!D26 -> 2257496081 | L21: 0 | N21: =J21-L21 -> 2257496081 | P21: ='درآمد سرمایه گذاری در اوراق به'!N26 -> 13065999968 | R21: 0 | T21: =P21-R21 -> 13065999968
A22: مرابحه عام دولت253-ش.خ070311 | E22: 1407/03/11 | H22: 23 | J22: ='درآمد سرمایه گذاری در اوراق به'!D27 -> 2508271622 | L22: 0 | N22: =J22-L22 -> 2508271622 | P22: ='درآمد سرمایه گذاری در اوراق به'!N27 -> 14507722657 | R22: 0 | T22: =P22-R22 -> 14507722657
A23: مرابحه عام دولت255-ش.خ071011 | E23: 1407/10/11 | H23: 23 | J23: ='درآمد سرمایه گذاری در اوراق به'!D28 -> 7289316862 | L23: 0 | N23: =J23-L23 -> 7289316862 | P23: ='درآمد سرمایه گذاری در اوراق به'!N28 -> 41938496986 | R23: 0 | T23: =P23-R23 -> 41938496986
A24: مرابحه عام دولت250-ش.خ070205 | E24: 1407/02/05 | H24: 23 | J24: ='درآمد سرمایه گذاری در اوراق به'!D29 -> 13833765268 | L24: 0 | N24: =J24-L24 -> 13833765268 | P24: ='درآمد سرمایه گذاری در اوراق به'!N29 -> 76320178949 | R24: 0 | T24: =P24-R24 -> 76320178949
A25: شهرداری مشهد | E25: 1407/12/28 | H25: 23 | J25: ='درآمد سرمایه گذاری در اوراق به'!D30 -> 212801420406 | L25: 0 | N25: =J25-L25 -> 212801420406 | P25: ='درآمد سرمایه گذاری در اوراق به'!N30 -> 1404723972535 | R25: 0 | T25: =P25-R25 -> 1404723972535
A26: شهرداری مشهد | E26: 1407/12/28 | H26: 23 | J26: ='درآمد سرمایه گذاری در اوراق به'!D31 -> 180029817283 | L26: 0 | N26: =J26-L26 -> 180029817283 | P26: ='درآمد سرمایه گذاری در اوراق به'!L31 -> 180029817283 | R26: 0 | T26: =P26-R26 -> 180029817283
A27: اجاره تابان فردا زاگرس14070603 | E27: 1407/06/03 | H27: 23 | J27: ='درآمد سرمایه گذاری در اوراق به'!D32 -> 21864652396 | L27: 0 | N27: =J27-L27 -> 21864652396 | P27: ='درآمد سرمایه گذاری در اوراق به'!N32 -> 150480953339 | R27: 0 | T27: =P27-R27 -> 150480953339
A28: مرابحه عام دولت228-ش.خ070521 | E28: 1407/05/21 | H28: 23 | J28: ='درآمد سرمایه گذاری در اوراق به'!D33 -> 115435782 | L28: 0 | N28: =J28-L28 -> 115435782 | P28: ='درآمد سرمایه گذاری در اوراق به'!N33 -> 595847496 | R28: 0 | T28: =P28-R28 -> 595847496
A29: اجاره تابان فردادماوند14080220 | E29: 1408/02/20 | H29: 23 | J29: ='درآمد سرمایه گذاری در اوراق به'!D34 -> 135275355174 | L29: 0 | N29: =J29-L29 -> 135275355174 | P29: ='درآمد سرمایه گذاری در اوراق به'!N34 -> 375866611924 | R29: 0 | T29: =P29-R29 -> 375866611924
A30: مرابحه کلور-آوای زاگرس14080208 | E30: 1408/02/08 | H30: 23 | J30: ='درآمد سرمایه گذاری در اوراق به'!D35 -> 16191175397 | L30: 0 | N30: =J30-L30 -> 16191175397 | P30: ='درآمد سرمایه گذاری در اوراق به'!N35 -> 96185782263 | R30: 0 | T30: =P30-R30 -> 96185782263
A31: مرابحه عام دولت206-ش.خ051114 | E31: 1405/11/14 | H31: 23 | J31: ='درآمد سرمایه گذاری در اوراق به'!D36 -> 7231776827 | L31: 0 | N31: =J31-L31 -> 7231776827 | P31: ='درآمد سرمایه گذاری در اوراق به'!N36 -> 34310842079 | R31: 0 | T31: =P31-R31 -> 34310842079
A32: مرابحه عام دولت191-ش.خ060328 | E32: 1406/03/28 | H32: 23 | J32: ='درآمد سرمایه گذاری در اوراق به'!D37 -> 35560543795 | L32: 0 | N32: =J32-L32 -> 35560543795 | P32: ='درآمد سرمایه گذاری در اوراق به'!N37 -> 187412062564 | R32: 0 | T32: =P32-R32 -> 187412062564
A33: مرابحه عام دولت 165-ش.خ051212 | E33: 1405/12/12 | H33: 23 | J33: ='درآمد سرمایه گذاری در اوراق به'!D38 -> 110462034 | L33: 0 | N33: =J33-L33 -> 110462034 | P33: ='درآمد سرمایه گذاری در اوراق به'!N38 -> 593547148 | R33: 0 | T33: =P33-R33 -> 593547148
A34: اجاره توان آفرین ساز 14070216 | E34: 1407/02/16 | H34: 2 | J34: ='درآمد سرمایه گذاری در اوراق به'!D39 -> 34472900520 | L34: 0 | N34: =J34-L34 -> 34472900520 | P34: ='درآمد سرمایه گذاری در اوراق به'!N39 -> 95241796740 | R34: 0 | T34: =P34-R34 -> 95241796740
A35: مرابحه عام دولت137-ش.خ061229 | E35: 1406/06/29 | H35: 20.5 | J35: ='درآمد سرمایه گذاری در اوراق به'!D14 -> 0 | L35: 0 | N35: =J35-L35 -> 0 | P35: ='درآمد سرمایه گذاری در اوراق به'!N14 -> 148590817751 | R35: 0 | T35: =P35-R35 -> 148590817751
A36: مرابحه عام دولت116-ش.خ060630 | E36: 1406/06/30 | H36: 18 | J36: ='درآمد سرمایه گذاری در اوراق به'!D40 -> 4192111277 | L36: 0 | N36: =J36-L36 -> 4192111277 | P36: ='درآمد سرمایه گذاری در اوراق به'!N40 -> 20612447998 | R36: 0 | T36: =P36-R36 -> 20612447998
A37: جمع | J37: =SUM(J8:J36) -> 1805092915360 | L37: 0 | N37: =J37-L37 -> 1805092915360 | P37: =SUM(P8:P36) -> 8792119190876 | R37: 0 | T37: =P37-R37 -> 8792119190876

Sheet سود سپرده بانکی
A1: صندوق سرمایه گذاری آوای فردای زاگرس
A2: صورت وضعیت درآمدها
A3: برای ماه منتهی به 1405/06/31
A5: سود سپرده بانکی
A6: شرح | C6: طی ماه | I6: از ابتدای سال مالی
C7: درآمد سود | E7: هزینه تنزیل | G7: خالص درآمد | I7: درآمد سود | K7: هزینه تنزیل | M7: خالص درآمد
A8: سپرده کوتاه مدت بانک پاسارگاد جهان کودک | C8: 485632506720 | E8: 2198626327 | G8: 483433880393 | I8: 1501373624950 | K8: 2826000209 | M8: 1498547624741
A9: سپرده کوتاه مدت بانک دی فرشته | C9: 303172394728 | E9: 0 | G9: 303172394728 | I9: 3342099278393 | K9: 0 | M9: 3342099278393
A10: سپرده کوتاه مدت موسسه اعتباری ملل جنت آباد | C10: 14098 | E10: 0 | G10: 14098 | I10: 835052781505 | K10: 0 | M10: 835052781505
A11: سپرده کوتاه مدت بانک اقتصاد نوین غدیر | C11: 9142 | E11: 0 | G11: 9142 | I11: 91966690 | K11: 0 | M11: 91966690
A12: سپرده کوتاه مدت بانک گردشگری قیطریه | C12: 1180329372985 | E12: 390747615 | G12: 1179938625370 | I12: 5085963001527 | K12: 3663792754 | M12: 5082299208773
A13: سپرده کوتاه مدت بانک سامان جام جم | C13: 0 | E13: 0 | G13: 0 | I13: 10234 | K13: 0 | M13: 10234
A14: سپرده کوتاه مدت بانک خاورمیانه بخارست | C14: 39493 | E14: 0 | G14: 39493 | I14: 5092018 | K14: 0 | M14: 5092018
A15: سپرده کوتاه مدت بانک صادرات مستقل فردوسی | C15: 998686456281 | E15: -18337024 | G15: 998704793305 | I15: 1980246955682 | K15: 0 | M15: 1980246955682
A16: سپرده کوتاه مدت بانک ملت ولیعصر بهشتی | C16: 0 | E16: 0 | G16: 0 | I16: 78012 | K16: 0 | M16: 78012
A17: سپرده کوتاه مدت بانک شهر میدان شهدای مشهد | C17: 486147285065 | E17: 0 | G17: 486147285065 | I17: 2598169427706 | K17: 0 | M17: 2598169427706
A18: سپرده کوتاه مدت بانک رفاه مرکزی اصفهان | C18: 280554 | E18: 0 | G18: 280554 | I18: 46686068077 | K18: 0 | M18: 46686068077
A19: سپرده بلند مدت بانک تجارت اله وردی | C19: 306697259123 | E19: -1515576550 | G19: 308212835673 | I19: 556055447719 | K19: 129156892 | M19: 555926290827
A20: جمع | C20: =SUM(C8:C19) -> 3760665618189 | E20: =SUM(E8:E19) -> 1055460368 | G20: =SUM(G8:G19) -> 3759610157821 | I20: =SUM(I8:I19) -> 15945743732513 | K20: =SUM(K8:K19) -> 6618949855 | M20: =SUM(M8:M19) -> 15939124782658

Sheet درآمد ناشی از فروش
A1: صندوق سرمایه گذاری آوای فردای زاگرس
A2: صورت وضعیت درآمدها
A3: برای ماه منتهی به 1405/06/31
A5: سود(زیان) حاصل از فروش اوراق بهادار
A6: شرح | C6: طی ماه | K6: از ابتدای سال مالی
C7: تعداد | E7: خالص بهای فروش | G7: ارزش دفتری | I7: سود و زیان ناشی از فروش | K7: تعداد | M7: خالص بهای فروش | O7: ارزش دفتری | Q7: سود و زیان ناشی از فروش
A8: نیان الکترونیک | C8: 21041043 | E8: 78061911811 | G8: =E8-I8 -> 68123504230 | I8: 9938407581 | K8: 21041043 | M8: 78061911811 | O8: =M8-Q8 -> 68123504230 | Q8: 9938407581
A9: پالایش نفت اصفهان | C9: 10000000 | E9: 136437125679 | G9: =E9-I9 -> 90776076715 | I9: 45661048964 | K9: 10000000 | M9: 136437125679 | O9: =M9-Q9 -> 90776076715 | Q9: 45661048964
A10: صندوق س.موج گستر ثروت-س | C10: 3000000 | E10: 51038559187 | G10: =E10-I10 -> 28138133100 | I10: 22900426087 | K10: 3000000 | M10: 51038559187 | O10: =M10-Q10 -> 28138133100 | Q10: 22900426087
A11: صندوق س.پشتوانه طلا دنای زاگرس | C11: 21224410 | E11: 1830896045140 | G11: =E11-I11 -> 1665560307690 | I11: 165335737450 | K11: 182999756 | M11: 13202568405433 | O11: =M11-Q11 -> 12514513740552 | Q11: 688054664881
A12: صندوق س. جام سبز سهند-س | C12: 1000000 | E12: 15026290320 | G12: =E12-I12 -> 12475945760 | I12: 2550344560 | K12: 1000000 | M12: 15026290320 | O12: =M12-Q12 -> 12475945760 | Q12: 2550344560
A13: صندوق س.کالای سینا | C13: 2000000 | E13: 27801470919 | G13: =E13-I13 -> 20024000000 | I13: 7777470919 | K13: 2000000 | M13: 27801470919 | O13: =M13-Q13 -> 20024000000 | Q13: 7777470919
A14: صندوق س صنایع کارآمد1-بخشی | C14: 2000000 | E14: 20682235245 | G14: =E14-I14 -> 20044900000 | I14: 637335245 | K14: 2000000 | M14: 20682235245 | O14: =M14-Q14 -> 20044900000 | Q14: 637335245
A15: نیان باتری خاوران | C15: 0 | E15: 0 | G15: =E15-I15 -> 0 | I15: 0 | K15: 6000000 | M15: 97663156865 | O15: =M15-Q15 -> 92162037600 | Q15: 5501119265
A16: زامیاد | C16: 0 | E16: 0 | G16: =E16-I16 -> 0 | I16: 0 | K16: 2 | M16: 2 | O16: =M16-Q16 -> 617739563057 | Q16: -617739563055
A17: کشت و صنعت شیفته آرای شرق | C17: 0 | E17: 0 | G17: =E17-I17 -> 0 | I17: 0 | K17: 1707960 | M17: 20404880176 | O17: =M17-Q17 -> 18794413406 | Q17: 1610466770
A18: پاکدیس | C18: 0 | E18: 0 | G18: =E18-I18 -> 0 | I18: 0 | K18: 213760 | M18: 2765883690 | O18: =M18-Q18 -> 1749613770 | Q18: 1016269920
A19: صندوق س.اعتبارسهام-سهام | C19: 0 | E19: 0 | G19: =E19-I19 -> 0 | I19: 0 | K19: 3240389 | M19: 203891581406 | O19: =M19-Q19 -> 178057188935 | Q19: 25834392471
... A36: مرابحه عام دولت274-ش.خ071105 | C36: 0 | E36: 0 | G36: =E36-I36 -> 0 | I36: 0 | K36: 9485000 | M36: 7482116825942 | O36: =M36-Q36 -> 6581833221691 | Q36: 900283604251
A37: جمع | C37: =SUM(C8:C36) -> 73065453 | E37: =SUM(E8:E36) -> 12469923638301 | G37: =SUM(G8:G36) -> 11731565708304 | I37: =SUM(I8:I36) -> 738357929997 | K37: =SUM(K8:K36) -> 355007206 | M37: =SUM(M8:M36) -> 41346715662629 | O37: =SUM(O8:O36) -> 39529701798385 | Q37: =SUM(Q8:R36) -> 1817013864244

Sheet درآمد ناشی از تغییر قیمت اوراق
A1: صندوق سرمایه گذاری آوای فردای زاگرس
A2: صورت وضعیت درآمدها
A3: برای ماه منتهی به 1405/06/31
A5: درآمد ناشی از تغییر قیمت اوراق بهادار
A6: شرح | C6: طی ماه | K6: از ابتدای سال مالی
C7: تعداد | E7: خالص ارزش فروش | G7: ارزش دفتری | I7: سود و زیان ناشی از تغییر قیمت | K7: تعداد | M7: خالص ارزش فروش | O7: ارزش دفتری | Q7: سود و زیان ناشی از تغییر قیمت
A8: سیمان‌ تهران‌ | C8: 15500000 | E8: 202095630900 | G8: =E8-I8 -> 184100814451 | I8: 17994816449 | K8: 15500000 | M8: 202095630900 | O8: =M8-Q8 -> 122426272600 | Q8: 79669358300
A9: سیمان‌ صوفیان‌ | C9: 300000 | E9: 47896872900 | G9: =E9-I9 -> 47956409100 | I9: -59536200 | K9: 300000 | M9: 47896872900 | O9: =M9-Q9 -> 37799533380 | Q9: 10097339520
A10: بانک ملت | C10: 71097005 | E10: 101517744792 | G10: =E10-I10 -> 96579425032 | I10: 4938319760 | K10: 71097005 | M10: 101517744792 | O10: =M10-Q10 -> 61587902156 | Q10: 39929842636
A11: بانک تجارت | C11: 107463221 | E11: 92343771241 | G11: =E11-I11 -> 90637650756 | I11: 1706120485 | K11: 107463221 | M11: 92343771241 | O11: =M11-Q11 -> 40087708000 | Q11: 52256063241
A12: پالایش نفت بندرعباس | C12: 20200000 | E12: 294444215260 | G12: =E12-I12 -> 241528440701 | I12: 52915774559 | K12: 20200000 | M12: 294444215260 | O12: =M12-Q12 -> 139104346760 | Q12: 155339868500
A13: کشت‌ و صنعت‌ چین‌ چین | C13: 17734738 | E13: 79893324077 | G13: =E13-I13 -> 71540146909 | I13: 8353177168 | K13: 17734738 | M13: 79893324077 | O13: =M13-Q13 -> 70082989764 | Q13: 9810334313
A14: صنایع پتروشیمی خلیج فارس | C14: 43750000 | E14: 540042947500 | G14: =E14-I14 -> 416319281876 | I14: 123723665624 | K14: 43750000 | M14: 540042947500 | O14: =M14-Q14 -> 449543836059 | Q14: 90499111441
A15: صندوق س.امین تدبیرگران فردا-س | C15: 4123020 | E15: 198646817874 | G15: =E15-I15 -> 178856591107 | I15: 19790226767 | K15: 4123020 | M15: 198646817874 | O15: =M15-Q15 -> 172255771670 | Q15: 26391046204
A16: صندوق شاخص30 شرکت فیروزه- سهام | C16: 15185000 | E16: 567021838311 | G16: =E16-I16 -> 459850211298 | I16: 107171627013 | K16: 15185000 | M16: 567021838311 | O16: =M16-Q16 -> 300865329495 | Q16: 266156508816
A17: صندوق س. ثروت آفرین پارسیان-س | C17: 400700 | E17: 233870358150 | G17: =E17-I17 -> 201724177810 | I17: 32146180340 | K17: 400700 | M17: 233870358150 | O17: =M17-Q17 -> 122071931608 | Q17: 111798426542
A18: پالایش نفت تهران | C18: 76000000 | E18: 480377752400 | G18: =E18-I18 -> 412506484400 | I18: 67871268000 | K18: 76000000 | M18: 480377752400 | O18: =M18-Q18 -> 274359205707 | Q18: 206018546693
A19: صندوق صبا | C19: 130571 | E19: 315973985740 | G19: =E19-I19 -> 277891758451 | I19: 38082227289 | K19: 130571 | M19: 315973985740 | O19: =M19-Q19 -> 162439313399 | Q19: 153534672341
... A79: سلف موازی متانول سبلان061 | C79: 2000000 | E79: 9699820527950 | G79: =E79-I79 -> 9718594172399 | I79: -18773644449 | K79: 2000000 | M79: 9699820527950 | O79: =M79-Q79 -> 9718594172399 | Q79: -18773644449
A80: جمع | C80: =SUM(C8:C79) -> 876665684 | E80: =SUM(E8:E79) -> 85225977688385 | G80: =SUM(G8:G79) -> 84880085807301 | I80: =SUM(I8:I79) -> 345891881084 | K80: =SUM(K8:K79) -> 876665684 | M80: =SUM(M8:M79) -> 85225977688385 | O80: =SUM(O8:O79) -> 83562377911660 | Q80: =SUM(Q8:R79) -> 1663599776725
