Workbook

Sheet صورت وضعیت
A10: صندوق سرمایه‎گذاری آوای فردای زاگرس
A11: صورت وضعیت پرتفوی
A12: برای ماه منتهی به 1405/07/30

Sheet سهام
A1: صندوق سرمایه‎گذاری آوای فردای زاگرس
A2: صورت وضعیت پرتفوی
A3: برای ماه منتهی به 1405/07/30 | AD3: 231441960477006
A4: -1 | B4: سرمایه‎گذاری‎ها
A5: -1-1 | C5: سرمایه‎گذاری در سهام و حق تقدم سهام
F6: 1405/06/31 | L6: تغییرات طی دوره | T6: 1405/07/30
L7: خرید طی دوره | P7: فروش طی دوره
A8: نام شرکت | E8: تعداد | H8: بهای تمام شده | J8: خالص ارزش فروش | L8: تعداد | N8: بهای تمام شده | P8: تعداد | R8: مبلغ فروش | T8: تعداد | V8: قیمت بازار هر سهم | X8: بهای تمام شده | Z8: خالص ارزش فروش
A9: بانک تجارت | E9: 107463221 | H9: 61363035002 | J9: 9.2343771e+10 | L9: 0 | N9: 0 | P9: 0 | R9: 0 | T9: 107463221 | V9: 966 | X9: 61363035002 | Z9: 1.0300702e+11 | AB9: =Z9/$AD$3 -> 0.00044506633
A10: بانک ملت | E10: 71097005 | H10: 79561386387 | J10: 1.0151774e+11 | L10: 186000000 | N10: 269721619814 | P10: 0 | R10: 0 | T10: 257097005 | V10: 1507 | X10: 349283006201 | Z10: 3.8445024e+11 | AB10: =Z10/$AD$3 -> 0.0016611086
A11: بورس کالای ایران | E11: 21379311 | H11: 107084514465 | J11: 230172430844 | L11: 0 | N11: 0 | P11: 0 | R11: 0 | T11: 21379311 | V11: 12620 | X11: 107084514465 | Z11: 2.677213e+11 | AB11: =Z11/$AD$3 -> 0.0011567535
A12: پالایش نفت بندرعباس | E12: 20200000 | H12: 157012355739 | J12: 294444215260 | L12: 0 | N12: 0 | P12: 0 | R12: 0 | T12: 20200000 | V12: 15270 | X12: 157012355739 | Z12: 306069650580 | AB12: =Z12/$AD$3 -> 0.0013224467
A13: پالایش نفت تهران | E13: 76000000 | H13: 292218524217 | J13: 480377752400 | L13: 0 | N13: 0 | P13: 0 | R13: 0 | T13: 76000000 | V13: 6710 | X13: 292218524217 | Z13: 506018009200 | AB13: =Z13/$AD$3 -> 0.0021863711
A14: سیمان‌ تهران‌ | E14: 15500000 | H14: 167973754896 | J14: 202095630900 | L14: 0 | N14: 0 | P14: 0 | R14: 0 | T14: 15500000 | V14: 20990 | X14: 167973754896 | Z14: 322830083150 | AB14: =Z14/$AD$3 -> 0.0013948641
A15: سیمان‌ صوفیان‌ | E15: 300000 | H15: 37535888558 | J15: 47896872900 | L15: 0 | N15: 0 | P15: 0 | R15: 0 | T15: 300000 | V15: 224200 | X15: 37535888558 | Z15: 66740080200 | AB15: =Z15/$AD$3 -> 0.00028836638
A16: صنایع پتروشیمی خلیج فارس | E16: 43750000 | H16: 449543836058 | J16: 540042947500 | L16: 0 | N16: 0 | P16: 0 | R16: 0 | T16: 43750000 | V16: 15980 | X16: 449543836058 | Z16: 693720763750 | AB16: =Z16/$AD$3 -> 0.0029973854
A17: کشت و صنعت شهداب ناب خراسان | E17: 100000000 | H17: 169346571492 | J17: 235763352000 | L17: 0 | N17: 0 | P17: 0 | R17: 0 | T17: 100000000 | V17: 2965 | X17: 169346571492 | Z17: 294208055000 | AB17: =Z17/$AD$3 -> 0.0012711958
A18: کشت‌ و صنعت‌ چین‌ چین | E18: 17734738 | H18: 70082989764 | J18: 7.9893324e+10 | L18: 0 | N18: 0 | P18: 0 | R18: 0 | T18: 17734738 | V18: 5650 | X18: 70082989764 | Z18: 9.9426714e+10 | AB18: =Z18/$AD$3 -> 0.00042959675
A19: ح. گروه مپنا (سهامی عام) | E19: 0 | H19: 0 | J19: 0 | L19: 45000000 | N19: 384928241289 | P19: 0 | R19: 0 | T19: 45000000 | V19: 8420 | X19: 384928241289 | Z19: 375971103000 | AB19: =Z19/$AD$3 -> 0.0016244725
A20: سرمایه‎گذاری مسکن جنوب | E20: 0 | H20: 0 | J20: 0 | L20: 11007811 | N20: 232855295097 | P20: -507811 | R20: 10999823145 | T20: 10500000 | V20: 21950 | X20: 222113242903 | Z20: 228693428248 | AB20: =Z20/$AD$3 -> 0.00098812431
... A22: گروه مپنا (سهامی عام) | E22: 0 | H22: 0 | J22: 0 | L22: 45000000 | N22: 530872241000 | P22: -9193985 | R22: 95910099273 | T22: 35806015 | V22: 10160 | X22: 422409320539 | Z22: 3.6097702e+11 | AB22: =Z22/$AD$3 -> 0.001559687
A23: جمع | E23: =SUM(E9:F22) -> 473424275 | F23: =SUM(E9:F22) -> 473424275 | H23: =SUM(H9:H22) -> 1591722856578 | J23: =SUM(J9:J22) -> 2.304548e+12 | L23: =SUM(L9:L22) -> 292007811 | N23: =SUM(N9:N22) -> 1435121885874 | P23: =SUM(P9:P22) -> -9701796 | R23: =SUM(R9:R22) -> 106909922418 | T23: =SUM(T9:T22) -> 755730290 | X23: =SUM(X9:X22) -> 2907639769797 | Z23: =SUM(Z9:Z22) -> 4.0269005e+12 | AB23: =SUM(AB9:AB22) -> 0.017399181

Sheet واحدهای صندوق
A1: صندوق سرمایه‎گذاری آوای فردای زاگرس
A2: صورت وضعیت پرتفوی
A3: برای ماه منتهی به 1405/07/30
A5: -2-1 | B5: سرمایه‌گذاری در واحدهای صندوق‎های سرمایه‎گذاری
E6: 1405/06/31 | K6: تغییرات طی دوره | S6: 1405/07/30
K7: خرید/صدور طی دوره | O7: فروش/ابطال طی دوره
A8: صندوق | D8: تعداد واحد | G8: بهای تمام شده | I8: خالص ارزش فروش | K8: تعداد | M8: بهای تمام شده | O8: تعداد | Q8: مبلغ فروش | S8: تعداد | U8: قیمت ابطال / بازار هر واحد | W8: بهای تمام شده | Y8: خالص ارزش فروش | AA8: درصد به کل دارایی ها
A9: صندوق س آرمان آتی- بخشی | D9: 6900000 | G9: 70106907597 | I9: 220195782180 | K9: 0 | M9: 0 | O9: 0 | Q9: 0 | S9: 6900000 | U9: 37912 | W9: 70106907597 | Y9: 260991136560 | AA9: =Y9/سهام!$AD$3 -> 0.0011276742
A10: صندوق س آوای تاراز زاگرس-سهام | D10: 19375024 | G10: 654242977501 | I10: 1.0548633e+12 | K10: 2000000 | M10: 125601343400 | O10: 0 | Q10: 0 | S10: 21375024 | U10: 62200 | W10: 779844320901 | Y10: 1.3264686e+12 | AA10: =Y10/سهام!$AD$3 -> 0.0057313228
A11: صندوق س راه نو ره سود-سهام | D11: 10000000 | G11: 100224500000 | I11: 99770000000 | K11: 0 | M11: 0 | O11: 0 | Q11: 0 | S11: 10000000 | U11: 10320 | W11: 100224500000 | Y11: 102962640000 | AA11: =Y11/سهام!$AD$3 -> 0.00044487456
A12: صندوق س رویش همراه سرمایه-سهام | D12: 6000000 | G12: 178703910347 | I12: 175994280000 | K12: 0 | M12: 0 | O12: 0 | Q12: 0 | S12: 6000000 | U12: 32972 | W12: 178703910347 | Y12: 197376986400 | AA12: =Y12/سهام!$AD$3 -> 0.00085281418
A13: صندوق س صنایع پاسارگاد1-بخشی | D13: 5000000 | G13: 50112250000 | I13: 50683160000 | K13: 0 | M13: 0 | O13: 0 | Q13: 0 | S13: 5000000 | U13: 10280 | W13: 50112250000 | Y13: 51281780000 | AA13: =Y13/سهام!$AD$3 -> 0.00022157512
A14: صندوق س صنایع پیشرفت صبا1-بخشی | D14: 5000000 | G14: 50112250000 | I14: 47989370000 | K14: 0 | M14: 0 | O14: 0 | Q14: 0 | S14: 5000000 | U14: 9756 | W14: 50112250000 | Y14: 48667806000 | AA14: =Y14/سهام!$AD$3 -> 0.00021028082
A15: صندوق س. ثروت آفرین پارسیان-س | D15: 400700 | G15: 121564190291 | I15: 233870358150 | K15: 0 | M15: 0 | O15: 0 | Q15: 0 | S15: 400700 | U15: 662709 | W15: 121564190291 | Y15: 2.6493674e+11 | AA15: =Y15/سهام!$AD$3 -> 0.0011447221
A16: صندوق س. سهام ثروت هامون-س | D16: 35987700 | G16: 942191953991 | I16: 1044833413239 | K16: 0 | M16: 0 | O16: 0 | Q16: 0 | S16: 35987700 | U16: 33601 | W16: 942191953991 | Y16: 1.2064415e+12 | AA16: =Y16/سهام!$AD$3 -> 0.0052127172
A17: صندوق س. سهامی اکسیژن-س | D17: 1500000 | G17: 51941347125 | I17: 59263380000 | K17: 0 | M17: 0 | O17: 0 | Q17: 0 | S17: 1500000 | U17: 45200 | W17: 51941347125 | Y17: 67644060000 | AA17: =Y17/سهام!$AD$3 -> 0.00029227224
A18: صندوق س.امتیاز اول-س | D18: 5000000 | G18: 50112250000 | I18: 98622645000 | K18: 0 | M18: 0 | O18: 0 | Q18: 0 | S18: 5000000 | U18: 23815 | W18: 50112250000 | Y18: 118801127500 | AA18: =Y18/سهام!$AD$3 -> 0.00051330851
A19: صندوق س.امین تدبیرگران فردا-س | D19: 4123020 | G19: 172255771670 | I19: 1.9864682e+11 | K19: 6300000 | M19: 354471004865 | O19: 0 | Q19: 0 | S19: 10423020 | U19: 56774 | W19: 526726776535 | Y19: 5.903955e+11 | AA19: =Y19/سهام!$AD$3 -> 0.0025509441
A20: صندوق س.بخشی داریوش5-ب | D20: 5000000 | G20: 50112250000 | I20: 49885000000 | K20: 0 | M20: 0 | O20: 0 | Q20: 0 | S20: 5000000 | U20: 12590 | W20: 50112250000 | Y20: 62805215000 | AA20: =Y20/سهام!$AD$3 -> 0.00027136486
... A42: صندوق س شاخصی شفق رابین | D42: 0 | G42: 0 | I42: 0 | K42: 5140000 | M42: 100228348595 | O42: 0 | Q42: 0 | S42: 5140000 | U42: 21509 | W42: 100228348595 | Y42: 110301980602 | AA42: =Y42/سهام!$AD$3 -> 0.00047658592
A43: جمع | D43: =SUM(D9:E42) -> 337221590 | G43: =SUM(G9:G42) -> 13046474514622 | I43: =SUM(I9:I42) -> 1.6981826e+13 | K43: 38960000 | M43: 1301009215792 | O43: -1900000 | Q43: 68489111900 | S43: =SUM(S9:S42) -> 374281590 | W43: =SUM(W9:W42) -> 14320114335142 | Y43: =SUM(Y9:Y42) -> 2.0558152e+13 | AA43: =Y43/سهام!$AD$3 -> 0.088826383

Sheet اوراق
A1: صندوق سرمایه‎گذاری آوای فردای زاگرس
A2: صورت وضعیت پرتفوی
A3: برای ماه منتهی به 1405/07/30
A5: -3-1 | B5: سرمایه‌گذاری در اوراق بهادار با درآمد ثابت یا علی‌الحساب
A6: اطلاعات اوراق با درآمد ثابت | P6: 1405/06/31 | V6: تغییرات طی دوره | AD6: 1405/07/30
V7: خرید طی دوره | Z7: فروش طی دوره
A8: نام اوراق | D8: دارای مجوز از سازمان | F8: پذیرفته شده در بورس یا فرابورس | H8: تاریخ انتشار اوراق | J8: تاریخ سررسید | L8: نرخ سود اسمی | N8: نرخ سود موثر | P8: تعداد | R8: بهای تمام شده | T8: خالص ارزش فروش | V8: تعداد | X8: بهای تمام شده | Z8: تعداد | AB8: مبلغ فروش | AD8: تعداد | AF8: قیمت بازار هر سهم | AH8: بهای تمام شده | AJ8: خالص ارزش فروش | AL8: درصد به کل دارایی ها
A9: سلف موازی متانول سبلان061 | D9: بله | F9: بله | H9: 1405/05/12 | J9: 1406/05/12 | L9: 23 | N9: 23 | P9: 2000000 | R9: 9718594172400 | T9: 9699820527950 | V9: 0 | X9: 0 | Z9: 0 | AB9: 0 | AD9: 2000000 | AF9: 5118899 | AH9: 9718594172400 | AJ9: 10230376494398 | AL9: =AJ9/سهام!$AD$3 -> 0.044202773
A10: سلف موازی هیدروکربن آفتاب061 | D10: بله | F10: بله | H10: 1404/02/03 | J10: 1406/02/03 | L10: 24.16 | N10: 24.16 | P10: 766100 | R10: 3001257612300 | T10: 3983679628828 | V10: 0 | X10: 0 | Z10: 0 | AB10: 0 | AD10: 766100 | AF10: 5280326 | AH10: 3001257612300 | AJ10: 4042325513646 | AL10: =AJ10/سهام!$AD$3 -> 0.017465828
A11: اجاره تابان فردا زاگرس14070603 | D11: بله | F11: بله | H11: 1404/06/03 | J11: 1407/06/03 | L11: 23 | N11: 23 | P11: 1000000 | R11: 1000000000000 | T11: 899510625000 | V11: 0 | X11: 0 | Z11: 0 | AB11: 0 | AD11: 1000000 | AF11: 1000000 | AH11: 1000000000000 | AJ11: 999456250000 | AL11: =AJ11/سهام!$AD$3 -> 0.0043183883
A12: اجاره تابان فردادماوند14080220 | D12: بله | F12: بله | H12: 1404/02/20 | J12: 1408/02/20 | L12: 23 | N12: 23 | P12: 7100000 | R12: 6926607870750 | T12: 6386525437500 | V12: 0 | X12: 0 | Z12: 7100000 | AB12: 7099940000000 | AD12: 0 | AF12: 0 | AH12: 0 | AJ12: 0 | AL12: =AJ12/سهام!$AD$3 -> 0
A13: اجاره توان آفرین ساز 14070216 | D13: بله | F13: بله | H13: 1403/02/16 | J13: 1407/02/16 | L13: 2 | N13: 2 | P13: 1800000 | R13: 1755984000000 | T13: 1799021250000 | V13: 0 | X13: 0 | Z13: 1800000 | AB13: 1799940000000 | AD13: 0 | AF13: 0 | AH13: 0 | AJ13: 0 | AL13: =AJ13/سهام!$AD$3 -> 0
A14: اسنادخزانه-م10بودجه02-051112 | D14: بله | F14: بله | H14: 1402/12/21 | J14: 1405/11/12 | L14: 0 | N14: 0 | P14: 50614 | R14: 27267185070 | T14: 40212911809 | V14: 0 | X14: 0 | Z14: 0 | AB14: 0 | AD14: 50614 | AF14: 910000 | AH14: 27267185070 | AJ14: 46033695560 | AL14: =AJ14/سهام!$AD$3 -> 0.00019889952
A15: مرابحه عام دولت 165-ش.خ051212 | D15: بله | F15: بله | H15: 1403/04/12 | J15: 1405/12/12 | L15: 23 | N15: 23 | P15: 5000 | R15: 4500815625 | T15: 4271551080 | V15: 0 | X15: 0 | Z15: 0 | AB15: 0 | AD15: 5000 | AF15: 949750 | AH15: 4500815625 | AJ15: 4746167867 | AL15: =AJ15/سهام!$AD$3 -> 2.0506946e-05
A16: مرابحه عام دولت116-ش.خ060630 | D16: بله | F16: بله | H16: 1401/06/30 | J16: 1406/06/30 | L16: 18 | N16: 18 | P16: 225000 | R16: 169126661999 | T16: 171248158154 | V16: 0 | X16: 0 | Z16: 0 | AB16: 0 | AD16: 225000 | AF16: 851000 | AH16: 169126661999 | AJ16: 191370885468 | AL16: =AJ16/سهام!$AD$3 -> 0.0008268634
A17: مرابحه عام دولت191-ش.خ060328 | D17: بله | F17: بله | H17: 1403/09/28 | J17: 1406/03/28 | L17: 23 | N17: 23 | P17: 1579612 | R17: 1499999555200 | T17: 1302603911188 | V17: 0 | X17: 0 | Z17: 0 | AB17: 0 | AD17: 1579612 | AF17: 828594 | AH17: 1499999555200 | AJ17: 1308145334520 | AL17: =AJ17/سهام!$AD$3 -> 0.0056521528
A18: مرابحه عام دولت206-ش.خ051114 | D18: بله | F18: بله | H18: 1403/12/14 | J18: 1405/11/14 | L18: 23 | N18: 23 | P18: 347720 | R18: 318223572190 | T18: 300470026736 | V18: 0 | X18: 0 | Z18: 0 | AB18: 0 | AD18: 347720 | AF18: 868923 | AH18: 318223572190 | AJ18: 301977615898 | AL18: =AJ18/سهام!$AD$3 -> 0.0013047661
A19: مرابحه عام دولت228-ش.خ070521 | D19: بله | F19: بله | H19: 1404/05/21 | J19: 1407/05/21 | L19: 23 | N19: 23 | P19: 5000 | R19: 4221597081 | T19: 3670318178 | V19: 0 | X19: 0 | Z19: 0 | AB19: 0 | AD19: 5000 | AF19: 832210 | AH19: 4221597081 | AJ19: 4158787429 | AL19: =AJ19/سهام!$AD$3 -> 1.796903e-05
A20: مرابحه عام دولت250-ش.خ070205 | D20: بله | F20: بله | H20: 1404/09/05 | J20: 1407/02/05 | L20: 23 | N20: 23 | P20: 583960 | R20: 553010120000 | T20: 440498319128 | V20: 0 | X20: 0 | Z20: 0 | AB20: 0 | AD20: 583960 | AF20: 777375 | AH20: 553010120000 | AJ20: 453709066476 | AL20: =AJ20/سهام!$AD$3 -> 0.0019603579
... A40: شهرداری مشهد خط 3 فاز 10 | D40: خیر | F40: خیر | H40: 1405/02/29 | J40: 1409/02/29 | L40: 23 | N40: 23 | P40: 5000000 | R40: 5000000000000 | T40: 5000000000000 | V40: 0 | X40: 0 | Z40: 0 | AB40: 0 | AD40: 5000000 | AF40: 1000000 | AH40: 5000000000000 | AJ40: 5000000000000 | AL40: =AJ40/سهام!$AD$3 -> 0.021603688
A41: جمع | P41: =SUM(P9:P40) -> 71019819 | R41: =SUM(R9:R40) -> 75695406364005 | T41: =SUM(T9:T40) -> 70939603537512 | V41: =SUM(V9:V40) -> 36035074 | X41: =SUM(X9:X40) -> 30712873530791 | Z41: =SUM(Z9:Z40) -> 10000000 | AB41: =SUM(AB9:AB40) -> 9999773125000 | AD41: =SUM(AD9:AD40) -> 97054893 | AH41: =SUM(AH9:AH40) -> 96652553378921 | AJ41: =SUM(AJ9:AJ40) -> 90481458359596 | AL41: =SUM(AL9:AL40) -> 0.39094665

Sheet تعدیل قیمت
A1: صندوق سرمایه‎گذاری آوای فردای زاگرس
A2: صورت وضعیت پرتفوی
A3: برای ماه منتهی به 1405/07/30
A4: اوراق بهاداری که ارزش آنها در تاریخ گزارش تعدیل شده
A5: (بر اساس دستورالعمل نحوه تعیین قیمت خرید و فروش اوراق بهادار در صندوق های سرمایه‎گذاری)
C7: 1405/07/30
A8: نام اوراق بهادار | C8: تعداد | E8: قیمت پایانی | G8: قیمت تعدیل شده | I8: درصد تعدیل | K8: خالص ارزش فروش تعدیل شده | M8: دلیل تعدیل
A9: اسناد خزانه-م12بودجه02-050916 | C9: 10235074 | E9: 959640 | G9: 863676 | I9: -0.1 | K9: 8834981137422 | M9: سایر
A10: مرابحه عام دولت191-ش.خ060328 | C10: 1579612 | E10: 920660 | G10: 828594 | I10: -0.1 | K10: 1308145334520 | M10: سایر
A11: مرابحه عام دولت206-ش.خ051114 | C11: 347720 | E11: 965470 | G11: 868923 | I11: -0.1 | K11: 301977615898 | M11: سایر
A12: مرابحه عام دولت250-ش.خ070205 | C12: 583960 | E12: 863750 | G12: 777375 | I12: -0.1 | K12: 453709066476 | M12: سایر
A13: مرابحه عام دولت254-ش.خ070911 | C13: 108332 | E13: 811320 | G13: 730188 | I13: -0.1 | K13: 79059714308 | M13: سایر
A14: مرابحه عام دولت253-ش.خ070311 | C14: 123150 | E14: 890650 | G14: 801585 | I14: -0.1 | K14: 98661516363 | M14: سایر
A15: مرابحه عام دولت255-ش.خ071011 | C15: 357833 | E15: 806910 | G15: 726219 | I15: -0.1 | K15: 259723821766 | M15: سایر
A16: مرابحه عام دولت256-ش.خ070318 | C16: 862970 | E16: 832000 | G16: 748800 | I16: -0.1 | K16: 645840569134 | M16: سایر
A17: مرابحه عام دولت260-ش.خ071002 | C17: 18502081 | E17: 794990 | G17: 715491 | I17: -0.1 | K17: 13230874234883 | M17: سایر
A18: مرابحه عام دولت258-ش.خ070302 | C18: 1575465 | E18: 854840 | G18: 769356 | I18: -0.1 | K18: 1211434374726 | M18: سایر
A19: مرابحه عام دولت262-ش.خ070716 | C19: 14002556 | E19: 828400 | G19: 745560 | I19: -0.1 | K19: 10434069039662 | M19: سایر
A20: مرابحه عام دولت265-ش.خ070430 | C20: 256590 | E20: 811840 | G20: 730656 | I20: -0.1 | K20: 187377081321 | M20: سایر
... A27: مشارکت ش مشهد0720-3ماهه23% | C27: 8000000 | E27: 1000000 | G27: 985501 | I27: -0.0145 | K27: 7879721070650 | M27: سایر
A28: جمع | C28: 80408179 | K28: =SUM(K9:K27) -> 62372120346478

Sheet سپرده
A1: صندوق سرمایه‎گذاری آوای فردای زاگرس
A2: صورت وضعیت پرتفوی
A3: برای ماه منتهی به 1405/07/30
A5: -4-1 | B5: سرمایه‌گذاری در سپرده‌ بانکی
D6: 1405/06/31 | F6: تغییرات طی دوره | J6: 1405/07/30
A8: سپرده های بانکی | D8: مبلغ | F8: افزایش | H8: کاهش | J8: مبلغ | L8: درصد به کل دارایی ها
A9: بانک پاسارگاد | D9: 25114475997822 | F9: 19085123284451 | H9: 34337925349523 | J9: 9861673932750 | L9: 0.042609706
A10: بانک آینده | D10: 35378 | F10: 0 | H10: 0 | J10: 35378 | L10: 0.042609706
A11: بانک دی | D11: 3633656004781 | F11: 67826405264387 | H11: 38635009008465 | J11: 32825052260703 | L11: 0.14182844
A12: بانک گردشگری | D12: 34999012288926 | F12: 19185480263392 | H12: 23165880118000 | J12: 31018612434318 | L12: 0.13402329
A13: موسسه اعتباری ملل | D13: 3334026 | F13: 14158 | H13: 0 | J13: 3348184 | L13: =J13/سهام!$AD$3 -> 1.4466625e-08
A14: بانک سامان | D14: 496694 | F14: 0 | H14: 0 | J14: 496694 | L14: 2.1460845e-09
A15: بانک اقتصاد نوین | D15: 93883467 | F15: 389261 | H15: 2338783 | J15: 91933945 | L15: 3.9722246e-07
A16: بانک خاورمیانه | D16: 474192176 | F16: 29589075787985 | H16: 29588805332658 | J16: 744647503 | L16: =J16/سهام!$AD$3 -> 3.2174265e-06
A17: بانک تجارت | D17: 9741994015690 | F17: 9838059283103 | H17: 19468128708000 | J17: 111924590793 | L17: 0.0004835968
A18: بانک صادرات | D18: 27070156631837 | F18: 25555018669972 | H18: 35897013739633 | J18: 16728161562176 | L18: 0.072277998
A19: بانک شهر | D19: 18572429637798 | F19: 12246618301291 | H19: 10529519471792 | J19: 20289528467297 | L19: 0.08766573
A20: بانک رفاه | D20: 66627273 | F20: 280262 | H20: 1906000 | J20: 65001535 | L20: =J20/سهام!$AD$3 -> 2.8085458e-07
A21: سپرده بلند مدت بانک گردشگری پیروزی | D21: 352000000000 | F21: 0 | H21: 352000000000 | J21: 0 | L21: =J21/سهام!$AD$3 -> 0
A22: بانک پارسیان | D22: 0 | F22: 7893890958904 | H22: 7893881463027 | J22: 9495877 | L22: =J22/سهام!$AD$3 -> 4.1029194e-08
A23: جمع | D23: =SUM(D9:D22) -> 119484363145868 | F23: =SUM(F9:F22) -> 191219672497166 | H23: =SUM(H9:H22) -> 199868167435881 | J23: =SUM(J9:J22) -> 110835868207153 | L23: =SUM(L9:L22) -> 0.52150242

Sheet درآمد
A1: صندوق سرمایه‎گذاری آوای فردای زاگرس
A2: صورت وضعیت درآمدها
A3: برای ماه منتهی به 1405/07/30
A5: -2 | B5: درآمد حاصل از سرمایه‎گذاری ها
A7: شرح | D7: یادداشت | F7: مبلغ | H7: درصد از کل درآمدها | J7: درصد از کل دارایی ها
A8: درآمد حاصل از سرمایه‎گذاری در سهام و حق تقدم سهام | D8: 1-2 | F8: ='درآمد سرمایه گذاری در سهام'!J31 -> 396117048478 | H8: =F8/$F$13 -> 0.018290918 | J8: =F8/سهام!$AD$3 -> 0.0017115179
A9: درآمد حاصل از سرمایه‎گذاری در واحدهای صندوق های سرمایه‎گذاری | D9: 2-2 | F9: ='درآمد سرمایه گذاری در صندوق'!J49 -> 2343806113723 | H9: =F9/$F$13 -> 0.10822651 | J9: =F9/سهام!$AD$3 -> 0.010126971
A10: درآمد حاصل از سرمایه‎گذاری در اوراق بهادار با درآمد ثابت | D10: 3-2 | F10: ='درآمد سرمایه گذاری در اوراق به'!J49 -> -12573029685 | H10: =F10/$F$13 -> -0.0005805664 | J10: =F10/سهام!$AD$3 -> -5.4324763e-05
A11: درآمد حاصل از سرمایه‎گذاری در سپرده بانکی و گواهی سپرده | D11: 4-2 | F11: ='درآمد سپرده بانکی'!F21 -> 18903752049229 | H11: =F11/$F$13 -> 0.87289091 | J11: =F11/سهام!$AD$3 -> 0.081678154
A12: سایر درآمدها | D12: 5-2 | F12: ='سایر درآمدها'!F11 -> 25386517826 | H12: =F12/$F$13 -> 0.0011722361 | J12: =F12/سهام!$AD$3 -> 0.00010968848
A13: جمع | F13: =SUM(F8:F12) -> 21656488699571 | H13: =SUM(H8:H12) -> 1 | J13: =SUM(J8:J12) -> 0.093572007

Sheet درآمد سرمایه گذاری در سهام
A1: صندوق سرمایه‎گذاری آوای فردای زاگرس
A2: صورت وضعیت درآمدها
A3: برای ماه منتهی به 1405/07/30
A5: -1-2 | B5: درآمد حاصل از سرمایه‎گذاری در سهام و حق تقدم سهام
D6: طی ماه | N6: از ابتدای سال مالی
J7: جمع | U7: جمع
A8: سهام | D8: درآمد سود سهام | F8: درآمد تغییر ارزش | H8: درآمد فروش | J8: مبلغ | L8: درصد از کل درآمدها | N8: درآمد سود سهام | P8: درآمد تغییر ارزش | S8: درآمد فروش | U8: مبلغ | W8: درصد از کل درآمدها
A9: سرمایه‎گذاری مسکن جنوب | D9: 0 | F9: 6580185346 | H9: 257770951 | J9: =D9+F9+H9 -> 6837956297 | L9: =J9/$AE$9 -> 0.0011060937 | N9: 0 | P9: 6580185347 | S9: 343461936 | U9: =N9+P9+S9 -> 6923647283 | W9: =U9/درآمد!$F$13 -> 0.00031970313 | AE9: 6182077162942
A10: گروه مپنا (سهامی عام) | D10: 0 | F10: -61432297977 | H10: -12552821188 | J10: =D10+F10+H10 -> -73985119165 | L10: =J10/$AE$9 -> -0.01196768 | N10: 0 | P10: -61432297978 | S10: -11805661791 | U10: =N10+P10+S10 -> -73237959769 | W10: =U10/درآمد!$F$13 -> -0.0033818021
A11: نیان الکترونیک | D11: 0 | F11: 0 | H11: 0 | J11: =D11+F11+H11 -> 0 | L11: =J11/$AE$9 -> 0 | N11: 8942443275 | P11: 0 | S11: 10546526150 | U11: =N11+P11+S11 -> 19488969425 | W11: =U11/درآمد!$F$13 -> 0.00089991363
A12: پالایش نفت اصفهان | D12: 0 | F12: 0 | H12: 0 | J12: =D12+F12+H12 -> 0 | L12: =J12/$AE$9 -> 0 | N12: 7400000000 | P12: 0 | S12: 46723923285 | U12: =N12+P12+S12 -> 54123923285 | W12: =U12/درآمد!$F$13 -> 0.0024992012
A13: تولیدی کوچین | D13: 0 | F13: 0 | H13: 0 | J13: =D13+F13+H13 -> 0 | L13: =J13/$AE$9 -> 0 | N13: 1066055735 | P13: 0 | S13: 30873263927 | U13: =N13+P13+S13 -> 31939319662 | W13: =U13/درآمد!$F$13 -> 0.0014748152
A14: پالایش نفت تهران | D14: 0 | F14: 25640256799 | H14: 0 | J14: =D14+F14+H14 -> 25640256799 | L14: =J14/$AE$9 -> 0.0041475148 | N14: 36480000000 | P14: 231658803493 | S14: -3067 | U14: =N14+P14+S14 -> 268138800426 | W14: =U14/درآمد!$F$13 -> 0.012381453
A15: کشت و صنعت شیفته آرای شرق | D15: 0 | F15: 0 | H15: 0 | J15: =D15+F15+H15 -> 0 | L15: =J15/$AE$9 -> 0 | N15: 853980000 | P15: 0 | S15: 1769424994 | U15: =N15+P15+S15 -> 2623404994 | W15: =U15/درآمد!$F$13 -> 0.00012113713
A16: پاکدیس | D16: 0 | F16: 0 | H16: 0 | J16: =D16+F16+H16 -> 0 | L16: =J16/$AE$9 -> 0 | N16: 290000000 | P16: 0 | S16: 1037816630 | U16: =N16+P16+S16 -> 1327816630 | W16: =U16/درآمد!$F$13 -> 6.1312646e-05
A17: بانک ملت | D17: 0 | F17: 13210870637 | H17: 0 | J17: =D17+F17+H17 -> 13210870637 | L17: =J17/$AE$9 -> 0.0021369631 | N17: 3270462230 | P17: 53140713273 | S17: -866 | U17: =N17+P17+S17 -> 56411174637 | W17: =U17/درآمد!$F$13 -> 0.0026048163
A18: نیان باتری خاوران | D18: 0 | F18: 0 | H18: 0 | J18: =D18+F18+H18 -> 0 | L18: =J18/$AE$9 -> 0 | N18: 0 | P18: 0 | S18: 6261935250 | U18: =N18+P18+S18 -> 6261935250 | W18: =U18/درآمد!$F$13 -> 0.00028914822
A19: گروه مالی نماد غدیر(سهامی عام) | D19: 0 | F19: 0 | H19: 0 | J19: =D19+F19+H19 -> 0 | L19: =J19/$AE$9 -> 0 | N19: 0 | P19: 0 | S19: 13498796491 | U19: =N19+P19+S19 -> 13498796491 | W19: =U19/درآمد!$F$13 -> 0.00062331418
A20: سرمایه‎گذاری کشاورزی کوثر | D20: 0 | F20: 0 | H20: 0 | J20: =D20+F20+H20 -> 0 | L20: =J20/$AE$9 -> 0 | N20: 0 | P20: 0 | S20: 35276453410 | U20: =N20+P20+S20 -> 35276453410 | W20: =U20/درآمد!$F$13 -> 0.0016289092
A21: سیمان‌ تهران‌ | D21: 0 | F21: 120734452250 | H21: 0 | J21: =D21+F21+H21 -> 120734452250 | L21: =J21/$AE$9 -> 0.019529755 | N21: 23715000000 | P21: 200403810550 | S21: 0 | U21: =N21+P21+S21 -> 224118810550 | W21: =U21/درآمد!$F$13 -> 0.010348806
... A30: سرمایه‌گذاری‌ مسکن‌ | D30: 0 | F30: 322555325 | H30: 0 | J30: =D30+F30+H30 -> 322555325 | L30: =J30/$AE$9 -> 5.2175881e-05 | N30: 0 | P30: 322555326 | S30: 0 | U30: =N30+P30+S30 -> 322555326 | W30: =U30/درآمد!$F$13 -> 1.4894165e-05
A31: جمع | D31: =SUM(D9:D30) -> 1976543319 | F31: =SUM(F9:F30) -> 406435555396 | H31: =SUM(H9:H30) -> -12295050237 | J31: =SUM(J9:J30) -> 396117048478 | L31: =SUM(L9:L30) -> 0.064075073 | N31: =SUM(N9:N30) -> 152078426169 | P31: =SUM(P9:Q30) -> 1256844796399 | S31: =SUM(S9:S30) -> 134525936349 | U31: =SUM(U9:U30) -> 1543449158917 | W31: =SUM(W9:W30) -> 0.071269594

Sheet درآمد سرمایه گذاری در صندوق
A1: صندوق سرمایه‎گذاری آوای فردای زاگرس
A2: صورت وضعیت درآمدها
A3: برای ماه منتهی به 1405/07/30
A5: -2-2 | B5: درآمد حاصل از سرمایه‎گذاری در واحدهای صندوق
D6: طی ماه | N6: از ابتدای سال مالی
J7: جمع | U7: جمع
A8: صندوق | D8: درآمد سود صندوق | F8: درآمد تغییر ارزش | H8: درآمد فروش | J8: مبلغ | L8: درصد از کل درآمدها | N8: درآمد سود صندوق | P8: درآمد تغییر ارزش | S8: درآمد فروش | U8: مبلغ | W8: درصد از کل درآمدها
A9: صندوق س.سهامی تیام-س | D9: 0 | F9: -15080921916 | H9: 36583763370 | J9: 21502841454 | L9: =J9/'درآمد سرمایه گذاری در سهام'!$AE$9 -> 0.0034782551 | N9: 0 | P9: 57253844587 | S9: 36741651470 | U9: =N9+P9+S9 -> 93995496057 | W9: =U9/درآمد!$F$13 -> 0.0043402925
A10: صندوق س.پشتوانه طلا دنای زاگرس | D10: 0 | F10: 524251664208 | H10: 0 | J10: 524251664208 | L10: =J10/'درآمد سرمایه گذاری در سهام'!$AE$9 -> 0.084801864 | N10: 0 | P10: 1010445511026 | S10: 703916775603 | U10: =N10+P10+S10 -> 1714362286629 | W10: =U10/درآمد!$F$13 -> 0.0791616
A11: صندوق س.اعتبارسهام-سهام | D11: 0 | F11: 0 | H11: 0 | J11: 0 | L11: =J11/'درآمد سرمایه گذاری در سهام'!$AE$9 -> 0 | N11: 0 | P11: 0 | S11: 26304424128 | U11: =N11+P11+S11 -> 26304424128 | W11: =U11/درآمد!$F$13 -> 0.0012146209
A12: صندوق س.کالای نوویرا1 | D12: 0 | F12: 0 | H12: 0 | J12: 0 | L12: =J12/'درآمد سرمایه گذاری در سهام'!$AE$9 -> 0 | N12: 0 | P12: 0 | S12: 4866800000 | U12: =N12+P12+S12 -> 4866800000 | W12: =U12/درآمد!$F$13 -> 0.0002247271
A13: صندوق س. سهام ثروت هامون-س | D13: 0 | F13: 161608082233 | H13: 0 | J13: 161608082233 | L13: =J13/'درآمد سرمایه گذاری در سهام'!$AE$9 -> 0.026141389 | N13: 0 | P13: 264249541481 | S13: 527482269 | U13: =N13+P13+S13 -> 264777023750 | W13: =U13/درآمد!$F$13 -> 0.012226221
A14: صندوق س.موج گستر ثروت-س | D14: 0 | F14: 6990361071 | H14: 0 | J14: 6990361071 | L14: =J14/'درآمد سرمایه گذاری در سهام'!$AE$9 -> 0.0011307463 | N14: 0 | P14: 7817429508 | S14: 23018085093 | U14: =N14+P14+S14 -> 30835514601 | W14: =U14/درآمد!$F$13 -> 0.0014238465
A15: صندوق س.کالای سینا | D15: 0 | F15: 0 | H15: 0 | J15: 0 | L15: =J15/'درآمد سرمایه گذاری در سهام'!$AE$9 -> 0 | N15: 0 | P15: 0 | S15: 7810872345 | U15: =N15+P15+S15 -> 7810872345 | W15: =U15/درآمد!$F$13 -> 0.00036067123
A16: صندوق س آوای تاراز زاگرس-سهام | D16: 0 | F16: 146003957424 | H16: 0 | J16: 146003957424 | L16: =J16/'درآمد سرمایه گذاری در سهام'!$AE$9 -> 0.023617298 | N16: 0 | P16: 570929126717 | S16: 46926550471 | U16: =N16+P16+S16 -> 617855677188 | W16: =U16/درآمد!$F$13 -> 0.028529818
A17: صندوق س صنایع کارآمد1-بخشی | D17: 0 | F17: 0 | H17: 0 | J17: 0 | L17: =J17/'درآمد سرمایه گذاری در سهام'!$AE$9 -> 0 | N17: 0 | P17: 0 | S17: 685013985 | U17: =N17+P17+S17 -> 685013985 | W17: =U17/درآمد!$F$13 -> 3.1630889e-05
A18: صندوق س.کالای کوروش | D18: 0 | F18: 0 | H18: 0 | J18: 0 | L18: =J18/'درآمد سرمایه گذاری در سهام'!$AE$9 -> 0 | N18: 0 | P18: 0 | S18: 4488504133 | U18: =N18+P18+S18 -> 4488504133 | W18: =U18/درآمد!$F$13 -> 0.00020725909
A19: صندوق س. جام سبز سهند-س | D19: 0 | F19: 0 | H19: 0 | J19: 0 | L19: =J19/'درآمد سرمایه گذاری در سهام'!$AE$9 -> 0 | N19: 0 | P19: 0 | S19: 2584984646 | U19: =N19+P19+S19 -> 2584984646 | W19: =U19/درآمد!$F$13 -> 0.00011936305
A20: صندوق شاخص30 شرکت فیروزه- سهام | D20: 0 | F20: 145789166914 | H20: 0 | J20: 145789166914 | L20: =J20/'درآمد سرمایه گذاری در سهام'!$AE$9 -> 0.023582554 | N20: 0 | P20: 411945675730 | S20: 0 | U20: =N20+P20+S20 -> 411945675730 | W20: =U20/درآمد!$F$13 -> 0.019021813
... A48: صندوق س.بخشی داریوش5-ب | D48: 0 | F48: 12920215000 | H48: 0 | J48: 12920215000 | L48: =J48/'درآمد سرمایه گذاری در سهام'!$AE$9 -> 0.0020899472 | N48: 0 | P48: 12692965000 | S48: 0 | U48: =N48+P48+S48 -> 12692965000 | W48: =U48/درآمد!$F$13 -> 0.00058610448
A49: جمع | D49: 0 | F49: 2307222350353 | H49: 36583763370 | J49: 2343806113723 | L49: =SUM(L9:L48) -> 0.37912922 | N49: =SUM(N9:N48) -> 20737178512 | Q49: =SUM(P9:Q48) -> 5918154299145 | S49: =SUM(S9:S48) -> 857871144143 | U49: =SUM(U9:U48) -> 6796762621800 | W49: =SUM(W9:W48) -> 0.31384417

Sheet درآمد سرمایه گذاری در اوراق به
A1: صندوق سرمایه گذاری آوای فردای زاگرس
A2: صورت وضعیت درآمدها
A3: برای ماه منتهی به 1405/07/30
A5: -3-2 | B5: درآمد حاصل از سرمایه‎گذاری در اوراق بهادار با درآمد ثابت:
D6: طی ماه | L6: از ابتدای سال مالی
A8: عنوان | D8: درآمد سود اوراق | F8: درآمد تغییر ارزش | H8: درآمد فروش | J8: جمع | L8: درآمد تعهد پذیره نویسی | N8: درآمد سود اوراق | P8: درآمد تغییر ارزش | R8: درآمد فروش | T8: جمع
A9: اجاره توان آفرین ساز 14070216 | D9: 9119841166 | F9: 0 | H9: 43956000000 | J9: 53075841166 | L9: 0 | N9: 104361637906 | P9: 0 | R9: 44016000000 | T9: =N9+P9+R9+L9 -> 148377637906
A10: مرابحه غدیرایرانیان14081120 | D10: 5545205490 | F10: 0 | H10: 26758479875 | J10: 32303685365 | L10: 0 | N10: 63778060858 | P10: 0 | R10: 26865354875 | T10: =N10+P10+R10+L10 -> 90643415733
A11: اجاره تابان فردادماوند14080220 | D11: 35791780890 | F11: 0 | H11: 173332129250 | J11: 209123910140 | L11: 0 | N11: 411658392814 | P11: 0 | R11: 173392129250 | T11: =N11+P11+R11+L11 -> 585050522064
A12: مرابحه عام دولت137-ش.خ061229 | D12: 0 | F12: 0 | H12: 0 | J12: 0 | L12: 0 | N12: 148590817751 | P12: 0 | R12: 54391550000 | T12: =N12+P12+R12+L12 -> 202982367751
A13: مرابحه عام دولت273-ش.خ071128 | D13: 48560979089 | F13: -276961418151 | H13: 0 | J13: -228400439062 | L13: 0 | N13: 507384532202 | P13: -288369516088 | R13: 149807167454 | T13: =N13+P13+R13+L13 -> 368822183568
A14: مرابحه عام دولت274-ش.خ071105 | D14: 179112479919 | F14: 304694057470 | H14: 0 | J14: 483806537389 | L14: 0 | N14: 1320014120761 | P14: -558453421030 | R14: 900883278309 | T14: =N14+P14+R14+L14 -> 1662443978040
A15: مرابحه عام دولت260-ش.خ071002 | D15: 333446595516 | F15: -820066237851 | H15: 0 | J15: -486619642335 | L15: 0 | N15: 2348521710235 | P15: -1403184954233 | R15: 354848372703 | T15: =N15+P15+R15+L15 -> 1300185128705
A16: گواهی اعتبارمولد ملی14050331 | D16: 0 | F16: 0 | H16: 0 | J16: 0 | L16: 0 | N16: 0 | P16: 0 | R16: 7550856113 | T16: =N16+P16+R16+L16 -> 7550856113
A17: گواهی اعتبارمولد ملی14050231 | D17: 0 | F17: 0 | H17: 0 | J17: 0 | L17: 0 | N17: 0 | P17: 0 | R17: 5104187213 | T17: =N17+P17+R17+L17 -> 5104187213
A18: گواهی اعتبارمولد ملی14050431 | D18: 0 | F18: 0 | H18: 0 | J18: 0 | L18: 0 | N18: 0 | P18: 0 | R18: 9916569057 | T18: =N18+P18+R18+L18 -> 9916569057
A19: مشارکت ش مشهد0720-3ماهه23% | D19: 180172188815 | F19: -115928929349 | H19: 0 | J19: 64243259466 | L19: 0 | N19: 180172188815 | P19: -120278929350 | R19: 0 | T19: =N19+P19+R19+L19 -> 59893259465
A20: مشارکت ش مشهد072-3ماهه23% | D20: 160260878602 | F20: 0 | H20: 0 | J20: 160260878602 | L20: 0 | N20: 160260878602 | P20: -3806250000 | R20: 0 | T20: =N20+P20+R20+L20 -> 156454628602
... A47: زامیاد | D47: 0 | F47: 0 | H47: 0 | J47: 0 | L47: 0 | N47: 15992692045 | P47: 0 | R47: -12634251316 | T47: =N47+P47+R47+L47 -> 3358440729
A48: ح . سرمایه‌گذاری‌ایران‌خودرو | D48: 0 | F48: 0 | H48: 0 | J48: 0 | L48: 0 | N48: 0 | P48: 0 | R48: =9437142761-4833562500 -> 4603580261 | T48: =N48+P48+R48+L48 -> 4603580261
A49: جمع | D49: =SUM(D9:D48) -> 1628395081590 | F49: =SUM(F9:F48) -> -1885014720400 | H49: =SUM(H9:H48) -> 244046609125 | J49: =SUM(J9:J48) -> -12573029685 | L49: =SUM(L9:L48) -> 25000000000 | N49: =SUM(N9:N48) -> 11530257356005 | P49: =SUM(P9:P48) -> -4209783685927 | R49: =SUM(R9:R48) -> 1718744793919 | T49: =SUM(T9:T48) -> 9064218463997
N52: 3263261896601 | P52: 5143815858567
N53: 117714523474 | P53: 934032172640
N54: 8133288243885
N55: 15992692045 | P55: =P52-P53 -> 4209783685927
P56: =P49+P55 -> 0
N57: =N52+N53+N54+N55 -> 11530257356005

Sheet مبالغ تخصیصی اوراق
A1: صندوق سرمایه گذاری آوای فردای زاگرس
A2: صورت وضعیت درآمدها
A3: ='درآمد سرمایه گذاری در اوراق به'!A3 -> برای ماه منتهی به 1405/07/30
A4: -1-3-2
A5: مبالغ تخصیص یافته بابت خرید و نگهداری اوراق بهادار با درآمد ثابت (نرخ سود ترجیحی)
A7: نام ورقه بهادار | B7: نماد | C7: تعداد اوراق | D7: بهای تمام شده ریال | E7: سود ترجیحی | F7: سود اوراق تبعی | G7: درآمد تعهد پذیره نویسی | H7: جمع درآمد شناسایی شده | I7: نرخ اسمی | J7: میانگین بازدهی تا سررسید
D8: ریال | E8: ریال | F8: ریال | G8: ریال | H8: ریال | I8: درصد | J8: درصد
A9: اوراق اجاره شرکت گروه پتروشیمی تابان فردا زاکرس | B9: تابان25 | C9: 1000000 | D9: 1000000000000 | E9: 18340947105 | F9: 0 | G9: 0 | H9: 18340947105 | I9: 0.23 | J9: 35.4
A10: اوراق مرابحه شرکت کلور ایرانیان شرق | B10: کلور083 | C10: 595000 | D10: 595000000000 | E10: 12058043456 | F10: 0 | G10: 0 | H10: 12058043456 | I10: 0.23 | J10: 39
A11: اوراق مشارکت شهرداری مشهد (تامین مالی قطار شهری فاز7 خط2) - تعهد پذیره نویسی مبلغ 70 میلیارد ریال می باشد که در تاریخ 1404/11/01 شناسایی و دریافت خواهد شد | B11: - | C11: 7000000 | D11: 7000000000000 | E11: 0 | F11: 0 | G11: 0 | H11: 0 | I11: 0.23 | J11: -
A12: اوراق مشارکت شهرداری مشهد (تامین مالی قطار شهری فاز7 خط2) | B12: - | C12: 7000000 | D12: 7000000000000 | E12: 178652212011 | F12: 0 | G12: 0 | H12: 178652212011 | I12: 0.23 | J12: 37.6
A13: اوراق مشارکت شهرداری مشهد (تامین مالی قطار شهری فاز3 خط3)- تعهد پذیره نویسی مبلغ 80 میلیارد ریال می باشد که در تاریخ 1404/11/01 شناسایی و دریافت خواهد شد | B13: - | C13: 8000000 | D13: 8000000000000 | E13: 0 | F13: 0 | G13: 0 | H13: 0 | I13: 0.23 | J13: -
A14: اوراق مشارکت شهرداری مشهد (تامین مالی قطار شهری فاز3 خط3) | B14: - | C14: 8000000 | D14: 8000000000000 | E14: 151425790877 | F14: 0 | G14: 0 | H14: 151425790877 | I14: 0.23 | J14: 37.58
A15: اوراق مشارکت شهرداری مشهد (تامین مالی قطار شهری فاز10 خط2)- تعهد پذیره نویسی مبلغ 25 میلیارد ریال | C15: 5000000 | D15: 5000000000000 | G15: 25000000000 | H15: 25000000000 | J15: -
A16: اوراق مشارکت شهرداری مشهد (تامین مالی قطار شهری فاز10 خط2) | C16: 5000000 | D16: 5000000000000 | E16: 0 | H16: 0 | J16: 4
A17: مرابحه عام دولت | B17: اراد206 | C17: 10979221 | D17: 13926400357030 | E17: 35567615643 | F17: 0 | G17: 0 | H17: 35567615643 | I17: 0.23 | J17: 38.5
A18: سلف موازی هیدروکربن آفتاب061 | B18: سهیدرو0611 | C18: 766100 | D18: 3001257612300 | E18: 55653388784 | F18: 0 | G18: 0 | H18: 55653388784 | I18: 0 | J18: 37
A19: مرابحه عام دولت | B19: اراد250 | C19: 583960 | D19: 553010120000 | E19: 665015472 | F19: 0 | G19: 0 | H19: 665015472 | I19: 0.23 | J19: 39
A20: مرابحه عام دولت | B20: اراد254 | C20: 108332 | D20: 100000185880 | E20: 152051466 | F20: 0 | G20: 0 | H20: 152051466 | I20: 0.23 | J20: 39
A21: مرابحه عام دولت | B21: اراد277 | C21: 302187 | D21: 270001062630 | E21: 4500849018 | F21: 0 | G21: 0 | H21: 4500849018 | I21: 0.23 | J21: 39
A22: مرابحه عام دولت | B22: اراد274 | C22: 4800 | D22: 3330817014 | E22: 35567615643 | F22: 0 | G22: 0 | H22: 35567615643 | I22: 0.23 | J22: 39
A23: مرابحه عام دولت | B23: اراد273 | C23: 4078762 | D23: 3400737665293 | E23: 1062326987 | F23: 0 | G23: 0 | H23: 1062326987 | I23: 0.23 | J23: 39
A24: مرابحه عام دولت | B24: اراد270 | C24: 2418000 | D24: 1968097561775 | E24: 953369550 | F24: 0 | G24: 0 | H24: 953369550 | I24: 0.23 | J24: 39
A25: مرابحه عام دولت | B25: اراد271 | C25: 4783460 | D25: 4372928360000 | E25: 2342341124 | F25: 0 | G25: 0 | H25: 2342341124 | I25: 0.23 | J25: 39
A26: مرابحه عام دولت | B26: اراد272 | C26: 2800627 | D26: 2446981861201 | E26: 7404606901 | F26: 0 | G26: 0 | H26: 7404606901 | I26: 0.23 | J26: 39
A27: مرابحه عام دولت | B27: اراد262 | C27: 1002556 | D27: 933951092920 | E27: 5056712343 | F27: 0 | G27: 0 | H27: 5056712343 | I27: 0.23 | J27: 39
A28: اجاره تابان فردادماوند14080220 | B28: تابان201 | C28: 7100000 | D28: 6925908000000 | F28: 0 | G28: 0 | H28: - | I28: 0.23 | J28: 38
A29: اجاره توان آفرین ساز 14070216 | B29: وامین071 | C29: 1800000 | D29: 1755864000000 | F29: 0 | G29: 0 | H29: - | I29: 0.23 | J29: 38
A30: مرابحه غدیرایرانیان14081120 | B30: غدیر081 | C30: 1100000 | D30: 1073028000000 | F30: 0 | G30: 0 | H30: - | I30: 0.23 | J30: 38
A31: سلف موازی متانول سبلان061 | B31: سمتا0611 | C31: 2000000 | D31: 9713380000000 | F31: 0 | G31: 0 | H31: - | I31: 0.23 | J31: 40.1

Sheet درآمد سپرده بانکی
A1: صندوق سرمایه گذاری آوای فردای زاگرس
A2: صورت وضعیت درآمدها
A3: برای ماه منتهی به 1405/07/30
A5: -4-2 | B5: درآمد حاصل از سرمایه‎گذاری در سپرده بانکی و گواهی سپرده
D6: طی ماه | F6: از ابتدای سال مالی
A7: نام سپرده بانکی | D7: سود سپرده بانکی و گواهی سپرده | F7: سود سپرده بانکی و گواهی سپرده
A8: سپرده کوتاه مدت بانک پاسارگاد جهان کودک | D8: 369582974029 | F8: 1870956598979
A9: سپرده کوتاه مدت بانک دی فرشته | D9: 532263726747 | F9: 3874363005140
A10: سپرده کوتاه مدت موسسه اعتباری ملل جنت آباد | D10: 14158 | F10: 835052795663
A11: سپرده کوتاه مدت بانک اقتصاد نوین غدیر | D11: 389261 | F11: 92355951
A12: سپرده کوتاه مدت بانک گردشگری قیطریه | D12: 868903092931 | F12: 5954866097622
A13: سپرده کوتاه مدت بانک سامان جام جم | D13: 0 | F13: 10234
A14: سپرده کوتاه مدت بانک خاورمیانه بخارست | D14: 20866 | F14: 5112884
A15: سپرده کوتاه مدت بانک صادرات مستقل فردوسی | D15: 579331254323 | F15: 2559578210005
A16: سپرده کوتاه مدت بانک ملت ولیعصر بهشتی | D16: 0 | F16: 78012
A17: سپرده کوتاه مدت بانک شهر میدان شهدای مشهد | D17: 450295585175 | F17: 3048465012881
A18: سپرده کوتاه مدت بانک رفاه مرکزی اصفهان | D18: 280262 | F18: 46686348339
A19: سپرده بلند مدت بانک تجارت اله وردی | D19: 153740016896 | F19: 709795464615
A20: سپرده کوتاه مدت بانک پارسیان مرکزی | D20: 3890958904 | F20: 3890958904
A21: جمع | D21: =SUM(D8:D20) -> 2958008313552 | F21: =SUM(F8:F20) -> 18903752049229

Sheet سایر درآمدها
A1: صندوق سرمایه‎گذاری آوای فردای زاگرس
A2: صورت وضعیت درآمدها
A3: برای ماه منتهی به 1405/07/30
A5: -5-2 | B5: سایر درآمدها
D6: طی ماه | F6: 1405/07/30
A7: سایر درآمدها | D7: مبلغ | F7: مبلغ
A8: سایر درآمدها | D8: 9000 | F8: 991182575
A9: معین برای سایر درآمدهای تنزیل سود بانک | D9: 0 | F9: 6510090137
A10: تعدیل کارمزد کارگزار | D10: 2786354802 | F10: 17885245114
A11: جمع | D11: =SUM(D8:D10) -> 2786363802 | F11: =SUM(F8:F10) -> 25386517826

Sheet درآمد سود سهام
A1: صندوق سرمایه گذاری آوای فردای زاگرس
A2: صورت وضعیت درآمدها
A3: برای ماه منتهی به 1405/07/30
A5: درآمد سود سهام
A6: نام سهام | C6: اطلاعات مجمع | I6: طی ماه | O6: از ابتدای سال مالی
C7: تاریخ تشکیل مجمع | E7: تعداد سهام متعلقه در زمان مجمع | G7: سود متعلق به هر سهم | I7: جمع درآمد سود سهام | K7: هزینه تنزیل | M7: خالص درآمد سود سهام | O7: جمع درآمد سود سهام | Q7: هزینه تنزیل | S7: خالص درآمد سود سهام
A8: زامیاد | C8: 1405/04/27 | E8: 290776219 | G8: 55 | I8: 0 | K8: 0 | M8: 0 | O8: 15992692045 | Q8: 0 | S8: =O8-Q8 -> 15992692045
A9: سیمان‌ تهران‌ | C9: 1405/05/11 | E9: 15500000 | G9: 1530 | I9: 0 | K9: 0 | M9: 0 | O9: 23715000000 | Q9: 320472973 | S9: =O9-Q9 -> 23394527027
A10: پالایش نفت اصفهان | C10: 1405/04/30 | E10: 10000000 | G10: 740 | I10: 0 | K10: 0 | M10: 0 | O10: 7400000000 | Q10: 0 | S10: =O10-Q10 -> 7400000000
A11: سیمان‌ صوفیان‌ | C11: 1405/03/19 | E11: 300000 | G11: 27400 | I11: 0 | K11: 0 | M11: 0 | O11: 8220000000 | Q11: 0 | S11: =O11-Q11 -> 8220000000
A12: کشت‌ و صنعت‌ چین‌ چین | C12: 1405/07/30 | E12: 17734738 | G12: 130 | I12: 2305515940 | K12: 328972621 | M12: 1976543319 | O12: 2305515940 | Q12: 328972621 | S12: =O12-Q12 -> 1976543319
A13: بانک ملت | C13: 1405/04/31 | E13: 71097005 | G13: 46 | I13: 0 | K13: 0 | M13: 0 | O13: 3270462230 | Q13: 0 | S13: =O13-Q13 -> 3270462230
A14: بانک تجارت | C14: 1405/04/31 | E14: 107463221 | G14: 9 | I14: 0 | K14: 0 | M14: 0 | O14: 967168989 | Q14: 0 | S14: =O14-Q14 -> 967168989
A15: پالایش نفت بندرعباس | C15: 1405/05/18 | E15: 20200000 | G15: 1189 | I15: 0 | K15: 0 | M15: 0 | O15: 24017800000 | Q15: 451947849 | S15: =O15-Q15 -> 23565852151
A16: صنایع پتروشیمی خلیج فارس | C16: 1405/06/25 | E16: 43750000 | G16: 600 | I16: 0 | K16: 0 | M16: 0 | O16: 26250000000 | Q16: 0 | S16: =O16-Q16 -> 26250000000
A17: پاکدیس | C17: 1405/04/10 | E17: 50000 | G17: 5800 | I17: 0 | K17: 0 | M17: 0 | O17: 290000000 | Q17: 0 | S17: =O17-Q17 -> 290000000
A18: پالایش نفت تهران | C18: 1405/05/06 | E18: 76000000 | G18: 480 | I18: 0 | K18: 0 | M18: 0 | O18: 36480000000 | Q18: 99672131 | S18: =O18-Q18 -> 36380327869
A19: کشت و صنعت شهداب ناب خراسان | C19: 1405/06/05 | E19: 100000000 | G19: 30 | I19: 0 | K19: 0 | M19: 0 | O19: 3000000000 | Q19: 60402685 | S19: =O19-Q19 -> 2939597315
... A23: کشت و صنعت شیفته آرای شرق | C23: 1405/04/30 | E23: 1707960 | G23: 500 | I23: 0 | K23: 0 | M23: 0 | O23: 853980000 | Q23: 17194228 | S23: =O23-Q23 -> 836785772
A24: جمع | I24: =SUM(I8:I23) -> 2305515940 | K24: =SUM(K8:K23) -> 328972621 | M24: =SUM(M8:M23) -> 1976543319 | O24: =SUM(O8:O23) -> 168071118214 | Q24: =SUM(Q8:Q23) -> 1452826930 | S24: =SUM(S8:S23) -> 166618291284

Sheet سود اوراق بهادار
A1: صندوق سرمایه گذاری آوای فردای زاگرس
A2: صورت وضعیت درآمدها
A3: برای ماه منتهی به 1405/07/30
A5: سود اوراق بهادار با درآمد ثابت
A6: شرح | G6: طی ماه | M6: از ابتدای سال مالی
C7: تاریخ سررسید | E7: نرخ سود علی الحساب | G7: درآمد سود | I7: هزینه تنزیل | K7: خالص درآمد | M7: درآمد سود | O7: هزینه تنزیل | Q7: خالص درآمد
A8: مشارکت ش مشهد0720-3ماهه23% | C8: 1407/12/28 | E8: 23 | G8: 180172188815 | I8: 0 | K8: =G8-I8 -> 180172188815 | M8: 180172188815 | O8: 0 | Q8: =M8-O8 -> 180172188815
A9: مشارکت ش مشهد072-3ماهه23% | C9: 1407/12/28 | E9: 23 | G9: 160260878602 | I9: 0 | K9: =G9-I9 -> 160260878602 | M9: 160260878602 | O9: 0 | Q9: =M9-O9 -> 160260878602
A10: شهرداری مشهد | C10: 1409/02/29 | E10: 23 | G10: 156556916010 | I10: 0 | K10: =G10-I10 -> 156556916010 | M10: ='درآمد سرمایه گذاری در اوراق به'!N21 -> 706100532783 | O10: 0 | Q10: =M10-O10 -> 706100532783
A11: مرابحه عام دولت277-ش.خ071118 | C11: 1407/11/18 | E11: 23 | G11: 6708250270 | I11: 0 | K11: =G11-I11 -> 6708250270 | M11: 51041543483 | O11: 0 | Q11: =M11-O11 -> 51041543483
A12: مرابحه عام دولت274-ش.خ071105 | C12: 1407/11/05 | E12: 23 | G12: 179112479919 | I12: 0 | K12: =G12-I12 -> 179112479919 | M12: 1320014120761 | O12: 0 | Q12: =M12-O12 -> 1320014120761
A13: مرابحه عام دولت273-ش.خ071128 | C13: 1407/11/28 | E13: 23 | G13: 48560979089 | I13: 0 | K13: =G13-I13 -> 48560979089 | M13: 507384532202 | O13: 0 | Q13: =M13-O13 -> 507384532202
A14: مرابحه عام دولت271-ش.خ070628 | C14: 1407/06/28 | E14: 23 | G14: 86374948168 | I14: 0 | K14: =G14-I14 -> 86374948168 | M14: 672491675497 | O14: 0 | Q14: =M14-O14 -> 672491675497
A15: مرابحه عام دولت272-ش.خ071028 | C15: 1407/10/28 | E15: 23 | G15: 52505683696 | I15: 0 | K15: =G15-I15 -> 52505683696 | M15: 395256749302 | O15: 0 | Q15: =M15-O15 -> 395256749302
A16: مرابحه عام دولت270-ش.خ071121 | C16: 1407/11/21 | E16: 23 | G16: 44068236780 | I16: 0 | K16: =G16-I16 -> 44068236780 | M16: 317273548260 | O16: 0 | Q16: =M16-O16 -> 317273548260
A17: مرابحه غدیرایرانیان14081120 | C17: 1408/11/20 | E17: 23 | G17: 5545205490 | I17: 0 | K17: =G17-I17 -> 5545205490 | M17: 63778060858 | O17: 0 | Q17: =M17-O17 -> 63778060858
A18: مرابحه عام دولت265-ش.خ070430 | C18: 1407/04/30 | E18: 23 | G18: 4969478905 | I18: 0 | K18: =G18-I18 -> 4969478905 | M18: 36256059220 | O18: 0 | Q18: =M18-O18 -> 36256059220
A19: مرابحه عام دولت262-ش.خ070716 | C19: 1407/07/16 | E19: 23 | G19: 209958967867 | I19: 0 | K19: =G19-I19 -> 209958967867 | M19: 338049197047 | O19: 0 | Q19: =M19-O19 -> 338049197047
A20: مرابحه عام دولت258-ش.خ070302 | C20: 1407/03/02 | E20: 23 | G20: 30328507574 | I20: 0 | K20: =G20-I20 -> 30328507574 | M20: 215888688052 | O20: 0 | Q20: =M20-O20 -> 215888688052
A21: مرابحه عام دولت260-ش.خ071002 | C21: 1407/10/02 | E21: 23 | G21: 333446595516 | I21: 0 | K21: =G21-I21 -> 333446595516 | M21: 2348521710235 | O21: 0 | Q21: =M21-O21 -> 2348521710235
A22: مرابحه عام دولت256-ش.خ070318 | C22: 1407/03/18 | E22: 23 | G22: -13610718071 | I22: 0 | K22: =G22-I22 -> -13610718071 | M22: 124111406709 | O22: 0 | Q22: =M22-O22 -> 124111406709
... A26: مرابحه عام دولت250-ش.خ070205 | C26: 1407/02/05 | E26: 23 | G26: 11836492281 | I26: 0 | K26: =G26-I26 -> 11836492281 | M26: 88156671230 | O26: 0 | Q26: =M26-O26 -> 88156671230
A27: شهرداری مشهد | C27: 1407/12/28 | E27: 23 | G27: 0 | I27: 0 | K27: =G27-I27 -> 0 | M27: ='درآمد سرمایه گذاری در اوراق به'!N34 -> 1404723972535 | O27: 0 | Q27: =M27-O27 -> 1404723972535
A28: شهرداری مشهد | C28: 1407/12/28 | E28: 23 | G28: 0 | I28: 0 | K28: =G28-I28 -> 0 | M28: ='درآمد سرمایه گذاری در اوراق به'!N35 -> 1152437391283 | O28: 0 | Q28: =M28-O28 -> 1152437391283
A29: اجاره تابان فردا زاگرس14070603 | C29: 1407/06/03 | E29: 23 | G29: 18843721500 | I29: 0 | K29: =G29-I29 -> 18843721500 | M29: 172952968859 | O29: 0 | Q29: =M29-O29 -> 172952968859
A30: مرابحه عام دولت228-ش.خ070521 | C30: 1407/05/21 | E30: 23 | G30: 90316733 | I30: 0 | K30: =G30-I30 -> 90316733 | M30: 686164229 | O30: 0 | Q30: =M30-O30 -> 686164229
A31: اجاره تابان فردادماوند14080220 | C31: 1408/02/20 | E31: 23 | G31: 35791780890 | I31: 0 | K31: =G31-I31 -> 35791780890 | M31: 411658392814 | O31: 0 | Q31: =M31-O31 -> 411658392814
A32: مرابحه کلور-آوای زاگرس14080208 | C32: 1408/02/08 | E32: 23 | G32: 16102419705 | I32: 0 | K32: =G32-I32 -> 16102419705 | M32: 112288201968 | O32: 0 | Q32: =M32-O32 -> 112288201968
A33: مرابحه عام دولت206-ش.خ051114 | C33: 1405/11/14 | E33: 23 | G33: 6207969018 | I33: 0 | K33: =G33-I33 -> 6207969018 | M33: 40518811097 | O33: 0 | Q33: =M33-O33 -> 40518811097
A34: مرابحه عام دولت191-ش.خ060328 | C34: 1406/03/28 | E34: 23 | G34: 30574236301 | I34: 0 | K34: =G34-I34 -> 30574236301 | M34: 217986298865 | O34: 0 | Q34: =M34-O34 -> 217986298865
A35: مرابحه عام دولت 165-ش.خ051212 | C35: 1405/12/12 | E35: 23 | G35: 95058069 | I35: 0 | K35: =G35-I35 -> 95058069 | M35: 688605217 | O35: 0 | Q35: =M35-O35 -> 688605217
A36: اجاره توان آفرین ساز 14070216 | C36: 1407/02/16 | E36: 2 | G36: 9119841166 | I36: 0 | K36: =G36-I36 -> 9119841166 | M36: 104361637906 | O36: 0 | Q36: =M36-O36 -> 104361637906
A37: مرابحه عام دولت137-ش.خ061229 | C37: 1406/06/29 | E37: 20.5 | G37: 0 | I37: 0 | K37: =G37-I37 -> 0 | M37: 148590817751 | O37: 0 | Q37: =M37-O37 -> 148590817751
A38: مرابحه عام دولت116-ش.خ060630 | C38: 1406/06/30 | E38: 18 | G38: 3081062229 | I38: 0 | K38: =G38-I38 -> 3081062229 | M38: ='درآمد سرمایه گذاری در اوراق به'!N42 -> 23693510227 | O38: 0 | Q38: =M38-O38 -> 23693510227
A39: سلف موازی هیدروکربن آفتاب061 | C39: - | E39: - | G39: 14030266080 | I39: 0 | K39: =G39-I39 -> 14030266080 | M39: 112709804176 | O39: 0 | Q39: =M39-O39 -> 112709804176
A40: سلف موازی متانول سبلان061 | C40: - | E40: - | G40: 5004719298 | I40: 0 | K40: =G40-I40 -> 5004719298 | M40: 5004719298 | O40: 0 | Q40: =M40-O40 -> 5004719298
A41: زامیاد | C41: - | E41: - | G41: 0 | I41: 0 | K41: =G41-I41 -> 0 | M41: 15992692045 | O41: 0 | Q41: =M41-O41 -> 15992692045
A42: جمع | G42: =SUM(G8:G38) -> 1628395081590 | I42: 0 | K42: =SUM(K8:K38) -> 1628395081590 | M42: =SUM(M8:M41) -> 11530257356005 | O42: 0 | Q42: =SUM(Q8:Q38) -> 11396550140486

Sheet سود سپرده بانکی
A1: صندوق سرمایه گذاری آوای فردای زاگرس
A2: صورت وضعیت درآمدها
A3: برای ماه منتهی به 1405/07/30
A5: سود سپرده بانکی
A6: شرح | C6: طی ماه | I6: از ابتدای سال مالی
C7: درآمد سود | E7: هزینه تنزیل | G7: خالص درآمد | I7: درآمد سود | K7: هزینه تنزیل | M7: خالص درآمد
A8: بانک پاسارگاد | C8: 369582974029 | E8: -1881232356 | G8: 371464206385 | I8: 1870956598979 | K8: 944767853 | M8: 1870011831126
A9: بانک دی | C9: 532263726747 | E9: 1191809960 | G9: 531071916787 | I9: 3874363005140 | K9: 1191809960 | M9: 3873171195180
A10: موسسه اعتباری ملل | C10: 14158 | E10: 0 | G10: 14158 | I10: 835052795663 | K10: 0 | M10: 835052795663
A11: بانک اقتصاد نوین | C11: 389261 | E11: 0 | G11: 389261 | I11: 92355951 | K11: 0 | M11: 92355951
A12: بانک گردشگری | C12: 868903092931 | E12: 184460540 | G12: 868718632391 | I12: 5954866094458 | K12: 3848253294 | M12: 5951017841164
A13: بانک سامان | C13: 0 | E13: 0 | G13: 0 | I13: 10234 | K13: 0 | M13: 10234
A14: بانک خاورمیانه | C14: 20866 | E14: 0 | G14: 20866 | I14: 5112884 | K14: 0 | M14: 5112884
A15: بانک صادرات | C15: 579331254323 | E15: 294132 | G15: 579330960191 | I15: 2559578210005 | K15: 294132 | M15: 2559577915873
A16: بانک ملت | C16: 0 | E16: 0 | G16: 0 | I16: 78012 | K16: 0 | M16: 78012
A17: بانک شهر | C17: 450295585175 | E17: 0 | G17: 450295585175 | I17: 3048465012881 | K17: 0 | M17: 3048465012881
A18: بانک رفاه | C18: 280262 | E18: 0 | G18: 280262 | I18: 46686348339 | K18: 0 | M18: 46686348339
A19: بانک تجارت | C19: 153740016896 | E19: 518232463 | G19: 153221784433 | I19: 709795464615 | K19: 686701438 | M19: 709108763177
A20: بانک پارسیان | C20: 3890958904 | E20: 0 | G20: 3890958904 | I20: 3890958904 | K20: 0 | M20: 3890958904
A21: جمع | C21: =SUM(C8:C20) -> 2958008313552 | E21: =SUM(E8:E20) -> 13564739 | G21: =SUM(G8:G20) -> 2957994748813 | I21: =SUM(I8:I20) -> 18903752046065 | K21: =SUM(K8:K20) -> 6671826677 | M21: =SUM(M8:M20) -> 18897080219388

Sheet درآمد ناشی از فروش
A1: صندوق سرمایه گذاری آوای فردای زاگرس
A2: صورت وضعیت درآمدها
A3: برای ماه منتهی به 1405/07/30
A5: سود(زیان) حاصل از فروش اوراق بهادار
A6: شرح | C6: طی ماه | K6: از ابتدای سال مالی
C7: تعداد | E7: خالص بهای فروش | G7: ارزش دفتری | I7: سود و زیان ناشی از فروش | K7: تعداد | M7: خالص بهای فروش | O7: ارزش دفتری | Q7: سود و زیان ناشی از فروش
A8: سرمایه گذاری مسکن جنوب | C8: 507811 | E8: 10999823145 | G8: 10742052194 | I8: 257770951 | K8: 507811 | M8: 10999823145 | O8: =M8-Q8 -> 10742052194 | Q8: 257770951
A9: گروه مپنا (سهامی عام) | C9: 9193985 | E9: 95910099273 | G9: 108462920461 | I9: -12552821188 | K9: 9193985 | M9: 95910099273 | O9: =M9-Q9 -> 108462920461 | Q9: -12552821188
A10: صندوق س.سهامی تیام-س | C10: 1900000 | E10: 68489111900 | G10: 31905348530 | I10: 36583763370 | K10: 1900000 | M10: 68489111900 | O10: =M10-Q10 -> 31905348530 | Q10: 36583763370
A11: نیان الکترونیک | C11: 0 | E11: 0 | G11: 0 | I11: 0 | K11: 21041043 | M11: 78061911811 | O11: =M11-Q11 -> 68123504230 | Q11: 9938407581
A12: پالایش نفت اصفهان | C12: 0 | E12: 0 | G12: 0 | I12: 0 | K12: 10000000 | M12: 136437125679 | O12: =M12-Q12 -> 90776076715 | Q12: 45661048964
A13: صندوق س.پشتوانه طلا دنای زاگرس | C13: 0 | E13: 0 | G13: 0 | I13: 0 | K13: 182999756 | M13: 13202568405433 | O13: =M13-Q13 -> 12514513740552 | Q13: 688054664881
A14: صندوق س.اعتبارسهام-سهام | C14: 0 | E14: 0 | G14: 0 | I14: 0 | K14: 3240389 | M14: 203891581406 | O14: =M14-Q14 -> 178057188935 | Q14: 25834392471
A15: تولیدی کوچین | C15: 0 | E15: 0 | G15: 0 | I15: 0 | K15: 3933785 | M15: 57809011404 | O15: =M15-Q15 -> 27386091923 | Q15: 30422919481
A16: صندوق س.کالای نوویرا1 | C16: 0 | E16: 0 | G16: 0 | I16: 0 | K16: 5000000 | M16: 54934000271 | O16: =M16-Q16 -> 50133200000 | Q16: 4800800271
A17: پالایش نفت تهران | C17: 0 | E17: 0 | G17: 0 | I17: 0 | K17: 1 | M17: 1 | O17: =M17-Q17 -> 3068 | Q17: -3067
A18: کشت و صنعت شیفته آرای شرق | C18: 0 | E18: 0 | G18: 0 | I18: 0 | K18: 1707960 | M18: 20404880176 | O18: =M18-Q18 -> 18794413406 | Q18: 1610466770
A19: پاکدیس | C19: 0 | E19: 0 | G19: 0 | I19: 0 | K19: 213760 | M19: 2765883690 | O19: =M19-Q19 -> 1749613770 | Q19: 1016269920
... A42: گواهی اعتبارمولد ملی14050431 | C42: 0 | E42: 0 | G42: 0 | I42: 0 | K42: 90000 | M42: 90000000000 | O42: =M42-Q42 -> 80083430943 | Q42: 9916569057
A43: جمع | C43: =SUM(C8:C42) -> 21601796 | E43: =SUM(E8:E42) -> 10175172159318 | G43: =SUM(G8:G42) -> 9906836837060 | I43: =SUM(I8:I42) -> 268335322258 | K43: =SUM(K8:K42) -> 376609002 | M43: =SUM(M8:M42) -> 51521887821947 | O43: =SUM(O8:O42) -> 49436538635445 | Q43: =SUM(Q8:Q42) -> 2085349186502

Sheet درآمد ناشی از تغییر قیمت اوراق
A1: صندوق سرمایه گذاری آوای فردای زاگرس
A2: صورت وضعیت درآمدها
A3: برای ماه منتهی به 1405/07/30
A5: درآمد ناشی از تغییر قیمت اوراق بهادار
A6: شرح | C6: طی ماه | K6: از ابتدای سال مالی
C7: تعداد | E7: خالص ارزش فروش | G7: ارزش دفتری | I7: سود و زیان ناشی از تغییر قیمت | K7: تعداد | M7: خالص ارزش فروش | O7: ارزش دفتری | Q7: سود و زیان ناشی از تغییر قیمت
A8: سیمان‌ تهران‌ | C8: 15500000 | E8: 322830083150 | G8: =E8-I8 -> 202095630900 | I8: 120734452250 | K8: 15500000 | M8: 322830083150 | O8: =M8-Q8 -> 122426272600 | Q8: 200403810550
A9: گروه مپنا (سهامی عام) | C9: 35806015 | E9: 360977022561 | G9: =E9-I9 -> 422409320538 | I9: -61432297977 | K9: 35806015 | M9: 360977022561 | O9: =M9-Q9 -> 422409320538 | Q9: -61432297977
A10: سیمان‌ صوفیان‌ | C10: 300000 | E10: 66740080200 | G10: =E10-I10 -> 47896872900 | I10: 18843207300 | K10: 300000 | M10: 66740080200 | O10: =M10-Q10 -> 37799533380 | Q10: 28940546820
A11: بانک ملت | C11: 257097005 | E11: 384450235243 | G11: =E11-I11 -> 371239364606 | I11: 13210870637 | K11: 257097005 | M11: 384450235243 | O11: =M11-Q11 -> 331309521970 | Q11: 53140713273
A12: بانک تجارت | C12: 107463221 | E12: 103007024271 | G12: =E12-I12 -> 92343771241 | I12: 10663253030 | K12: 107463221 | M12: 103007024271 | O12: =M12-Q12 -> 40087708000 | Q12: 62919316271
A13: پالایش نفت بندرعباس | C13: 20200000 | E13: 306069650580 | G13: =E13-I13 -> 294444215261 | I13: 11625435319 | K13: 20200000 | M13: 306069650580 | O13: =M13-Q13 -> 139104346760 | Q13: 166965303820
A14: کشت‌ و صنعت‌ چین‌ چین | C14: 17734738 | E14: 99426713885 | G14: =E14-I14 -> 79893324077 | I14: 19533389808 | K14: 17734738 | M14: 99426713885 | O14: =M14-Q14 -> 70082989764 | Q14: 29343724121
A15: صنایع پتروشیمی خلیج فارس | C15: 43750000 | E15: 693720763750 | G15: =E15-I15 -> 540042947500 | I15: 153677816250 | K15: 43750000 | M15: 693720763750 | O15: =M15-Q15 -> 449543836058 | Q15: 244176927692
A16: صندوق شاخص30 شرکت فیروزه- سهام | C16: 15185000 | E16: 712811005225 | G16: =E16-I16 -> 567021838311 | I16: 145789166914 | K16: 15185000 | M16: 712811005225 | O16: =M16-Q16 -> 300865329495 | Q16: 411945675730
A17: صندوق س. ثروت آفرین پارسیان-س | C17: 400700 | E17: 264936737058 | G17: =E17-I17 -> 233870358150 | I17: 31066378908 | K17: 400700 | M17: 264936737058 | O17: =M17-Q17 -> 122071931608 | Q17: 142864805450
A18: پالایش نفت تهران | C18: 76000000 | E18: 506018009200 | G18: =E18-I18 -> 480377752401 | I18: 25640256799 | K18: 76000000 | M18: 506018009200 | O18: =M18-Q18 -> 274359205707 | Q18: 231658803493
A19: صندوق س.امین تدبیرگران فردا-س | C19: 10423020 | E19: 590395497443 | G19: =E19-I19 -> 553117822739 | I19: 37277674704 | K19: 10423020 | M19: 590395497443 | O19: =M19-Q19 -> 526726776535 | Q19: 63668720908
... A83: سلف موازی متانول سبلان061 | C83: 2000000 | E83: 10230376494398 | G83: =E83-I83 -> 9699820527950 | I83: 530555966448 | K83: 2000000 | M83: 10230376494398 | O83: =M83-Q83 -> 9718594172400 | Q83: 511782321998
A84: جمع | C84: =SUM(C8:C83) -> 1222066773 | E84: =SUM(E8:E83) -> 110066511156702 | G84: =SUM(G8:G83) -> 109237867971353 | I84: =SUM(I8:I83) -> 828643185349 | K84: =SUM(K8:K83) -> 1222066773 | M84: =SUM(M8:M83) -> 110066511156702 | O84: =SUM(O8:O83) -> 107104545707066 | Q84: =SUM(Q8:Q83) -> 2961965449636
